BEGIN:VCALENDAR
VERSION:2.0
PRODID:-//Clayton Bocce League
METHOD:PUBLISH
BEGIN:VTIMEZONE
TZID:America/Los_Angeles
X-LIC-LOCATION:America/Los_Angeles
BEGIN:DAYLIGHT
TZOFFSETFROM:-0800
TZOFFSETTO:-0700
TZNAME:PDT
DTSTART:20070311T020000
RRULE:FREQ=YEARLY;BYMONTH=3;BYDAY=2SU
END:DAYLIGHT
BEGIN:STANDARD
TZOFFSETFROM:-0700
TZOFFSETTO:-0800
TZNAME:PST
DTSTART:20071104T020000
RRULE:FREQ=YEARLY;BYMONTH=11;BYDAY=1SU
END:STANDARD
END:VTIMEZONE
BEGIN:VEVENT
DTSTAMP:20211116T000000Z
UID:8cefde90-ba40-44b7-9906-61d1b56ebb9d@ClaytonBocce
DTSTART;TZID=America/Los_Angeles:20211201T183000
DTEND;TZID=America/Los_Angeles:20211201T213000
STATUS:CONFIRMED
SUMMARY:The Big LaBocce vs Low Ballers
DESCRIPTION:C:Wed 6:30pm group regular season match: The Big
  LaBocce vs. Low Ballers
LOCATION:Ipsen Court 2
END:VEVENT
BEGIN:VEVENT
DTSTAMP:20211116T000000Z
UID:f919b46e-1a5a-47e4-8790-088aee67f1b5@ClaytonBocce
DTSTART;TZID=America/Los_Angeles:20211208T183000
DTEND;TZID=America/Los_Angeles:20211208T213000
STATUS:CONFIRMED
SUMMARY:The Big LaBocce vs Court Jesters
DESCRIPTION:C:Wed 6:30pm group regular season match: The Big
  LaBocce vs. Court Jesters
LOCATION:Ipsen Court 2
END:VEVENT
BEGIN:VEVENT
DTSTAMP:20211116T000000Z
UID:95d861f6-0606-4424-85be-ae6615c65d49@ClaytonBocce
DTSTART;TZID=America/Los_Angeles:20211215T183000
DTEND;TZID=America/Los_Angeles:20211215T213000
STATUS:CONFIRMED
SUMMARY:The Big LaBocce vs Throw Pallino First
DESCRIPTION:C:Wed 6:30pm group regular season match: The Big
  LaBocce vs. Throw Pallino First
LOCATION:Ipsen Court 1
END:VEVENT
BEGIN:VEVENT
DTSTAMP:20211116T000000Z
UID:7cfaaa64-7cdb-4974-bfa3-fe3ee63076f2@ClaytonBocce
DTSTART;TZID=America/Los_Angeles:20211222T183000
DTEND;TZID=America/Los_Angeles:20211222T213000
STATUS:CONFIRMED
SUMMARY:The Big LaBocce vs Easley Ballers
DESCRIPTION:C:Wed 6:30pm group regular season match: The Big
  LaBocce vs. Easley Ballers
LOCATION:Ipsen Court 3
END:VEVENT
BEGIN:VEVENT
DTSTAMP:20211116T000000Z
UID:c0fa0cd9-f1b6-47cc-a1be-e353b68e29c6@ClaytonBocce
DTSTART;TZID=America/Los_Angeles:20211229T183000
DTEND;TZID=America/Los_Angeles:20211229T213000
STATUS:CONFIRMED
SUMMARY:The Big LaBocce vs Balls and Dolls
DESCRIPTION:C:Wed 6:30pm group regular season match: The Big
  LaBocce vs. Balls and Dolls
LOCATION:Ipsen Court 1
END:VEVENT
BEGIN:VEVENT
DTSTAMP:20211116T000000Z
UID:894f80d0-50d3-461c-9e19-98d7b11cdc42@ClaytonBocce
DTSTART;TZID=America/Los_Angeles:20220105T183000
DTEND;TZID=America/Los_Angeles:20220105T213000
STATUS:CONFIRMED
SUMMARY:The Big LaBocce vs Freddo Bocce
DESCRIPTION:C:Wed 6:30pm group regular season match: The Big
  LaBocce vs. Freddo Bocce
LOCATION:Ipsen Court 4
END:VEVENT
BEGIN:VEVENT
DTSTAMP:20211116T000000Z
UID:a7eae643-26ed-430c-b4dd-7c981d69218b@ClaytonBocce
DTSTART;TZID=America/Los_Angeles:20220112T183000
DTEND;TZID=America/Los_Angeles:20220112T213000
STATUS:CONFIRMED
SUMMARY:The Big LaBocce vs Free Ballin
DESCRIPTION:C:Wed 6:30pm group regular season match: The Big
  LaBocce vs. Free Ballin
LOCATION:Ipsen Court 3
END:VEVENT
BEGIN:VEVENT
DTSTAMP:20211215T095811Z
UID:46f1ed1c-56aa-4516-9d1c-0b17a1ae217f@ClaytonBocce
DTSTART;TZID=America/Los_Angeles:20220119T183000
DTEND;TZID=America/Los_Angeles:20220119T213000
STATUS:CONFIRMED
SUMMARY:The Big LaBocce vs Throw Pallino First
DESCRIPTION:C:Wed 6:30pm group regular season match: The Big
  LaBocce vs. Throw Pallino First (Makeup match for game(s) c
 anceled on 6:30 pm)
LOCATION:Ipsen Court 1
END:VEVENT
BEGIN:VEVENT
DTSTAMP:20211222T091714Z
UID:d1f2477b-6a2c-40a9-b74f-69814784b61a@ClaytonBocce
DTSTART;TZID=America/Los_Angeles:20220126T183000
DTEND;TZID=America/Los_Angeles:20220126T213000
STATUS:CONFIRMED
SUMMARY:The Big LaBocce vs Easley Ballers
DESCRIPTION:C:Wed 6:30pm group regular season match: The Big
  LaBocce vs. Easley Ballers (Makeup match for game(s) cancel
 ed on 6:30 pm)
LOCATION:Ipsen Court 3
END:VEVENT
BEGIN:VEVENT
DTSTAMP:20211229T100050Z
UID:f41eb79a-0f64-4f8c-ad17-5a952977413b@ClaytonBocce
DTSTART;TZID=America/Los_Angeles:20220202T183000
DTEND;TZID=America/Los_Angeles:20220202T213000
STATUS:CONFIRMED
SUMMARY:The Big LaBocce vs Balls and Dolls
DESCRIPTION:C:Wed 6:30pm group regular season match: The Big
  LaBocce vs. Balls and Dolls (Makeup match for game(s) cance
 led on 6:30 pm)
LOCATION:Ipsen Court 1
END:VEVENT
END:VCALENDAR
