BEGIN:VCALENDAR
VERSION:2.0
PRODID:-//Clayton Bocce League
METHOD:PUBLISH
BEGIN:VTIMEZONE
TZID:America/Los_Angeles
X-LIC-LOCATION:America/Los_Angeles
BEGIN:DAYLIGHT
TZOFFSETFROM:-0800
TZOFFSETTO:-0700
TZNAME:PDT
DTSTART:20070311T020000
RRULE:FREQ=YEARLY;BYMONTH=3;BYDAY=2SU
END:DAYLIGHT
BEGIN:STANDARD
TZOFFSETFROM:-0700
TZOFFSETTO:-0800
TZNAME:PST
DTSTART:20071104T020000
RRULE:FREQ=YEARLY;BYMONTH=11;BYDAY=1SU
END:STANDARD
END:VTIMEZONE
BEGIN:VEVENT
DTSTAMP:20211116T000000Z
UID:8cefde90-ba40-44b7-9906-61d1b56ebb9d@ClaytonBocce
DTSTART;TZID=America/Los_Angeles:20211201T183000
DTEND;TZID=America/Los_Angeles:20211201T213000
STATUS:CONFIRMED
SUMMARY:Low Ballers vs The Big LaBocce
DESCRIPTION:C:Wed 6:30pm group regular season match: Low Bal
 lers vs. The Big LaBocce
LOCATION:Ipsen Court 2
END:VEVENT
BEGIN:VEVENT
DTSTAMP:20211116T000000Z
UID:7b5dfa99-d924-4497-b520-eefe0e10895e@ClaytonBocce
DTSTART;TZID=America/Los_Angeles:20211208T183000
DTEND;TZID=America/Los_Angeles:20211208T213000
STATUS:CONFIRMED
SUMMARY:Low Ballers vs Easley Ballers
DESCRIPTION:C:Wed 6:30pm group regular season match: Low Bal
 lers vs. Easley Ballers
LOCATION:Ipsen Court 4
END:VEVENT
BEGIN:VEVENT
DTSTAMP:20211116T000000Z
UID:b13b2a4a-c256-452e-95f1-788f5e5b7e82@ClaytonBocce
DTSTART;TZID=America/Los_Angeles:20211215T183000
DTEND;TZID=America/Los_Angeles:20211215T213000
STATUS:CONFIRMED
SUMMARY:Low Ballers vs Court Jesters
DESCRIPTION:C:Wed 6:30pm group regular season match: Low Bal
 lers vs. Court Jesters
LOCATION:Ipsen Court 2
END:VEVENT
BEGIN:VEVENT
DTSTAMP:20211116T000000Z
UID:48504767-d033-453b-a2da-e401dc6e674b@ClaytonBocce
DTSTART;TZID=America/Los_Angeles:20211222T183000
DTEND;TZID=America/Los_Angeles:20211222T213000
STATUS:CONFIRMED
SUMMARY:Low Ballers vs Freddo Bocce
DESCRIPTION:C:Wed 6:30pm group regular season match: Low Bal
 lers vs. Freddo Bocce
LOCATION:Ipsen Court 1
END:VEVENT
BEGIN:VEVENT
DTSTAMP:20211116T000000Z
UID:d7db1fa6-cd9d-4db1-afde-d9b59b81128d@ClaytonBocce
DTSTART;TZID=America/Los_Angeles:20211229T183000
DTEND;TZID=America/Los_Angeles:20211229T213000
STATUS:CONFIRMED
SUMMARY:Low Ballers vs Throw Pallino First
DESCRIPTION:C:Wed 6:30pm group regular season match: Low Bal
 lers vs. Throw Pallino First
LOCATION:Ipsen Court 3
END:VEVENT
BEGIN:VEVENT
DTSTAMP:20211116T000000Z
UID:ede156ff-c292-41ee-9b17-eecd6ae09df5@ClaytonBocce
DTSTART;TZID=America/Los_Angeles:20220105T183000
DTEND;TZID=America/Los_Angeles:20220105T213000
STATUS:CONFIRMED
SUMMARY:Low Ballers vs Free Ballin
DESCRIPTION:C:Wed 6:30pm group regular season match: Low Bal
 lers vs. Free Ballin
LOCATION:Ipsen Court 1
END:VEVENT
BEGIN:VEVENT
DTSTAMP:20211116T000000Z
UID:d772bc04-c63a-4ece-b1f5-694c56d3d3fb@ClaytonBocce
DTSTART;TZID=America/Los_Angeles:20220112T183000
DTEND;TZID=America/Los_Angeles:20220112T213000
STATUS:CONFIRMED
SUMMARY:Low Ballers vs Balls and Dolls
DESCRIPTION:C:Wed 6:30pm group regular season match: Low Bal
 lers vs. Balls and Dolls
LOCATION:Ipsen Court 4
END:VEVENT
BEGIN:VEVENT
DTSTAMP:20211215T095811Z
UID:e51ba871-0ca5-4153-a791-9035a3bf7aaf@ClaytonBocce
DTSTART;TZID=America/Los_Angeles:20220119T183000
DTEND;TZID=America/Los_Angeles:20220119T213000
STATUS:CONFIRMED
SUMMARY:Low Ballers vs Court Jesters
DESCRIPTION:C:Wed 6:30pm group regular season match: Low Bal
 lers vs. Court Jesters (Makeup match for game(s) canceled on
  6:30 pm)
LOCATION:Ipsen Court 2
END:VEVENT
BEGIN:VEVENT
DTSTAMP:20211222T091714Z
UID:1a53a2d9-0345-4ad7-911a-9a0b746e957f@ClaytonBocce
DTSTART;TZID=America/Los_Angeles:20220126T183000
DTEND;TZID=America/Los_Angeles:20220126T213000
STATUS:CONFIRMED
SUMMARY:Low Ballers vs Freddo Bocce
DESCRIPTION:C:Wed 6:30pm group regular season match: Low Bal
 lers vs. Freddo Bocce (Makeup match for game(s) canceled on 
 6:30 pm)
LOCATION:Ipsen Court 1
END:VEVENT
BEGIN:VEVENT
DTSTAMP:20211229T100050Z
UID:2b606919-0a55-43a8-8bde-7305b86f0cce@ClaytonBocce
DTSTART;TZID=America/Los_Angeles:20220202T183000
DTEND;TZID=America/Los_Angeles:20220202T213000
STATUS:CONFIRMED
SUMMARY:Low Ballers vs Throw Pallino First
DESCRIPTION:C:Wed 6:30pm group regular season match: Low Bal
 lers vs. Throw Pallino First (Makeup match for game(s) cance
 led on 6:30 pm)
LOCATION:Ipsen Court 3
END:VEVENT
END:VCALENDAR
