BEGIN:VCALENDAR
VERSION:2.0
PRODID:-//Clayton Bocce League
METHOD:PUBLISH
BEGIN:VTIMEZONE
TZID:America/Los_Angeles
X-LIC-LOCATION:America/Los_Angeles
BEGIN:DAYLIGHT
TZOFFSETFROM:-0800
TZOFFSETTO:-0700
TZNAME:PDT
DTSTART:20070311T020000
RRULE:FREQ=YEARLY;BYMONTH=3;BYDAY=2SU
END:DAYLIGHT
BEGIN:STANDARD
TZOFFSETFROM:-0700
TZOFFSETTO:-0800
TZNAME:PST
DTSTART:20071104T020000
RRULE:FREQ=YEARLY;BYMONTH=11;BYDAY=1SU
END:STANDARD
END:VTIMEZONE
BEGIN:VEVENT
DTSTAMP:20211116T000000Z
UID:3c7bf282-2bb1-48bb-9935-82fb2f30f7ae@ClaytonBocce
DTSTART;TZID=America/Los_Angeles:20211201T183000
DTEND;TZID=America/Los_Angeles:20211201T213000
STATUS:CONFIRMED
SUMMARY:Free Ballin vs Throw Pallino First
DESCRIPTION:C:Wed 6:30pm group regular season match: Free Ba
 llin vs. Throw Pallino First
LOCATION:Ipsen Court 4
END:VEVENT
BEGIN:VEVENT
DTSTAMP:20211116T000000Z
UID:519e9659-a736-4bb2-a359-6aad00ceab24@ClaytonBocce
DTSTART;TZID=America/Los_Angeles:20211208T183000
DTEND;TZID=America/Los_Angeles:20211208T213000
STATUS:CONFIRMED
SUMMARY:Free Ballin vs Freddo Bocce
DESCRIPTION:C:Wed 6:30pm group regular season match: Free Ba
 llin vs. Freddo Bocce
LOCATION:Ipsen Court 1
END:VEVENT
BEGIN:VEVENT
DTSTAMP:20211116T000000Z
UID:395daa0f-3951-42c0-8c97-8959ef2e8020@ClaytonBocce
DTSTART;TZID=America/Los_Angeles:20211215T183000
DTEND;TZID=America/Los_Angeles:20211215T213000
STATUS:CONFIRMED
SUMMARY:Free Ballin vs Easley Ballers
DESCRIPTION:C:Wed 6:30pm group regular season match: Free Ba
 llin vs. Easley Ballers
LOCATION:Ipsen Court 3
END:VEVENT
BEGIN:VEVENT
DTSTAMP:20211116T000000Z
UID:23c1f119-326f-4123-a6c0-aaef2706614b@ClaytonBocce
DTSTART;TZID=America/Los_Angeles:20211222T183000
DTEND;TZID=America/Los_Angeles:20211222T213000
STATUS:CONFIRMED
SUMMARY:Free Ballin vs Balls and Dolls
DESCRIPTION:C:Wed 6:30pm group regular season match: Free Ba
 llin vs. Balls and Dolls
LOCATION:Ipsen Court 2
END:VEVENT
BEGIN:VEVENT
DTSTAMP:20211116T000000Z
UID:2d927d11-7bf2-4c4f-992b-c2c013bc1f73@ClaytonBocce
DTSTART;TZID=America/Los_Angeles:20211229T183000
DTEND;TZID=America/Los_Angeles:20211229T213000
STATUS:CONFIRMED
SUMMARY:Free Ballin vs Court Jesters
DESCRIPTION:C:Wed 6:30pm group regular season match: Free Ba
 llin vs. Court Jesters
LOCATION:Ipsen Court 4
END:VEVENT
BEGIN:VEVENT
DTSTAMP:20211116T000000Z
UID:ede156ff-c292-41ee-9b17-eecd6ae09df5@ClaytonBocce
DTSTART;TZID=America/Los_Angeles:20220105T183000
DTEND;TZID=America/Los_Angeles:20220105T213000
STATUS:CONFIRMED
SUMMARY:Free Ballin vs Low Ballers
DESCRIPTION:C:Wed 6:30pm group regular season match: Free Ba
 llin vs. Low Ballers
LOCATION:Ipsen Court 1
END:VEVENT
BEGIN:VEVENT
DTSTAMP:20211116T000000Z
UID:a7eae643-26ed-430c-b4dd-7c981d69218b@ClaytonBocce
DTSTART;TZID=America/Los_Angeles:20220112T183000
DTEND;TZID=America/Los_Angeles:20220112T213000
STATUS:CONFIRMED
SUMMARY:Free Ballin vs The Big LaBocce
DESCRIPTION:C:Wed 6:30pm group regular season match: Free Ba
 llin vs. The Big LaBocce
LOCATION:Ipsen Court 3
END:VEVENT
BEGIN:VEVENT
DTSTAMP:20211215T095811Z
UID:5386febd-5385-4308-8602-2087c27b906b@ClaytonBocce
DTSTART;TZID=America/Los_Angeles:20220119T183000
DTEND;TZID=America/Los_Angeles:20220119T213000
STATUS:CONFIRMED
SUMMARY:Free Ballin vs Easley Ballers
DESCRIPTION:C:Wed 6:30pm group regular season match: Free Ba
 llin vs. Easley Ballers (Makeup match for game(s) canceled o
 n 6:30 pm)
LOCATION:Ipsen Court 3
END:VEVENT
BEGIN:VEVENT
DTSTAMP:20211222T091714Z
UID:0144d33b-71df-4aa1-9a4f-8e23ca33ebea@ClaytonBocce
DTSTART;TZID=America/Los_Angeles:20220126T183000
DTEND;TZID=America/Los_Angeles:20220126T213000
STATUS:CONFIRMED
SUMMARY:Free Ballin vs Balls and Dolls
DESCRIPTION:C:Wed 6:30pm group regular season match: Free Ba
 llin vs. Balls and Dolls (Makeup match for game(s) canceled 
 on 6:30 pm)
LOCATION:Ipsen Court 2
END:VEVENT
BEGIN:VEVENT
DTSTAMP:20211229T100050Z
UID:2fcf7abc-0b86-4346-9e1e-bc850ccce540@ClaytonBocce
DTSTART;TZID=America/Los_Angeles:20220202T183000
DTEND;TZID=America/Los_Angeles:20220202T213000
STATUS:CONFIRMED
SUMMARY:Free Ballin vs Court Jesters
DESCRIPTION:C:Wed 6:30pm group regular season match: Free Ba
 llin vs. Court Jesters (Makeup match for game(s) canceled on
  6:30 pm)
LOCATION:Ipsen Court 4
END:VEVENT
END:VCALENDAR
