BEGIN:VCALENDAR
VERSION:2.0
PRODID:-//Clayton Bocce League
METHOD:PUBLISH
BEGIN:VTIMEZONE
TZID:America/Los_Angeles
X-LIC-LOCATION:America/Los_Angeles
BEGIN:DAYLIGHT
TZOFFSETFROM:-0800
TZOFFSETTO:-0700
TZNAME:PDT
DTSTART:20070311T020000
RRULE:FREQ=YEARLY;BYMONTH=3;BYDAY=2SU
END:DAYLIGHT
BEGIN:STANDARD
TZOFFSETFROM:-0700
TZOFFSETTO:-0800
TZNAME:PST
DTSTART:20071104T020000
RRULE:FREQ=YEARLY;BYMONTH=11;BYDAY=1SU
END:STANDARD
END:VTIMEZONE
BEGIN:VEVENT
DTSTAMP:20211116T000000Z
UID:9860d000-15af-44bf-aa25-009300155d85@ClaytonBocce
DTSTART;TZID=America/Los_Angeles:20211119T190000
DTEND;TZID=America/Los_Angeles:20211119T220000
STATUS:CONFIRMED
SUMMARY:Still Rolling with my Homies vs Pretty Pink Ponies I
 I
DESCRIPTION:E:Fri 7:00pm group regular season match: Still R
 olling with my Homies vs. Pretty Pink Ponies II
LOCATION:Ipsen Court 2
END:VEVENT
BEGIN:VEVENT
DTSTAMP:20211116T000000Z
UID:e17d661f-9347-40cc-a916-e3b561fa4c7c@ClaytonBocce
DTSTART;TZID=America/Los_Angeles:20211203T190000
DTEND;TZID=America/Los_Angeles:20211203T220000
STATUS:CONFIRMED
SUMMARY:Still Rolling with my Homies vs Xvengers III
DESCRIPTION:E:Fri 7:00pm group regular season match: Still R
 olling with my Homies vs. Xvengers III
LOCATION:Ipsen Court 2
END:VEVENT
BEGIN:VEVENT
DTSTAMP:20211116T000000Z
UID:e2cfe242-ad9f-4913-841b-0c86ea9971e4@ClaytonBocce
DTSTART;TZID=America/Los_Angeles:20211210T190000
DTEND;TZID=America/Los_Angeles:20211210T220000
STATUS:CONFIRMED
SUMMARY:Still Rolling with my Homies vs The In Crowd
DESCRIPTION:E:Fri 7:00pm group regular season match: Still R
 olling with my Homies vs. The In Crowd
LOCATION:Ipsen Court 1
END:VEVENT
BEGIN:VEVENT
DTSTAMP:20211116T000000Z
UID:f2ee6754-96eb-4623-9006-3bfa75e1edfa@ClaytonBocce
DTSTART;TZID=America/Los_Angeles:20211217T190000
DTEND;TZID=America/Los_Angeles:20211217T220000
STATUS:CONFIRMED
SUMMARY:Still Rolling with my Homies vs Chewbocce 3
DESCRIPTION:E:Fri 7:00pm group regular season match: Still R
 olling with my Homies vs. Chewbocce 3
LOCATION:Ipsen Court 3
END:VEVENT
BEGIN:VEVENT
DTSTAMP:20211116T000000Z
UID:57943a2a-25bd-491d-8a84-a55c07b15501@ClaytonBocce
DTSTART;TZID=America/Los_Angeles:20220107T190000
DTEND;TZID=America/Los_Angeles:20220107T220000
STATUS:CONFIRMED
SUMMARY:Still Rolling with my Homies vs Ballsagna
DESCRIPTION:E:Fri 7:00pm group regular season match: Still R
 olling with my Homies vs. Ballsagna
LOCATION:Ipsen Court 1
END:VEVENT
BEGIN:VEVENT
DTSTAMP:20211119T160814Z
UID:c9f17856-0e96-4f3e-aeed-3f214911009b@ClaytonBocce
DTSTART;TZID=America/Los_Angeles:20220108T183000
DTEND;TZID=America/Los_Angeles:20220108T213000
STATUS:CONFIRMED
SUMMARY:Still Rolling with my Homies vs Pretty Pink Ponies I
 I
DESCRIPTION:E:Fri 7:00pm group regular season match: Still R
 olling with my Homies vs. Pretty Pink Ponies II (Makeup matc
 h for game(s) canceled on 7:00 pm)
LOCATION:Ipsen Court 2
END:VEVENT
BEGIN:VEVENT
DTSTAMP:20211116T000000Z
UID:20bafbce-f07a-4eb0-a4e1-906c2c620dda@ClaytonBocce
DTSTART;TZID=America/Los_Angeles:20220114T190000
DTEND;TZID=America/Los_Angeles:20220114T220000
STATUS:CONFIRMED
SUMMARY:Still Rolling with my Homies vs JR Electrical
DESCRIPTION:E:Fri 7:00pm group regular season match: Still R
 olling with my Homies vs. JR Electrical
LOCATION:Ipsen Court 4
END:VEVENT
BEGIN:VEVENT
DTSTAMP:20211116T000000Z
UID:fa3c169a-bd5b-4386-b035-464357acbb01@ClaytonBocce
DTSTART;TZID=America/Los_Angeles:20220121T190000
DTEND;TZID=America/Los_Angeles:20220121T220000
STATUS:CONFIRMED
SUMMARY:Still Rolling with my Homies vs Pallino Posse
DESCRIPTION:E:Fri 7:00pm group regular season match: Still R
 olling with my Homies vs. Pallino Posse
LOCATION:Ipsen Court 3
END:VEVENT
END:VCALENDAR
