BEGIN:VCALENDAR
VERSION:2.0
PRODID:-//Clayton Bocce League
METHOD:PUBLISH
BEGIN:VTIMEZONE
TZID:America/Los_Angeles
X-LIC-LOCATION:America/Los_Angeles
BEGIN:DAYLIGHT
TZOFFSETFROM:-0800
TZOFFSETTO:-0700
TZNAME:PDT
DTSTART:20070311T020000
RRULE:FREQ=YEARLY;BYMONTH=3;BYDAY=2SU
END:DAYLIGHT
BEGIN:STANDARD
TZOFFSETFROM:-0700
TZOFFSETTO:-0800
TZNAME:PST
DTSTART:20071104T020000
RRULE:FREQ=YEARLY;BYMONTH=11;BYDAY=1SU
END:STANDARD
END:VTIMEZONE
BEGIN:VEVENT
DTSTAMP:20211116T000000Z
UID:9860d000-15af-44bf-aa25-009300155d85@ClaytonBocce
DTSTART;TZID=America/Los_Angeles:20211119T190000
DTEND;TZID=America/Los_Angeles:20211119T220000
STATUS:CONFIRMED
SUMMARY:Pretty Pink Ponies II vs Still Rolling with my Homie
 s
DESCRIPTION:E:Fri 7:00pm group regular season match: Pretty 
 Pink Ponies II vs. Still Rolling with my Homies
LOCATION:Ipsen Court 2
END:VEVENT
BEGIN:VEVENT
DTSTAMP:20211116T000000Z
UID:87bf0aa5-de67-4524-9ef2-e11ef448a5f0@ClaytonBocce
DTSTART;TZID=America/Los_Angeles:20211203T190000
DTEND;TZID=America/Los_Angeles:20211203T220000
STATUS:CONFIRMED
SUMMARY:Pretty Pink Ponies II vs Chewbocce 3
DESCRIPTION:E:Fri 7:00pm group regular season match: Pretty 
 Pink Ponies II vs. Chewbocce 3
LOCATION:Ipsen Court 4
END:VEVENT
BEGIN:VEVENT
DTSTAMP:20211116T000000Z
UID:a61eebda-71e9-49c0-a022-039c23bc3d3c@ClaytonBocce
DTSTART;TZID=America/Los_Angeles:20211210T190000
DTEND;TZID=America/Los_Angeles:20211210T220000
STATUS:CONFIRMED
SUMMARY:Pretty Pink Ponies II vs Xvengers III
DESCRIPTION:E:Fri 7:00pm group regular season match: Pretty 
 Pink Ponies II vs. Xvengers III
LOCATION:Ipsen Court 2
END:VEVENT
BEGIN:VEVENT
DTSTAMP:20211116T000000Z
UID:5f2819d3-500e-4fd1-bc4f-014d306ecf6a@ClaytonBocce
DTSTART;TZID=America/Los_Angeles:20211217T190000
DTEND;TZID=America/Los_Angeles:20211217T220000
STATUS:CONFIRMED
SUMMARY:Pretty Pink Ponies II vs JR Electrical
DESCRIPTION:E:Fri 7:00pm group regular season match: Pretty 
 Pink Ponies II vs. JR Electrical
LOCATION:Ipsen Court 1
END:VEVENT
BEGIN:VEVENT
DTSTAMP:20211116T000000Z
UID:6701fbab-2620-4f5c-8325-649f645a5be4@ClaytonBocce
DTSTART;TZID=America/Los_Angeles:20220107T190000
DTEND;TZID=America/Los_Angeles:20220107T220000
STATUS:CONFIRMED
SUMMARY:Pretty Pink Ponies II vs The In Crowd
DESCRIPTION:E:Fri 7:00pm group regular season match: Pretty 
 Pink Ponies II vs. The In Crowd
LOCATION:Ipsen Court 3
END:VEVENT
BEGIN:VEVENT
DTSTAMP:20211119T160814Z
UID:c9f17856-0e96-4f3e-aeed-3f214911009b@ClaytonBocce
DTSTART;TZID=America/Los_Angeles:20220108T183000
DTEND;TZID=America/Los_Angeles:20220108T213000
STATUS:CONFIRMED
SUMMARY:Pretty Pink Ponies II vs Still Rolling with my Homie
 s
DESCRIPTION:E:Fri 7:00pm group regular season match: Pretty 
 Pink Ponies II vs. Still Rolling with my Homies (Makeup matc
 h for game(s) canceled on 7:00 pm)
LOCATION:Ipsen Court 2
END:VEVENT
BEGIN:VEVENT
DTSTAMP:20211116T000000Z
UID:9cfb3ade-18a6-438d-a107-34789cd044b5@ClaytonBocce
DTSTART;TZID=America/Los_Angeles:20220114T190000
DTEND;TZID=America/Los_Angeles:20220114T220000
STATUS:CONFIRMED
SUMMARY:Pretty Pink Ponies II vs Pallino Posse
DESCRIPTION:E:Fri 7:00pm group regular season match: Pretty 
 Pink Ponies II vs. Pallino Posse
LOCATION:Ipsen Court 1
END:VEVENT
BEGIN:VEVENT
DTSTAMP:20211116T000000Z
UID:30c854b9-c101-4f38-bc6e-6ff1e7cb2eb9@ClaytonBocce
DTSTART;TZID=America/Los_Angeles:20220121T190000
DTEND;TZID=America/Los_Angeles:20220121T220000
STATUS:CONFIRMED
SUMMARY:Pretty Pink Ponies II vs Ballsagna
DESCRIPTION:E:Fri 7:00pm group regular season match: Pretty 
 Pink Ponies II vs. Ballsagna
LOCATION:Ipsen Court 4
END:VEVENT
END:VCALENDAR
