BEGIN:VCALENDAR
VERSION:2.0
PRODID:-//Clayton Bocce League
METHOD:PUBLISH
BEGIN:VTIMEZONE
TZID:America/Los_Angeles
X-LIC-LOCATION:America/Los_Angeles
BEGIN:DAYLIGHT
TZOFFSETFROM:-0800
TZOFFSETTO:-0700
TZNAME:PDT
DTSTART:20070311T020000
RRULE:FREQ=YEARLY;BYMONTH=3;BYDAY=2SU
END:DAYLIGHT
BEGIN:STANDARD
TZOFFSETFROM:-0700
TZOFFSETTO:-0800
TZNAME:PST
DTSTART:20071104T020000
RRULE:FREQ=YEARLY;BYMONTH=11;BYDAY=1SU
END:STANDARD
END:VTIMEZONE
BEGIN:VEVENT
DTSTAMP:20211116T000000Z
UID:44707a13-ede7-4dc5-aa21-11b61597d14c@ClaytonBocce
DTSTART;TZID=America/Los_Angeles:20211119T190000
DTEND;TZID=America/Los_Angeles:20211119T220000
STATUS:CONFIRMED
SUMMARY:The In Crowd vs Pallino Posse
DESCRIPTION:E:Fri 7:00pm group regular season match: The In 
 Crowd vs. Pallino Posse
LOCATION:Ipsen Court 4
END:VEVENT
BEGIN:VEVENT
DTSTAMP:20211116T000000Z
UID:142da49f-ab1b-41bc-b679-b8f1ba1c9568@ClaytonBocce
DTSTART;TZID=America/Los_Angeles:20211203T190000
DTEND;TZID=America/Los_Angeles:20211203T220000
STATUS:CONFIRMED
SUMMARY:The In Crowd vs Ballsagna
DESCRIPTION:E:Fri 7:00pm group regular season match: The In 
 Crowd vs. Ballsagna
LOCATION:Ipsen Court 3
END:VEVENT
BEGIN:VEVENT
DTSTAMP:20211116T000000Z
UID:e2cfe242-ad9f-4913-841b-0c86ea9971e4@ClaytonBocce
DTSTART;TZID=America/Los_Angeles:20211210T190000
DTEND;TZID=America/Los_Angeles:20211210T220000
STATUS:CONFIRMED
SUMMARY:The In Crowd vs Still Rolling with my Homies
DESCRIPTION:E:Fri 7:00pm group regular season match: The In 
 Crowd vs. Still Rolling with my Homies
LOCATION:Ipsen Court 1
END:VEVENT
BEGIN:VEVENT
DTSTAMP:20211116T000000Z
UID:6616200e-f0a0-493c-b5d6-211770a2a9f4@ClaytonBocce
DTSTART;TZID=America/Los_Angeles:20211217T190000
DTEND;TZID=America/Los_Angeles:20211217T220000
STATUS:CONFIRMED
SUMMARY:The In Crowd vs Xvengers III
DESCRIPTION:E:Fri 7:00pm group regular season match: The In 
 Crowd vs. Xvengers III
LOCATION:Ipsen Court 4
END:VEVENT
BEGIN:VEVENT
DTSTAMP:20211116T000000Z
UID:6701fbab-2620-4f5c-8325-649f645a5be4@ClaytonBocce
DTSTART;TZID=America/Los_Angeles:20220107T190000
DTEND;TZID=America/Los_Angeles:20220107T220000
STATUS:CONFIRMED
SUMMARY:The In Crowd vs Pretty Pink Ponies II
DESCRIPTION:E:Fri 7:00pm group regular season match: The In 
 Crowd vs. Pretty Pink Ponies II
LOCATION:Ipsen Court 3
END:VEVENT
BEGIN:VEVENT
DTSTAMP:20211119T160814Z
UID:4ab1b5bd-e7c9-47ad-9294-dcbc1a477bb4@ClaytonBocce
DTSTART;TZID=America/Los_Angeles:20220108T183000
DTEND;TZID=America/Los_Angeles:20220108T213000
STATUS:CONFIRMED
SUMMARY:The In Crowd vs Pallino Posse
DESCRIPTION:E:Fri 7:00pm group regular season match: The In 
 Crowd vs. Pallino Posse (Makeup match for game(s) canceled o
 n 7:00 pm)
LOCATION:Ipsen Court 4
END:VEVENT
BEGIN:VEVENT
DTSTAMP:20211116T000000Z
UID:7f477f65-47a8-446a-bdb2-e424189213db@ClaytonBocce
DTSTART;TZID=America/Los_Angeles:20220114T190000
DTEND;TZID=America/Los_Angeles:20220114T220000
STATUS:CONFIRMED
SUMMARY:The In Crowd vs Chewbocce 3
DESCRIPTION:E:Fri 7:00pm group regular season match: The In 
 Crowd vs. Chewbocce 3
LOCATION:Ipsen Court 2
END:VEVENT
BEGIN:VEVENT
DTSTAMP:20211116T000000Z
UID:560d2b11-e831-43da-8992-65fd2f7f5b32@ClaytonBocce
DTSTART;TZID=America/Los_Angeles:20220121T190000
DTEND;TZID=America/Los_Angeles:20220121T220000
STATUS:CONFIRMED
SUMMARY:The In Crowd vs JR Electrical
DESCRIPTION:E:Fri 7:00pm group regular season match: The In 
 Crowd vs. JR Electrical
LOCATION:Ipsen Court 2
END:VEVENT
END:VCALENDAR
