BEGIN:VCALENDAR
VERSION:2.0
PRODID:-//Clayton Bocce League
METHOD:PUBLISH
BEGIN:VTIMEZONE
TZID:America/Los_Angeles
X-LIC-LOCATION:America/Los_Angeles
BEGIN:DAYLIGHT
TZOFFSETFROM:-0800
TZOFFSETTO:-0700
TZNAME:PDT
DTSTART:20070311T020000
RRULE:FREQ=YEARLY;BYMONTH=3;BYDAY=2SU
END:DAYLIGHT
BEGIN:STANDARD
TZOFFSETFROM:-0700
TZOFFSETTO:-0800
TZNAME:PST
DTSTART:20071104T020000
RRULE:FREQ=YEARLY;BYMONTH=11;BYDAY=1SU
END:STANDARD
END:VTIMEZONE
BEGIN:VEVENT
DTSTAMP:20220301T000000Z
UID:8656fda9-dafc-4c91-ab92-381b77334cf2@ClaytonBocce
DTSTART;TZID=America/Los_Angeles:20220306T133000
DTEND;TZID=America/Los_Angeles:20220306T163000
STATUS:CONFIRMED
SUMMARY:Bocce Warriors vs It's Bocce Time Somewhere
DESCRIPTION:A:Sun 1:30pm group regular season match: Bocce W
 arriors vs. It's Bocce Time Somewhere
LOCATION:Ipsen Court 4
END:VEVENT
BEGIN:VEVENT
DTSTAMP:20220301T000000Z
UID:87bc59cc-ffb9-442f-9535-327bb79c4ffa@ClaytonBocce
DTSTART;TZID=America/Los_Angeles:20220313T133000
DTEND;TZID=America/Los_Angeles:20220313T163000
STATUS:CONFIRMED
SUMMARY:Bocce Warriors vs Bellas & Fellas
DESCRIPTION:A:Sun 1:30pm group regular season match: Bocce W
 arriors vs. Bellas & Fellas
LOCATION:Ipsen Court 3
END:VEVENT
BEGIN:VEVENT
DTSTAMP:20220301T000000Z
UID:fd233d87-c9f6-4b0c-b534-12178cef1da9@ClaytonBocce
DTSTART;TZID=America/Los_Angeles:20220320T133000
DTEND;TZID=America/Los_Angeles:20220320T163000
STATUS:CONFIRMED
SUMMARY:Bocce Warriors vs Bust N more Balls
DESCRIPTION:A:Sun 1:30pm group regular season match: Bocce W
 arriors vs. Bust N more Balls
LOCATION:Ipsen Court 3
END:VEVENT
BEGIN:VEVENT
DTSTAMP:20220301T000000Z
UID:2c1f7b77-2cba-4774-a5e5-99348d5208f1@ClaytonBocce
DTSTART;TZID=America/Los_Angeles:20220327T133000
DTEND;TZID=America/Los_Angeles:20220327T163000
STATUS:CONFIRMED
SUMMARY:Bocce Warriors vs Joanie & The Jets
DESCRIPTION:A:Sun 1:30pm group regular season match: Bocce W
 arriors vs. Joanie & The Jets
LOCATION:Ipsen Court 2
END:VEVENT
BEGIN:VEVENT
DTSTAMP:20220301T000000Z
UID:b40bd3b1-cc89-4149-b566-c64edb4ea718@ClaytonBocce
DTSTART;TZID=America/Los_Angeles:20220403T133000
DTEND;TZID=America/Los_Angeles:20220403T163000
STATUS:CONFIRMED
SUMMARY:Bocce Warriors vs Dammit Janet
DESCRIPTION:A:Sun 1:30pm group regular season match: Bocce W
 arriors vs. Dammit Janet
LOCATION:Ipsen Court 2
END:VEVENT
BEGIN:VEVENT
DTSTAMP:20220301T000000Z
UID:12715947-a0b8-448b-832b-63ac2e757a11@ClaytonBocce
DTSTART;TZID=America/Los_Angeles:20220410T133000
DTEND;TZID=America/Los_Angeles:20220410T163000
STATUS:CONFIRMED
SUMMARY:Bocce Warriors vs Blenderheads
DESCRIPTION:A:Sun 1:30pm group regular season match: Bocce W
 arriors vs. Blenderheads
LOCATION:Ipsen Court 3
END:VEVENT
BEGIN:VEVENT
DTSTAMP:20220301T000000Z
UID:559d31eb-264a-451f-8bde-163206b1a210@ClaytonBocce
DTSTART;TZID=America/Los_Angeles:20220420T183000
DTEND;TZID=America/Los_Angeles:20220420T213000
STATUS:CONFIRMED
SUMMARY:Bocce Warriors vs Jolly Ranchers
DESCRIPTION:A:Sun 1:30pm group regular season match: Bocce W
 arriors vs. Jolly Ranchers
LOCATION:Ipsen Court 4
END:VEVENT
BEGIN:VEVENT
DTSTAMP:20220301T000000Z
UID:f62cfed5-0dd8-4c7b-af52-3566d84aa12a@ClaytonBocce
DTSTART;TZID=America/Los_Angeles:20220501T133000
DTEND;TZID=America/Los_Angeles:20220501T163000
STATUS:CONFIRMED
SUMMARY:Bocce Warriors vs Part Time Ballers
DESCRIPTION:A:Sun 1:30pm group regular season match: Bocce W
 arriors vs. Part Time Ballers
LOCATION:Ipsen Court 3
END:VEVENT
BEGIN:VEVENT
DTSTAMP:20220421T101846Z
UID:dd2c4506-d07a-4422-9b62-599101f7b7c3@ClaytonBocce
DTSTART;TZID=America/Los_Angeles:20220605T123000
DTEND;TZID=America/Los_Angeles:20220605T153000
STATUS:CONFIRMED
SUMMARY:Bocce Warriors vs Jolly Ranchers
DESCRIPTION:A:Sun 1:30pm group regular season match: Bocce W
 arriors vs. Jolly Ranchers (Makeup match for game(s) cancele
 d on 6:30 pm)
LOCATION:Ipsen Court 4
END:VEVENT
BEGIN:VEVENT
DTSTAMP:20220301T000000Z
UID:b1f72c30-b2fe-45f0-b862-1d03204548aa@ClaytonBocce
DTSTART;TZID=America/Los_Angeles:20220605T133000
DTEND;TZID=America/Los_Angeles:20220605T163000
STATUS:CONFIRMED
SUMMARY:Bocce Warriors vs Bocce Bandana Bandits
DESCRIPTION:A:Sun 1:30pm group regular season match: Bocce W
 arriors vs. Bocce Bandana Bandits
LOCATION:Ipsen Court 1
END:VEVENT
END:VCALENDAR
