BEGIN:VCALENDAR
VERSION:2.0
PRODID:-//Clayton Bocce League
METHOD:PUBLISH
BEGIN:VTIMEZONE
TZID:America/Los_Angeles
X-LIC-LOCATION:America/Los_Angeles
BEGIN:DAYLIGHT
TZOFFSETFROM:-0800
TZOFFSETTO:-0700
TZNAME:PDT
DTSTART:20070311T020000
RRULE:FREQ=YEARLY;BYMONTH=3;BYDAY=2SU
END:DAYLIGHT
BEGIN:STANDARD
TZOFFSETFROM:-0700
TZOFFSETTO:-0800
TZNAME:PST
DTSTART:20071104T020000
RRULE:FREQ=YEARLY;BYMONTH=11;BYDAY=1SU
END:STANDARD
END:VTIMEZONE
BEGIN:VEVENT
DTSTAMP:20220301T000000Z
UID:121ba7c9-9e4c-4d3a-97c6-19e28116f2f0@ClaytonBocce
DTSTART;TZID=America/Los_Angeles:20220313T133000
DTEND;TZID=America/Los_Angeles:20220313T163000
STATUS:CONFIRMED
SUMMARY:Bocce Bandana Bandits vs Part Time Ballers
DESCRIPTION:A:Sun 1:30pm group regular season match: Bocce B
 andana Bandits vs. Part Time Ballers
LOCATION:Ipsen Court 1
END:VEVENT
BEGIN:VEVENT
DTSTAMP:20220301T000000Z
UID:ce7d7b3f-7133-43a0-89fd-1453e29e062d@ClaytonBocce
DTSTART;TZID=America/Los_Angeles:20220320T133000
DTEND;TZID=America/Los_Angeles:20220320T163000
STATUS:CONFIRMED
SUMMARY:Bocce Bandana Bandits vs Joanie & The Jets
DESCRIPTION:A:Sun 1:30pm group regular season match: Bocce B
 andana Bandits vs. Joanie & The Jets
LOCATION:Ipsen Court 4
END:VEVENT
BEGIN:VEVENT
DTSTAMP:20220301T000000Z
UID:8c06c937-ea2c-46ec-bd48-c3609af43e36@ClaytonBocce
DTSTART;TZID=America/Los_Angeles:20220327T133000
DTEND;TZID=America/Los_Angeles:20220327T163000
STATUS:CONFIRMED
SUMMARY:Bocce Bandana Bandits vs Blenderheads
DESCRIPTION:A:Sun 1:30pm group regular season match: Bocce B
 andana Bandits vs. Blenderheads
LOCATION:Ipsen Court 3
END:VEVENT
BEGIN:VEVENT
DTSTAMP:20220301T000000Z
UID:4de11a0e-db94-4c0f-bfb7-87912a323ac7@ClaytonBocce
DTSTART;TZID=America/Los_Angeles:20220403T133000
DTEND;TZID=America/Los_Angeles:20220403T163000
STATUS:CONFIRMED
SUMMARY:Bocce Bandana Bandits vs Jolly Ranchers
DESCRIPTION:A:Sun 1:30pm group regular season match: Bocce B
 andana Bandits vs. Jolly Ranchers
LOCATION:Ipsen Court 1
END:VEVENT
BEGIN:VEVENT
DTSTAMP:20220301T000000Z
UID:4cbadc04-9323-4c1e-87eb-259234f1e94d@ClaytonBocce
DTSTART;TZID=America/Los_Angeles:20220410T133000
DTEND;TZID=America/Los_Angeles:20220410T163000
STATUS:CONFIRMED
SUMMARY:Bocce Bandana Bandits vs Bust N more Balls
DESCRIPTION:A:Sun 1:30pm group regular season match: Bocce B
 andana Bandits vs. Bust N more Balls
LOCATION:Ipsen Court 2
END:VEVENT
BEGIN:VEVENT
DTSTAMP:20220301T000000Z
UID:3a3c8201-e66f-4985-81f5-3cc7e2c7012f@ClaytonBocce
DTSTART;TZID=America/Los_Angeles:20220420T183000
DTEND;TZID=America/Los_Angeles:20220420T213000
STATUS:CONFIRMED
SUMMARY:Bocce Bandana Bandits vs It's Bocce Time Somewhere
DESCRIPTION:A:Sun 1:30pm group regular season match: Bocce B
 andana Bandits vs. It's Bocce Time Somewhere
LOCATION:Ipsen Court 3
END:VEVENT
BEGIN:VEVENT
DTSTAMP:20220301T000000Z
UID:c5ff88de-938a-4f56-8b83-1cc6325e1597@ClaytonBocce
DTSTART;TZID=America/Los_Angeles:20220501T133000
DTEND;TZID=America/Los_Angeles:20220501T163000
STATUS:CONFIRMED
SUMMARY:Bocce Bandana Bandits vs Dammit Janet
DESCRIPTION:A:Sun 1:30pm group regular season match: Bocce B
 andana Bandits vs. Dammit Janet
LOCATION:Ipsen Court 4
END:VEVENT
BEGIN:VEVENT
DTSTAMP:20220301T000000Z
UID:68275c34-f9e0-4b75-8910-744e53275bf3@ClaytonBocce
DTSTART;TZID=America/Los_Angeles:20220522T133000
DTEND;TZID=America/Los_Angeles:20220522T163000
STATUS:CONFIRMED
SUMMARY:Bocce Bandana Bandits vs Bellas & Fellas
DESCRIPTION:A:Sun 1:30pm group regular season match: Bocce B
 andana Bandits vs. Bellas & Fellas
LOCATION:Ipsen Court 1
END:VEVENT
BEGIN:VEVENT
DTSTAMP:20220301T000000Z
UID:b1f72c30-b2fe-45f0-b862-1d03204548aa@ClaytonBocce
DTSTART;TZID=America/Los_Angeles:20220605T133000
DTEND;TZID=America/Los_Angeles:20220605T163000
STATUS:CONFIRMED
SUMMARY:Bocce Bandana Bandits vs Bocce Warriors
DESCRIPTION:A:Sun 1:30pm group regular season match: Bocce B
 andana Bandits vs. Bocce Warriors
LOCATION:Ipsen Court 1
END:VEVENT
END:VCALENDAR
