BEGIN:VCALENDAR
VERSION:2.0
PRODID:-//Clayton Bocce League
METHOD:PUBLISH
BEGIN:VTIMEZONE
TZID:America/Los_Angeles
X-LIC-LOCATION:America/Los_Angeles
BEGIN:DAYLIGHT
TZOFFSETFROM:-0800
TZOFFSETTO:-0700
TZNAME:PDT
DTSTART:20070311T020000
RRULE:FREQ=YEARLY;BYMONTH=3;BYDAY=2SU
END:DAYLIGHT
BEGIN:STANDARD
TZOFFSETFROM:-0700
TZOFFSETTO:-0800
TZNAME:PST
DTSTART:20071104T020000
RRULE:FREQ=YEARLY;BYMONTH=11;BYDAY=1SU
END:STANDARD
END:VTIMEZONE
BEGIN:VEVENT
DTSTAMP:20220301T000000Z
UID:34d764ba-1f05-4960-ac67-1a8dbb7ea64e@ClaytonBocce
DTSTART;TZID=America/Los_Angeles:20220308T183000
DTEND;TZID=America/Los_Angeles:20220308T213000
STATUS:CONFIRMED
SUMMARY:Rodie's Rollers II vs Shuga Bowlers
DESCRIPTION:D:Tue 6:30pm group regular season match: Rodie's
  Rollers II vs. Shuga Bowlers
LOCATION:Ipsen Court 1
END:VEVENT
BEGIN:VEVENT
DTSTAMP:20220301T000000Z
UID:65d74fea-75f3-496b-951e-74f262bfe35e@ClaytonBocce
DTSTART;TZID=America/Los_Angeles:20220315T183000
DTEND;TZID=America/Los_Angeles:20220315T213000
STATUS:CONFIRMED
SUMMARY:Rodie's Rollers II vs High Rollers
DESCRIPTION:D:Tue 6:30pm group regular season match: Rodie's
  Rollers II vs. High Rollers
LOCATION:Ipsen Court 2
END:VEVENT
BEGIN:VEVENT
DTSTAMP:20220301T000000Z
UID:4a1e0ee9-d173-4d23-a18d-52298ebb426f@ClaytonBocce
DTSTART;TZID=America/Los_Angeles:20220322T183000
DTEND;TZID=America/Los_Angeles:20220322T213000
STATUS:CONFIRMED
SUMMARY:Rodie's Rollers II vs When in Rome
DESCRIPTION:D:Tue 6:30pm group regular season match: Rodie's
  Rollers II vs. When in Rome
LOCATION:Ipsen Court 3
END:VEVENT
BEGIN:VEVENT
DTSTAMP:20220301T000000Z
UID:25aac746-73f1-4106-ba6b-4ceb11d769bf@ClaytonBocce
DTSTART;TZID=America/Los_Angeles:20220329T183000
DTEND;TZID=America/Los_Angeles:20220329T213000
STATUS:CONFIRMED
SUMMARY:Rodie's Rollers II vs Mai Tai Mayhem
DESCRIPTION:D:Tue 6:30pm group regular season match: Rodie's
  Rollers II vs. Mai Tai Mayhem
LOCATION:Ipsen Court 4
END:VEVENT
BEGIN:VEVENT
DTSTAMP:20220301T000000Z
UID:3e8e98ae-5d3e-4195-b547-d60ac30a1d4f@ClaytonBocce
DTSTART;TZID=America/Los_Angeles:20220405T183000
DTEND;TZID=America/Los_Angeles:20220405T213000
STATUS:CONFIRMED
SUMMARY:Rodie's Rollers II vs Padrini di Bocce
DESCRIPTION:D:Tue 6:30pm group regular season match: Rodie's
  Rollers II vs. Padrini di Bocce
LOCATION:Ipsen Court 2
END:VEVENT
BEGIN:VEVENT
DTSTAMP:20220301T000000Z
UID:728209b4-96e6-474c-88ba-e3b6c0144fac@ClaytonBocce
DTSTART;TZID=America/Los_Angeles:20220419T183000
DTEND;TZID=America/Los_Angeles:20220419T213000
STATUS:CONFIRMED
SUMMARY:Rodie's Rollers II vs Rollin Donuts
DESCRIPTION:D:Tue 6:30pm group regular season match: Rodie's
  Rollers II vs. Rollin Donuts
LOCATION:Ipsen Court 3
END:VEVENT
BEGIN:VEVENT
DTSTAMP:20220301T000000Z
UID:a9310a8a-f727-4420-8029-4a983d638e7d@ClaytonBocce
DTSTART;TZID=America/Los_Angeles:20220503T183000
DTEND;TZID=America/Los_Angeles:20220503T213000
STATUS:CONFIRMED
SUMMARY:Rodie's Rollers II vs Bacio Le Palle
DESCRIPTION:D:Tue 6:30pm group regular season match: Rodie's
  Rollers II vs. Bacio Le Palle
LOCATION:Ipsen Court 3
END:VEVENT
BEGIN:VEVENT
DTSTAMP:20220301T000000Z
UID:25f75d2f-c3fd-472c-b61f-b3182e5cd06f@ClaytonBocce
DTSTART;TZID=America/Los_Angeles:20220517T183000
DTEND;TZID=America/Los_Angeles:20220517T213000
STATUS:CONFIRMED
SUMMARY:Rodie's Rollers II vs Team Deboccery
DESCRIPTION:D:Tue 6:30pm group regular season match: Rodie's
  Rollers II vs. Team Deboccery
LOCATION:Ipsen Court 1
END:VEVENT
BEGIN:VEVENT
DTSTAMP:20220301T000000Z
UID:3c6a8fa8-7783-4491-a295-9c92477333bf@ClaytonBocce
DTSTART;TZID=America/Los_Angeles:20220524T183000
DTEND;TZID=America/Los_Angeles:20220524T213000
STATUS:CONFIRMED
SUMMARY:Rodie's Rollers II vs Pretty Pink Ponies X
DESCRIPTION:D:Tue 6:30pm group regular season match: Rodie's
  Rollers II vs. Pretty Pink Ponies X
LOCATION:Ipsen Court 4
END:VEVENT
BEGIN:VEVENT
DTSTAMP:20220421T100005Z
UID:26e3a1ef-38fc-4a09-98b0-4c0615f152e3@ClaytonBocce
DTSTART;TZID=America/Los_Angeles:20220614T183000
DTEND;TZID=America/Los_Angeles:20220614T213000
STATUS:CONFIRMED
SUMMARY:Rodie's Rollers II vs Mai Tai Mayhem
DESCRIPTION:D:Tue 6:30pm group regular season match: Rodie's
  Rollers II vs. Mai Tai Mayhem (Makeup match for game(s) can
 celed on 6:30 pm)
LOCATION:Ipsen Court 4
END:VEVENT
END:VCALENDAR
