BEGIN:VCALENDAR
VERSION:2.0
PRODID:-//Clayton Bocce League
METHOD:PUBLISH
BEGIN:VTIMEZONE
TZID:America/Los_Angeles
X-LIC-LOCATION:America/Los_Angeles
BEGIN:DAYLIGHT
TZOFFSETFROM:-0800
TZOFFSETTO:-0700
TZNAME:PDT
DTSTART:20070311T020000
RRULE:FREQ=YEARLY;BYMONTH=3;BYDAY=2SU
END:DAYLIGHT
BEGIN:STANDARD
TZOFFSETFROM:-0700
TZOFFSETTO:-0800
TZNAME:PST
DTSTART:20071104T020000
RRULE:FREQ=YEARLY;BYMONTH=11;BYDAY=1SU
END:STANDARD
END:VTIMEZONE
BEGIN:VEVENT
DTSTAMP:20220301T000000Z
UID:34d764ba-1f05-4960-ac67-1a8dbb7ea64e@ClaytonBocce
DTSTART;TZID=America/Los_Angeles:20220308T183000
DTEND;TZID=America/Los_Angeles:20220308T213000
STATUS:CONFIRMED
SUMMARY:Shuga Bowlers vs Rodie's Rollers II
DESCRIPTION:D:Tue 6:30pm group regular season match: Shuga B
 owlers vs. Rodie's Rollers II
LOCATION:Ipsen Court 1
END:VEVENT
BEGIN:VEVENT
DTSTAMP:20220301T000000Z
UID:5b00b56d-a33a-4bcb-8c94-2a8166a4e20e@ClaytonBocce
DTSTART;TZID=America/Los_Angeles:20220322T183000
DTEND;TZID=America/Los_Angeles:20220322T213000
STATUS:CONFIRMED
SUMMARY:Shuga Bowlers vs Team Deboccery
DESCRIPTION:D:Tue 6:30pm group regular season match: Shuga B
 owlers vs. Team Deboccery
LOCATION:Ipsen Court 2
END:VEVENT
BEGIN:VEVENT
DTSTAMP:20220301T000000Z
UID:eaa71528-4a7c-42af-860e-64f42f5516d8@ClaytonBocce
DTSTART;TZID=America/Los_Angeles:20220329T183000
DTEND;TZID=America/Los_Angeles:20220329T213000
STATUS:CONFIRMED
SUMMARY:Shuga Bowlers vs High Rollers
DESCRIPTION:D:Tue 6:30pm group regular season match: Shuga B
 owlers vs. High Rollers
LOCATION:Ipsen Court 1
END:VEVENT
BEGIN:VEVENT
DTSTAMP:20220301T000000Z
UID:6fddd6f2-8489-454f-b373-cf26aed05064@ClaytonBocce
DTSTART;TZID=America/Los_Angeles:20220405T183000
DTEND;TZID=America/Los_Angeles:20220405T213000
STATUS:CONFIRMED
SUMMARY:Shuga Bowlers vs Pretty Pink Ponies X
DESCRIPTION:D:Tue 6:30pm group regular season match: Shuga B
 owlers vs. Pretty Pink Ponies X
LOCATION:Ipsen Court 3
END:VEVENT
BEGIN:VEVENT
DTSTAMP:20220301T000000Z
UID:8d4785cd-ce67-4b9a-b591-63d4a4d6c6f0@ClaytonBocce
DTSTART;TZID=America/Los_Angeles:20220412T183000
DTEND;TZID=America/Los_Angeles:20220412T213000
STATUS:CONFIRMED
SUMMARY:Shuga Bowlers vs Bacio Le Palle
DESCRIPTION:D:Tue 6:30pm group regular season match: Shuga B
 owlers vs. Bacio Le Palle
LOCATION:Ipsen Court 1
END:VEVENT
BEGIN:VEVENT
DTSTAMP:20220301T000000Z
UID:41d4d387-ff24-4402-8ae3-f533f6b1bb8a@ClaytonBocce
DTSTART;TZID=America/Los_Angeles:20220426T183000
DTEND;TZID=America/Los_Angeles:20220426T213000
STATUS:CONFIRMED
SUMMARY:Shuga Bowlers vs Padrini di Bocce
DESCRIPTION:D:Tue 6:30pm group regular season match: Shuga B
 owlers vs. Padrini di Bocce
LOCATION:Ipsen Court 2
END:VEVENT
BEGIN:VEVENT
DTSTAMP:20220301T000000Z
UID:5e1a00d7-3fcc-47ab-8f94-fbb41dd297d6@ClaytonBocce
DTSTART;TZID=America/Los_Angeles:20220503T183000
DTEND;TZID=America/Los_Angeles:20220503T213000
STATUS:CONFIRMED
SUMMARY:Shuga Bowlers vs Mai Tai Mayhem
DESCRIPTION:D:Tue 6:30pm group regular season match: Shuga B
 owlers vs. Mai Tai Mayhem
LOCATION:Ipsen Court 4
END:VEVENT
BEGIN:VEVENT
DTSTAMP:20220301T000000Z
UID:aac6a859-8b09-48e1-8818-875ac62d7bb4@ClaytonBocce
DTSTART;TZID=America/Los_Angeles:20220517T183000
DTEND;TZID=America/Los_Angeles:20220517T213000
STATUS:CONFIRMED
SUMMARY:Shuga Bowlers vs When in Rome
DESCRIPTION:D:Tue 6:30pm group regular season match: Shuga B
 owlers vs. When in Rome
LOCATION:Ipsen Court 4
END:VEVENT
BEGIN:VEVENT
DTSTAMP:20220301T000000Z
UID:47d572ea-e7dc-4a06-a912-e4f15674ebcf@ClaytonBocce
DTSTART;TZID=America/Los_Angeles:20220524T183000
DTEND;TZID=America/Los_Angeles:20220524T213000
STATUS:CONFIRMED
SUMMARY:Shuga Bowlers vs Rollin Donuts
DESCRIPTION:D:Tue 6:30pm group regular season match: Shuga B
 owlers vs. Rollin Donuts
LOCATION:Ipsen Court 3
END:VEVENT
BEGIN:VEVENT
DTSTAMP:20220421T100005Z
UID:14a74bee-688f-42d5-bcfd-0e59f1dd635e@ClaytonBocce
DTSTART;TZID=America/Los_Angeles:20220614T183000
DTEND;TZID=America/Los_Angeles:20220614T213000
STATUS:CONFIRMED
SUMMARY:Shuga Bowlers vs High Rollers
DESCRIPTION:D:Tue 6:30pm group regular season match: Shuga B
 owlers vs. High Rollers (Makeup match for game(s) canceled o
 n 6:30 pm)
LOCATION:Ipsen Court 1
END:VEVENT
END:VCALENDAR
