BEGIN:VCALENDAR
VERSION:2.0
PRODID:-//Clayton Bocce League
METHOD:PUBLISH
BEGIN:VTIMEZONE
TZID:America/Los_Angeles
X-LIC-LOCATION:America/Los_Angeles
BEGIN:DAYLIGHT
TZOFFSETFROM:-0800
TZOFFSETTO:-0700
TZNAME:PDT
DTSTART:20070311T020000
RRULE:FREQ=YEARLY;BYMONTH=3;BYDAY=2SU
END:DAYLIGHT
BEGIN:STANDARD
TZOFFSETFROM:-0700
TZOFFSETTO:-0800
TZNAME:PST
DTSTART:20071104T020000
RRULE:FREQ=YEARLY;BYMONTH=11;BYDAY=1SU
END:STANDARD
END:VTIMEZONE
BEGIN:VEVENT
DTSTAMP:20220301T000000Z
UID:9052724b-5d04-443c-9fde-fe47dede3e69@ClaytonBocce
DTSTART;TZID=America/Los_Angeles:20220308T183000
DTEND;TZID=America/Los_Angeles:20220308T213000
STATUS:CONFIRMED
SUMMARY:Mai Tai Mayhem vs Rollin Donuts
DESCRIPTION:D:Tue 6:30pm group regular season match: Mai Tai
  Mayhem vs. Rollin Donuts
LOCATION:Ipsen Court 3
END:VEVENT
BEGIN:VEVENT
DTSTAMP:20220301T000000Z
UID:3cca248c-e3ef-477f-b027-ca29f8a84473@ClaytonBocce
DTSTART;TZID=America/Los_Angeles:20220315T183000
DTEND;TZID=America/Los_Angeles:20220315T213000
STATUS:CONFIRMED
SUMMARY:Mai Tai Mayhem vs When in Rome
DESCRIPTION:D:Tue 6:30pm group regular season match: Mai Tai
  Mayhem vs. When in Rome
LOCATION:Ipsen Court 1
END:VEVENT
BEGIN:VEVENT
DTSTAMP:20220301T000000Z
UID:25aac746-73f1-4106-ba6b-4ceb11d769bf@ClaytonBocce
DTSTART;TZID=America/Los_Angeles:20220329T183000
DTEND;TZID=America/Los_Angeles:20220329T213000
STATUS:CONFIRMED
SUMMARY:Mai Tai Mayhem vs Rodie's Rollers II
DESCRIPTION:D:Tue 6:30pm group regular season match: Mai Tai
  Mayhem vs. Rodie's Rollers II
LOCATION:Ipsen Court 4
END:VEVENT
BEGIN:VEVENT
DTSTAMP:20220301T000000Z
UID:9db9405f-dcd2-4bc5-9d0d-7021170ac430@ClaytonBocce
DTSTART;TZID=America/Los_Angeles:20220405T183000
DTEND;TZID=America/Los_Angeles:20220405T213000
STATUS:CONFIRMED
SUMMARY:Mai Tai Mayhem vs Team Deboccery
DESCRIPTION:D:Tue 6:30pm group regular season match: Mai Tai
  Mayhem vs. Team Deboccery
LOCATION:Ipsen Court 1
END:VEVENT
BEGIN:VEVENT
DTSTAMP:20220301T000000Z
UID:a047d2fb-9a99-483b-a6ae-bf037acf45d8@ClaytonBocce
DTSTART;TZID=America/Los_Angeles:20220419T183000
DTEND;TZID=America/Los_Angeles:20220419T213000
STATUS:CONFIRMED
SUMMARY:Mai Tai Mayhem vs Pretty Pink Ponies X
DESCRIPTION:D:Tue 6:30pm group regular season match: Mai Tai
  Mayhem vs. Pretty Pink Ponies X
LOCATION:Ipsen Court 1
END:VEVENT
BEGIN:VEVENT
DTSTAMP:20220301T000000Z
UID:d4b84ccd-2ad2-48f3-858a-596199878a8e@ClaytonBocce
DTSTART;TZID=America/Los_Angeles:20220426T183000
DTEND;TZID=America/Los_Angeles:20220426T213000
STATUS:CONFIRMED
SUMMARY:Mai Tai Mayhem vs High Rollers
DESCRIPTION:D:Tue 6:30pm group regular season match: Mai Tai
  Mayhem vs. High Rollers
LOCATION:Ipsen Court 3
END:VEVENT
BEGIN:VEVENT
DTSTAMP:20220301T000000Z
UID:5e1a00d7-3fcc-47ab-8f94-fbb41dd297d6@ClaytonBocce
DTSTART;TZID=America/Los_Angeles:20220503T183000
DTEND;TZID=America/Los_Angeles:20220503T213000
STATUS:CONFIRMED
SUMMARY:Mai Tai Mayhem vs Shuga Bowlers
DESCRIPTION:D:Tue 6:30pm group regular season match: Mai Tai
  Mayhem vs. Shuga Bowlers
LOCATION:Ipsen Court 4
END:VEVENT
BEGIN:VEVENT
DTSTAMP:20220301T000000Z
UID:0f0b0d8a-6b14-4837-af62-5ad0022315aa@ClaytonBocce
DTSTART;TZID=America/Los_Angeles:20220517T183000
DTEND;TZID=America/Los_Angeles:20220517T213000
STATUS:CONFIRMED
SUMMARY:Mai Tai Mayhem vs Bacio Le Palle
DESCRIPTION:D:Tue 6:30pm group regular season match: Mai Tai
  Mayhem vs. Bacio Le Palle
LOCATION:Ipsen Court 2
END:VEVENT
BEGIN:VEVENT
DTSTAMP:20220301T000000Z
UID:9b7af2d4-32fc-4d6b-a85d-61505ddb07fa@ClaytonBocce
DTSTART;TZID=America/Los_Angeles:20220524T183000
DTEND;TZID=America/Los_Angeles:20220524T213000
STATUS:CONFIRMED
SUMMARY:Mai Tai Mayhem vs Padrini di Bocce
DESCRIPTION:D:Tue 6:30pm group regular season match: Mai Tai
  Mayhem vs. Padrini di Bocce
LOCATION:Ipsen Court 2
END:VEVENT
BEGIN:VEVENT
DTSTAMP:20220421T100005Z
UID:26e3a1ef-38fc-4a09-98b0-4c0615f152e3@ClaytonBocce
DTSTART;TZID=America/Los_Angeles:20220614T183000
DTEND;TZID=America/Los_Angeles:20220614T213000
STATUS:CONFIRMED
SUMMARY:Mai Tai Mayhem vs Rodie's Rollers II
DESCRIPTION:D:Tue 6:30pm group regular season match: Mai Tai
  Mayhem vs. Rodie's Rollers II (Makeup match for game(s) can
 celed on 6:30 pm)
LOCATION:Ipsen Court 4
END:VEVENT
END:VCALENDAR
