BEGIN:VCALENDAR
VERSION:2.0
PRODID:-//Clayton Bocce League
METHOD:PUBLISH
BEGIN:VTIMEZONE
TZID:America/Los_Angeles
X-LIC-LOCATION:America/Los_Angeles
BEGIN:DAYLIGHT
TZOFFSETFROM:-0800
TZOFFSETTO:-0700
TZNAME:PDT
DTSTART:20070311T020000
RRULE:FREQ=YEARLY;BYMONTH=3;BYDAY=2SU
END:DAYLIGHT
BEGIN:STANDARD
TZOFFSETFROM:-0700
TZOFFSETTO:-0800
TZNAME:PST
DTSTART:20071104T020000
RRULE:FREQ=YEARLY;BYMONTH=11;BYDAY=1SU
END:STANDARD
END:VTIMEZONE
BEGIN:VEVENT
DTSTAMP:20220301T000000Z
UID:9052724b-5d04-443c-9fde-fe47dede3e69@ClaytonBocce
DTSTART;TZID=America/Los_Angeles:20220308T183000
DTEND;TZID=America/Los_Angeles:20220308T213000
STATUS:CONFIRMED
SUMMARY:Rollin Donuts vs Mai Tai Mayhem
DESCRIPTION:D:Tue 6:30pm group regular season match: Rollin 
 Donuts vs. Mai Tai Mayhem
LOCATION:Ipsen Court 3
END:VEVENT
BEGIN:VEVENT
DTSTAMP:20220301T000000Z
UID:e97197ec-94f4-4996-8b94-15e0387cf5c4@ClaytonBocce
DTSTART;TZID=America/Los_Angeles:20220322T183000
DTEND;TZID=America/Los_Angeles:20220322T213000
STATUS:CONFIRMED
SUMMARY:Rollin Donuts vs High Rollers
DESCRIPTION:D:Tue 6:30pm group regular season match: Rollin 
 Donuts vs. High Rollers
LOCATION:Ipsen Court 1
END:VEVENT
BEGIN:VEVENT
DTSTAMP:20220301T000000Z
UID:723ef64b-f92b-45a2-b33d-6dc31c49a0cf@ClaytonBocce
DTSTART;TZID=America/Los_Angeles:20220329T183000
DTEND;TZID=America/Los_Angeles:20220329T213000
STATUS:CONFIRMED
SUMMARY:Rollin Donuts vs Pretty Pink Ponies X
DESCRIPTION:D:Tue 6:30pm group regular season match: Rollin 
 Donuts vs. Pretty Pink Ponies X
LOCATION:Ipsen Court 2
END:VEVENT
BEGIN:VEVENT
DTSTAMP:20220301T000000Z
UID:ada07a32-1bb9-4626-bc18-ccbbca5a3c6d@ClaytonBocce
DTSTART;TZID=America/Los_Angeles:20220405T183000
DTEND;TZID=America/Los_Angeles:20220405T213000
STATUS:CONFIRMED
SUMMARY:Rollin Donuts vs Bacio Le Palle
DESCRIPTION:D:Tue 6:30pm group regular season match: Rollin 
 Donuts vs. Bacio Le Palle
LOCATION:Ipsen Court 4
END:VEVENT
BEGIN:VEVENT
DTSTAMP:20220301T000000Z
UID:728209b4-96e6-474c-88ba-e3b6c0144fac@ClaytonBocce
DTSTART;TZID=America/Los_Angeles:20220419T183000
DTEND;TZID=America/Los_Angeles:20220419T213000
STATUS:CONFIRMED
SUMMARY:Rollin Donuts vs Rodie's Rollers II
DESCRIPTION:D:Tue 6:30pm group regular season match: Rollin 
 Donuts vs. Rodie's Rollers II
LOCATION:Ipsen Court 3
END:VEVENT
BEGIN:VEVENT
DTSTAMP:20220301T000000Z
UID:dda63135-c1fd-42ee-8a4c-9c78f7f6c1cb@ClaytonBocce
DTSTART;TZID=America/Los_Angeles:20220426T183000
DTEND;TZID=America/Los_Angeles:20220426T213000
STATUS:CONFIRMED
SUMMARY:Rollin Donuts vs Team Deboccery
DESCRIPTION:D:Tue 6:30pm group regular season match: Rollin 
 Donuts vs. Team Deboccery
LOCATION:Ipsen Court 4
END:VEVENT
BEGIN:VEVENT
DTSTAMP:20220301T000000Z
UID:4ef55f62-e1fc-4cf8-bc44-cbfba2bd8325@ClaytonBocce
DTSTART;TZID=America/Los_Angeles:20220503T183000
DTEND;TZID=America/Los_Angeles:20220503T213000
STATUS:CONFIRMED
SUMMARY:Rollin Donuts vs When in Rome
DESCRIPTION:D:Tue 6:30pm group regular season match: Rollin 
 Donuts vs. When in Rome
LOCATION:Ipsen Court 2
END:VEVENT
BEGIN:VEVENT
DTSTAMP:20220301T000000Z
UID:47d572ea-e7dc-4a06-a912-e4f15674ebcf@ClaytonBocce
DTSTART;TZID=America/Los_Angeles:20220524T183000
DTEND;TZID=America/Los_Angeles:20220524T213000
STATUS:CONFIRMED
SUMMARY:Rollin Donuts vs Shuga Bowlers
DESCRIPTION:D:Tue 6:30pm group regular season match: Rollin 
 Donuts vs. Shuga Bowlers
LOCATION:Ipsen Court 3
END:VEVENT
BEGIN:VEVENT
DTSTAMP:20220301T000000Z
UID:3ffb7f6a-65db-4daf-a1c9-a4a398d76dfa@ClaytonBocce
DTSTART;TZID=America/Los_Angeles:20220607T183000
DTEND;TZID=America/Los_Angeles:20220607T213000
STATUS:CONFIRMED
SUMMARY:Rollin Donuts vs Padrini di Bocce
DESCRIPTION:D:Tue 6:30pm group regular season match: Rollin 
 Donuts vs. Padrini di Bocce
LOCATION:Ipsen Court 1
END:VEVENT
BEGIN:VEVENT
DTSTAMP:20220421T100005Z
UID:03d2a37d-8715-4dc7-a174-933efbca1f38@ClaytonBocce
DTSTART;TZID=America/Los_Angeles:20220614T183000
DTEND;TZID=America/Los_Angeles:20220614T213000
STATUS:CONFIRMED
SUMMARY:Rollin Donuts vs Pretty Pink Ponies X
DESCRIPTION:D:Tue 6:30pm group regular season match: Rollin 
 Donuts vs. Pretty Pink Ponies X (Makeup match for game(s) ca
 nceled on 6:30 pm)
LOCATION:Ipsen Court 2
END:VEVENT
END:VCALENDAR
