BEGIN:VCALENDAR
VERSION:2.0
PRODID:-//Clayton Bocce League
METHOD:PUBLISH
BEGIN:VTIMEZONE
TZID:America/Los_Angeles
X-LIC-LOCATION:America/Los_Angeles
BEGIN:DAYLIGHT
TZOFFSETFROM:-0800
TZOFFSETTO:-0700
TZNAME:PDT
DTSTART:20070311T020000
RRULE:FREQ=YEARLY;BYMONTH=3;BYDAY=2SU
END:DAYLIGHT
BEGIN:STANDARD
TZOFFSETFROM:-0700
TZOFFSETTO:-0800
TZNAME:PST
DTSTART:20071104T020000
RRULE:FREQ=YEARLY;BYMONTH=11;BYDAY=1SU
END:STANDARD
END:VTIMEZONE
BEGIN:VEVENT
DTSTAMP:20220301T000000Z
UID:3790c663-0d3e-4eaa-a717-0d4f9990594e@ClaytonBocce
DTSTART;TZID=America/Los_Angeles:20220308T183000
DTEND;TZID=America/Los_Angeles:20220308T213000
STATUS:CONFIRMED
SUMMARY:Padrini di Bocce vs Team Deboccery
DESCRIPTION:D:Tue 6:30pm group regular season match: Padrini
  di Bocce vs. Team Deboccery
LOCATION:Ipsen Court 4
END:VEVENT
BEGIN:VEVENT
DTSTAMP:20220301T000000Z
UID:ba6a5757-5de3-4749-9fce-91f867a717b0@ClaytonBocce
DTSTART;TZID=America/Los_Angeles:20220315T183000
DTEND;TZID=America/Los_Angeles:20220315T213000
STATUS:CONFIRMED
SUMMARY:Padrini di Bocce vs Bacio Le Palle
DESCRIPTION:D:Tue 6:30pm group regular season match: Padrini
  di Bocce vs. Bacio Le Palle
LOCATION:Ipsen Court 3
END:VEVENT
BEGIN:VEVENT
DTSTAMP:20220301T000000Z
UID:65fe57ad-d4c5-4d33-b1fd-cb9a1143a2ac@ClaytonBocce
DTSTART;TZID=America/Los_Angeles:20220329T183000
DTEND;TZID=America/Los_Angeles:20220329T213000
STATUS:CONFIRMED
SUMMARY:Padrini di Bocce vs When in Rome
DESCRIPTION:D:Tue 6:30pm group regular season match: Padrini
  di Bocce vs. When in Rome
LOCATION:Ipsen Court 3
END:VEVENT
BEGIN:VEVENT
DTSTAMP:20220301T000000Z
UID:3e8e98ae-5d3e-4195-b547-d60ac30a1d4f@ClaytonBocce
DTSTART;TZID=America/Los_Angeles:20220405T183000
DTEND;TZID=America/Los_Angeles:20220405T213000
STATUS:CONFIRMED
SUMMARY:Padrini di Bocce vs Rodie's Rollers II
DESCRIPTION:D:Tue 6:30pm group regular season match: Padrini
  di Bocce vs. Rodie's Rollers II
LOCATION:Ipsen Court 2
END:VEVENT
BEGIN:VEVENT
DTSTAMP:20220301T000000Z
UID:a7e640d9-ccd7-4bba-a652-9dce833c3421@ClaytonBocce
DTSTART;TZID=America/Los_Angeles:20220419T183000
DTEND;TZID=America/Los_Angeles:20220419T213000
STATUS:CONFIRMED
SUMMARY:Padrini di Bocce vs High Rollers
DESCRIPTION:D:Tue 6:30pm group regular season match: Padrini
  di Bocce vs. High Rollers
LOCATION:Ipsen Court 4
END:VEVENT
BEGIN:VEVENT
DTSTAMP:20220301T000000Z
UID:41d4d387-ff24-4402-8ae3-f533f6b1bb8a@ClaytonBocce
DTSTART;TZID=America/Los_Angeles:20220426T183000
DTEND;TZID=America/Los_Angeles:20220426T213000
STATUS:CONFIRMED
SUMMARY:Padrini di Bocce vs Shuga Bowlers
DESCRIPTION:D:Tue 6:30pm group regular season match: Padrini
  di Bocce vs. Shuga Bowlers
LOCATION:Ipsen Court 2
END:VEVENT
BEGIN:VEVENT
DTSTAMP:20220301T000000Z
UID:799b5f95-49ab-450d-868d-4eeef4ab66dc@ClaytonBocce
DTSTART;TZID=America/Los_Angeles:20220503T183000
DTEND;TZID=America/Los_Angeles:20220503T213000
STATUS:CONFIRMED
SUMMARY:Padrini di Bocce vs Pretty Pink Ponies X
DESCRIPTION:D:Tue 6:30pm group regular season match: Padrini
  di Bocce vs. Pretty Pink Ponies X
LOCATION:Ipsen Court 1
END:VEVENT
BEGIN:VEVENT
DTSTAMP:20220301T000000Z
UID:9b7af2d4-32fc-4d6b-a85d-61505ddb07fa@ClaytonBocce
DTSTART;TZID=America/Los_Angeles:20220524T183000
DTEND;TZID=America/Los_Angeles:20220524T213000
STATUS:CONFIRMED
SUMMARY:Padrini di Bocce vs Mai Tai Mayhem
DESCRIPTION:D:Tue 6:30pm group regular season match: Padrini
  di Bocce vs. Mai Tai Mayhem
LOCATION:Ipsen Court 2
END:VEVENT
BEGIN:VEVENT
DTSTAMP:20220301T000000Z
UID:3ffb7f6a-65db-4daf-a1c9-a4a398d76dfa@ClaytonBocce
DTSTART;TZID=America/Los_Angeles:20220607T183000
DTEND;TZID=America/Los_Angeles:20220607T213000
STATUS:CONFIRMED
SUMMARY:Padrini di Bocce vs Rollin Donuts
DESCRIPTION:D:Tue 6:30pm group regular season match: Padrini
  di Bocce vs. Rollin Donuts
LOCATION:Ipsen Court 1
END:VEVENT
BEGIN:VEVENT
DTSTAMP:20220421T100005Z
UID:d08e5f37-fe7d-4c23-88a7-5816578b740d@ClaytonBocce
DTSTART;TZID=America/Los_Angeles:20220614T183000
DTEND;TZID=America/Los_Angeles:20220614T213000
STATUS:CONFIRMED
SUMMARY:Padrini di Bocce vs When in Rome
DESCRIPTION:D:Tue 6:30pm group regular season match: Padrini
  di Bocce vs. When in Rome (Makeup match for game(s) cancele
 d on 6:30 pm)
LOCATION:Ipsen Court 3
END:VEVENT
END:VCALENDAR
