BEGIN:VCALENDAR
VERSION:2.0
PRODID:-//Clayton Bocce League
METHOD:PUBLISH
BEGIN:VTIMEZONE
TZID:America/Los_Angeles
X-LIC-LOCATION:America/Los_Angeles
BEGIN:DAYLIGHT
TZOFFSETFROM:-0800
TZOFFSETTO:-0700
TZNAME:PDT
DTSTART:20070311T020000
RRULE:FREQ=YEARLY;BYMONTH=3;BYDAY=2SU
END:DAYLIGHT
BEGIN:STANDARD
TZOFFSETFROM:-0700
TZOFFSETTO:-0800
TZNAME:PST
DTSTART:20071104T020000
RRULE:FREQ=YEARLY;BYMONTH=11;BYDAY=1SU
END:STANDARD
END:VTIMEZONE
BEGIN:VEVENT
DTSTAMP:20220301T000000Z
UID:3cca248c-e3ef-477f-b027-ca29f8a84473@ClaytonBocce
DTSTART;TZID=America/Los_Angeles:20220315T183000
DTEND;TZID=America/Los_Angeles:20220315T213000
STATUS:CONFIRMED
SUMMARY:When in Rome vs Mai Tai Mayhem
DESCRIPTION:D:Tue 6:30pm group regular season match: When in
  Rome vs. Mai Tai Mayhem
LOCATION:Ipsen Court 1
END:VEVENT
BEGIN:VEVENT
DTSTAMP:20220301T000000Z
UID:4a1e0ee9-d173-4d23-a18d-52298ebb426f@ClaytonBocce
DTSTART;TZID=America/Los_Angeles:20220322T183000
DTEND;TZID=America/Los_Angeles:20220322T213000
STATUS:CONFIRMED
SUMMARY:When in Rome vs Rodie's Rollers II
DESCRIPTION:D:Tue 6:30pm group regular season match: When in
  Rome vs. Rodie's Rollers II
LOCATION:Ipsen Court 3
END:VEVENT
BEGIN:VEVENT
DTSTAMP:20220301T000000Z
UID:65fe57ad-d4c5-4d33-b1fd-cb9a1143a2ac@ClaytonBocce
DTSTART;TZID=America/Los_Angeles:20220329T183000
DTEND;TZID=America/Los_Angeles:20220329T213000
STATUS:CONFIRMED
SUMMARY:When in Rome vs Padrini di Bocce
DESCRIPTION:D:Tue 6:30pm group regular season match: When in
  Rome vs. Padrini di Bocce
LOCATION:Ipsen Court 3
END:VEVENT
BEGIN:VEVENT
DTSTAMP:20220301T000000Z
UID:d31efc83-4d0e-480a-9a56-a37988efb467@ClaytonBocce
DTSTART;TZID=America/Los_Angeles:20220412T183000
DTEND;TZID=America/Los_Angeles:20220412T213000
STATUS:CONFIRMED
SUMMARY:When in Rome vs Pretty Pink Ponies X
DESCRIPTION:D:Tue 6:30pm group regular season match: When in
  Rome vs. Pretty Pink Ponies X
LOCATION:Ipsen Court 2
END:VEVENT
BEGIN:VEVENT
DTSTAMP:20220301T000000Z
UID:d2820b7a-3f07-4fcf-9c46-6f3bba7a95a1@ClaytonBocce
DTSTART;TZID=America/Los_Angeles:20220419T183000
DTEND;TZID=America/Los_Angeles:20220419T213000
STATUS:CONFIRMED
SUMMARY:When in Rome vs Team Deboccery
DESCRIPTION:D:Tue 6:30pm group regular season match: When in
  Rome vs. Team Deboccery
LOCATION:Ipsen Court 2
END:VEVENT
BEGIN:VEVENT
DTSTAMP:20220301T000000Z
UID:1ae314dc-c06d-48ab-9de1-c92a8d322642@ClaytonBocce
DTSTART;TZID=America/Los_Angeles:20220426T183000
DTEND;TZID=America/Los_Angeles:20220426T213000
STATUS:CONFIRMED
SUMMARY:When in Rome vs Bacio Le Palle
DESCRIPTION:D:Tue 6:30pm group regular season match: When in
  Rome vs. Bacio Le Palle
LOCATION:Ipsen Court 1
END:VEVENT
BEGIN:VEVENT
DTSTAMP:20220301T000000Z
UID:4ef55f62-e1fc-4cf8-bc44-cbfba2bd8325@ClaytonBocce
DTSTART;TZID=America/Los_Angeles:20220503T183000
DTEND;TZID=America/Los_Angeles:20220503T213000
STATUS:CONFIRMED
SUMMARY:When in Rome vs Rollin Donuts
DESCRIPTION:D:Tue 6:30pm group regular season match: When in
  Rome vs. Rollin Donuts
LOCATION:Ipsen Court 2
END:VEVENT
BEGIN:VEVENT
DTSTAMP:20220301T000000Z
UID:aac6a859-8b09-48e1-8818-875ac62d7bb4@ClaytonBocce
DTSTART;TZID=America/Los_Angeles:20220517T183000
DTEND;TZID=America/Los_Angeles:20220517T213000
STATUS:CONFIRMED
SUMMARY:When in Rome vs Shuga Bowlers
DESCRIPTION:D:Tue 6:30pm group regular season match: When in
  Rome vs. Shuga Bowlers
LOCATION:Ipsen Court 4
END:VEVENT
BEGIN:VEVENT
DTSTAMP:20220301T000000Z
UID:13542c82-5db3-45b0-b13e-bc3a67b785e1@ClaytonBocce
DTSTART;TZID=America/Los_Angeles:20220607T183000
DTEND;TZID=America/Los_Angeles:20220607T213000
STATUS:CONFIRMED
SUMMARY:When in Rome vs High Rollers
DESCRIPTION:D:Tue 6:30pm group regular season match: When in
  Rome vs. High Rollers
LOCATION:Ipsen Court 4
END:VEVENT
BEGIN:VEVENT
DTSTAMP:20220421T100005Z
UID:d08e5f37-fe7d-4c23-88a7-5816578b740d@ClaytonBocce
DTSTART;TZID=America/Los_Angeles:20220614T183000
DTEND;TZID=America/Los_Angeles:20220614T213000
STATUS:CONFIRMED
SUMMARY:When in Rome vs Padrini di Bocce
DESCRIPTION:D:Tue 6:30pm group regular season match: When in
  Rome vs. Padrini di Bocce (Makeup match for game(s) cancele
 d on 6:30 pm)
LOCATION:Ipsen Court 3
END:VEVENT
END:VCALENDAR
