BEGIN:VCALENDAR
VERSION:2.0
PRODID:-//Clayton Bocce League
METHOD:PUBLISH
BEGIN:VTIMEZONE
TZID:America/Los_Angeles
X-LIC-LOCATION:America/Los_Angeles
BEGIN:DAYLIGHT
TZOFFSETFROM:-0800
TZOFFSETTO:-0700
TZNAME:PDT
DTSTART:20070311T020000
RRULE:FREQ=YEARLY;BYMONTH=3;BYDAY=2SU
END:DAYLIGHT
BEGIN:STANDARD
TZOFFSETFROM:-0700
TZOFFSETTO:-0800
TZNAME:PST
DTSTART:20071104T020000
RRULE:FREQ=YEARLY;BYMONTH=11;BYDAY=1SU
END:STANDARD
END:VTIMEZONE
BEGIN:VEVENT
DTSTAMP:20230701T000000Z
UID:e14cdda0-de0f-4299-bbdc-17b8372de7ec@ClaytonBocce
DTSTART;TZID=America/Los_Angeles:20230720T183000
DTEND;TZID=America/Los_Angeles:20230720T213000
STATUS:CONFIRMED
SUMMARY:Corn in the USA vs Chuck It
DESCRIPTION:M:Thu Night group regular season match: Corn in 
 the USA vs. Chuck It
LOCATION:Ipsen Court 1 South
END:VEVENT
BEGIN:VEVENT
DTSTAMP:20230701T000000Z
UID:cde86a23-9a6a-4f13-b56f-0d39345e438c@ClaytonBocce
DTSTART;TZID=America/Los_Angeles:20230727T200000
DTEND;TZID=America/Los_Angeles:20230727T230000
STATUS:CONFIRMED
SUMMARY:Corn in the USA vs Feeling Corny
DESCRIPTION:M:Thu Night group regular season match: Corn in 
 the USA vs. Feeling Corny
LOCATION:Ipsen Court 1 North
END:VEVENT
BEGIN:VEVENT
DTSTAMP:20230701T000000Z
UID:2a515f9d-d9d6-43d1-a23d-c49cb90b285e@ClaytonBocce
DTSTART;TZID=America/Los_Angeles:20230803T183000
DTEND;TZID=America/Los_Angeles:20230803T213000
STATUS:CONFIRMED
SUMMARY:Corn in the USA vs Honk If You’re Corny
DESCRIPTION:M:Thu Night group regular season match: Corn in 
 the USA vs. Honk If You’re Corny
LOCATION:Ipsen Court 1 South
END:VEVENT
BEGIN:VEVENT
DTSTAMP:20230701T000000Z
UID:48c8a449-bf6a-416c-b665-26d2534a0960@ClaytonBocce
DTSTART;TZID=America/Los_Angeles:20230810T200000
DTEND;TZID=America/Los_Angeles:20230810T230000
STATUS:CONFIRMED
SUMMARY:Corn in the USA vs Corn to Run
DESCRIPTION:M:Thu Night group regular season match: Corn in 
 the USA vs. Corn to Run
LOCATION:Ipsen Court 1 South
END:VEVENT
BEGIN:VEVENT
DTSTAMP:20230701T000000Z
UID:b2c77860-c198-4906-a5ea-06d2b085748e@ClaytonBocce
DTSTART;TZID=America/Los_Angeles:20230817T183000
DTEND;TZID=America/Los_Angeles:20230817T213000
STATUS:CONFIRMED
SUMMARY:Corn in the USA vs Dirtbags!
DESCRIPTION:M:Thu Night group regular season match: Corn in 
 the USA vs. Dirtbags!
LOCATION:Ipsen Court 1 North
END:VEVENT
BEGIN:VEVENT
DTSTAMP:20230701T000000Z
UID:fb5a547f-648a-4b6d-b86c-b0b5d61c3831@ClaytonBocce
DTSTART;TZID=America/Los_Angeles:20230824T200000
DTEND;TZID=America/Los_Angeles:20230824T230000
STATUS:CONFIRMED
SUMMARY:Corn in the USA vs The M.V.P's
DESCRIPTION:M:Thu Night group regular season match: Corn in 
 the USA vs. The M.V.P's
LOCATION:Ipsen Court 1 South
END:VEVENT
BEGIN:VEVENT
DTSTAMP:20230701T000000Z
UID:27435d07-5b4f-4236-9ea4-3fef20ff6a96@ClaytonBocce
DTSTART;TZID=America/Los_Angeles:20230831T183000
DTEND;TZID=America/Los_Angeles:20230831T213000
STATUS:CONFIRMED
SUMMARY:Corn in the USA vs Maized and Confused
DESCRIPTION:M:Thu Night group regular season match: Corn in 
 the USA vs. Maized and Confused
LOCATION:Ipsen Court 1 North
END:VEVENT
END:VCALENDAR
