BEGIN:VCALENDAR
VERSION:2.0
PRODID:-//Clayton Bocce League
METHOD:PUBLISH
BEGIN:VTIMEZONE
TZID:America/Los_Angeles
X-LIC-LOCATION:America/Los_Angeles
BEGIN:DAYLIGHT
TZOFFSETFROM:-0800
TZOFFSETTO:-0700
TZNAME:PDT
DTSTART:20070311T020000
RRULE:FREQ=YEARLY;BYMONTH=3;BYDAY=2SU
END:DAYLIGHT
BEGIN:STANDARD
TZOFFSETFROM:-0700
TZOFFSETTO:-0800
TZNAME:PST
DTSTART:20071104T020000
RRULE:FREQ=YEARLY;BYMONTH=11;BYDAY=1SU
END:STANDARD
END:VTIMEZONE
BEGIN:VEVENT
DTSTAMP:20230701T000000Z
UID:ef6bb0f9-5c12-4ac0-90ca-8cd442df5de4@ClaytonBocce
DTSTART;TZID=America/Los_Angeles:20230720T183000
DTEND;TZID=America/Los_Angeles:20230720T213000
STATUS:CONFIRMED
SUMMARY:Honk If You’re Corny vs Feeling Corny
DESCRIPTION:M:Thu Night group regular season match: Honk If 
 You’re Corny vs. Feeling Corny
LOCATION:Ipsen Court 1 North
END:VEVENT
BEGIN:VEVENT
DTSTAMP:20230701T000000Z
UID:82fe7f5d-dd37-47fd-8206-59b36becd1eb@ClaytonBocce
DTSTART;TZID=America/Los_Angeles:20230727T200000
DTEND;TZID=America/Los_Angeles:20230727T230000
STATUS:CONFIRMED
SUMMARY:Honk If You’re Corny vs Maized and Confused
DESCRIPTION:M:Thu Night group regular season match: Honk If 
 You’re Corny vs. Maized and Confused
LOCATION:Ipsen Court 1 South
END:VEVENT
BEGIN:VEVENT
DTSTAMP:20230701T000000Z
UID:2a515f9d-d9d6-43d1-a23d-c49cb90b285e@ClaytonBocce
DTSTART;TZID=America/Los_Angeles:20230803T183000
DTEND;TZID=America/Los_Angeles:20230803T213000
STATUS:CONFIRMED
SUMMARY:Honk If You’re Corny vs Corn in the USA
DESCRIPTION:M:Thu Night group regular season match: Honk If 
 You’re Corny vs. Corn in the USA
LOCATION:Ipsen Court 1 South
END:VEVENT
BEGIN:VEVENT
DTSTAMP:20230701T000000Z
UID:53d0d337-2d95-46c3-ad9d-cdc22636fe16@ClaytonBocce
DTSTART;TZID=America/Los_Angeles:20230810T200000
DTEND;TZID=America/Los_Angeles:20230810T230000
STATUS:CONFIRMED
SUMMARY:Honk If You’re Corny vs Chuck It
DESCRIPTION:M:Thu Night group regular season match: Honk If 
 You’re Corny vs. Chuck It
LOCATION:Ipsen Court 1 North
END:VEVENT
BEGIN:VEVENT
DTSTAMP:20230701T000000Z
UID:b276aad7-a000-4ed1-981b-60494002da24@ClaytonBocce
DTSTART;TZID=America/Los_Angeles:20230817T200000
DTEND;TZID=America/Los_Angeles:20230817T230000
STATUS:CONFIRMED
SUMMARY:Honk If You’re Corny vs The M.V.P's
DESCRIPTION:M:Thu Night group regular season match: Honk If 
 You’re Corny vs. The M.V.P's
LOCATION:Ipsen Court 1 North
END:VEVENT
BEGIN:VEVENT
DTSTAMP:20230701T000000Z
UID:223e1004-fe41-43a4-a294-8a5ea15c3abc@ClaytonBocce
DTSTART;TZID=America/Los_Angeles:20230824T183000
DTEND;TZID=America/Los_Angeles:20230824T213000
STATUS:CONFIRMED
SUMMARY:Honk If You’re Corny vs Corn to Run
DESCRIPTION:M:Thu Night group regular season match: Honk If 
 You’re Corny vs. Corn to Run
LOCATION:Ipsen Court 1 North
END:VEVENT
BEGIN:VEVENT
DTSTAMP:20230701T000000Z
UID:8361e8e6-b056-4889-8ef3-41309eac9615@ClaytonBocce
DTSTART;TZID=America/Los_Angeles:20230831T200000
DTEND;TZID=America/Los_Angeles:20230831T230000
STATUS:CONFIRMED
SUMMARY:Honk If You’re Corny vs Dirtbags!
DESCRIPTION:M:Thu Night group regular season match: Honk If 
 You’re Corny vs. Dirtbags!
LOCATION:Ipsen Court 1 North
END:VEVENT
END:VCALENDAR
