BEGIN:VCALENDAR
VERSION:2.0
PRODID:-//Clayton Bocce League
METHOD:PUBLISH
BEGIN:VTIMEZONE
TZID:America/Los_Angeles
X-LIC-LOCATION:America/Los_Angeles
BEGIN:DAYLIGHT
TZOFFSETFROM:-0800
TZOFFSETTO:-0700
TZNAME:PDT
DTSTART:20070311T020000
RRULE:FREQ=YEARLY;BYMONTH=3;BYDAY=2SU
END:DAYLIGHT
BEGIN:STANDARD
TZOFFSETFROM:-0700
TZOFFSETTO:-0800
TZNAME:PST
DTSTART:20071104T020000
RRULE:FREQ=YEARLY;BYMONTH=11;BYDAY=1SU
END:STANDARD
END:VTIMEZONE
BEGIN:VEVENT
DTSTAMP:20230701T000000Z
UID:34bcf53b-3672-4b34-a0b9-0c38d41a8955@ClaytonBocce
DTSTART;TZID=America/Los_Angeles:20230720T200000
DTEND;TZID=America/Los_Angeles:20230720T230000
STATUS:CONFIRMED
SUMMARY:The M.V.P's vs Dirtbags!
DESCRIPTION:M:Thu Night group regular season match: The M.V.
 P's vs. Dirtbags!
LOCATION:Ipsen Court 1 South
END:VEVENT
BEGIN:VEVENT
DTSTAMP:20230701T000000Z
UID:a12047b5-da42-4fee-b736-1dd6f3ccc88c@ClaytonBocce
DTSTART;TZID=America/Los_Angeles:20230727T183000
DTEND;TZID=America/Los_Angeles:20230727T213000
STATUS:CONFIRMED
SUMMARY:The M.V.P's vs Chuck It
DESCRIPTION:M:Thu Night group regular season match: The M.V.
 P's vs. Chuck It
LOCATION:Ipsen Court 1 North
END:VEVENT
BEGIN:VEVENT
DTSTAMP:20230701T000000Z
UID:db22693c-0973-4f71-b03b-b0fdbeb43f67@ClaytonBocce
DTSTART;TZID=America/Los_Angeles:20230803T183000
DTEND;TZID=America/Los_Angeles:20230803T213000
STATUS:CONFIRMED
SUMMARY:The M.V.P's vs Maized and Confused
DESCRIPTION:M:Thu Night group regular season match: The M.V.
 P's vs. Maized and Confused
LOCATION:Ipsen Court 1 North
END:VEVENT
BEGIN:VEVENT
DTSTAMP:20230701T000000Z
UID:b3498aee-f73c-4efc-af75-3c0e3403450a@ClaytonBocce
DTSTART;TZID=America/Los_Angeles:20230810T183000
DTEND;TZID=America/Los_Angeles:20230810T213000
STATUS:CONFIRMED
SUMMARY:The M.V.P's vs Feeling Corny
DESCRIPTION:M:Thu Night group regular season match: The M.V.
 P's vs. Feeling Corny
LOCATION:Ipsen Court 1 South
END:VEVENT
BEGIN:VEVENT
DTSTAMP:20230701T000000Z
UID:b276aad7-a000-4ed1-981b-60494002da24@ClaytonBocce
DTSTART;TZID=America/Los_Angeles:20230817T200000
DTEND;TZID=America/Los_Angeles:20230817T230000
STATUS:CONFIRMED
SUMMARY:The M.V.P's vs Honk If You’re Corny
DESCRIPTION:M:Thu Night group regular season match: The M.V.
 P's vs. Honk If You’re Corny
LOCATION:Ipsen Court 1 North
END:VEVENT
BEGIN:VEVENT
DTSTAMP:20230701T000000Z
UID:fb5a547f-648a-4b6d-b86c-b0b5d61c3831@ClaytonBocce
DTSTART;TZID=America/Los_Angeles:20230824T200000
DTEND;TZID=America/Los_Angeles:20230824T230000
STATUS:CONFIRMED
SUMMARY:The M.V.P's vs Corn in the USA
DESCRIPTION:M:Thu Night group regular season match: The M.V.
 P's vs. Corn in the USA
LOCATION:Ipsen Court 1 South
END:VEVENT
BEGIN:VEVENT
DTSTAMP:20230701T000000Z
UID:b734ceeb-ce30-419a-aaee-80ee8cf9d7fd@ClaytonBocce
DTSTART;TZID=America/Los_Angeles:20230831T183000
DTEND;TZID=America/Los_Angeles:20230831T213000
STATUS:CONFIRMED
SUMMARY:The M.V.P's vs Corn to Run
DESCRIPTION:M:Thu Night group regular season match: The M.V.
 P's vs. Corn to Run
LOCATION:Ipsen Court 1 South
END:VEVENT
END:VCALENDAR
