BEGIN:VCALENDAR
VERSION:2.0
PRODID:-//Clayton Bocce League
METHOD:PUBLISH
BEGIN:VTIMEZONE
TZID:America/Los_Angeles
X-LIC-LOCATION:America/Los_Angeles
BEGIN:DAYLIGHT
TZOFFSETFROM:-0800
TZOFFSETTO:-0700
TZNAME:PDT
DTSTART:20070311T020000
RRULE:FREQ=YEARLY;BYMONTH=3;BYDAY=2SU
END:DAYLIGHT
BEGIN:STANDARD
TZOFFSETFROM:-0700
TZOFFSETTO:-0800
TZNAME:PST
DTSTART:20071104T020000
RRULE:FREQ=YEARLY;BYMONTH=11;BYDAY=1SU
END:STANDARD
END:VTIMEZONE
BEGIN:VEVENT
DTSTAMP:20230701T000000Z
UID:44bc46aa-2247-4e9d-8be2-2fed65435d58@ClaytonBocce
DTSTART;TZID=America/Los_Angeles:20230720T200000
DTEND;TZID=America/Los_Angeles:20230720T230000
STATUS:CONFIRMED
SUMMARY:Maized and Confused vs Corn to Run
DESCRIPTION:M:Thu Night group regular season match: Maized a
 nd Confused vs. Corn to Run
LOCATION:Ipsen Court 1 North
END:VEVENT
BEGIN:VEVENT
DTSTAMP:20230701T000000Z
UID:82fe7f5d-dd37-47fd-8206-59b36becd1eb@ClaytonBocce
DTSTART;TZID=America/Los_Angeles:20230727T200000
DTEND;TZID=America/Los_Angeles:20230727T230000
STATUS:CONFIRMED
SUMMARY:Maized and Confused vs Honk If You’re Corny
DESCRIPTION:M:Thu Night group regular season match: Maized a
 nd Confused vs. Honk If You’re Corny
LOCATION:Ipsen Court 1 South
END:VEVENT
BEGIN:VEVENT
DTSTAMP:20230701T000000Z
UID:db22693c-0973-4f71-b03b-b0fdbeb43f67@ClaytonBocce
DTSTART;TZID=America/Los_Angeles:20230803T183000
DTEND;TZID=America/Los_Angeles:20230803T213000
STATUS:CONFIRMED
SUMMARY:Maized and Confused vs The M.V.P's
DESCRIPTION:M:Thu Night group regular season match: Maized a
 nd Confused vs. The M.V.P's
LOCATION:Ipsen Court 1 North
END:VEVENT
BEGIN:VEVENT
DTSTAMP:20230701T000000Z
UID:92cd8bd9-60b8-40bb-845c-24f7a1ad9594@ClaytonBocce
DTSTART;TZID=America/Los_Angeles:20230810T183000
DTEND;TZID=America/Los_Angeles:20230810T213000
STATUS:CONFIRMED
SUMMARY:Maized and Confused vs Dirtbags!
DESCRIPTION:M:Thu Night group regular season match: Maized a
 nd Confused vs. Dirtbags!
LOCATION:Ipsen Court 1 North
END:VEVENT
BEGIN:VEVENT
DTSTAMP:20230701T000000Z
UID:e422c462-67ca-43d5-bdd5-c2a186c294ec@ClaytonBocce
DTSTART;TZID=America/Los_Angeles:20230817T200000
DTEND;TZID=America/Los_Angeles:20230817T230000
STATUS:CONFIRMED
SUMMARY:Maized and Confused vs Feeling Corny
DESCRIPTION:M:Thu Night group regular season match: Maized a
 nd Confused vs. Feeling Corny
LOCATION:Ipsen Court 1 South
END:VEVENT
BEGIN:VEVENT
DTSTAMP:20230701T000000Z
UID:827e0a89-78f4-4725-a2ee-0ca89278a6a5@ClaytonBocce
DTSTART;TZID=America/Los_Angeles:20230824T200000
DTEND;TZID=America/Los_Angeles:20230824T230000
STATUS:CONFIRMED
SUMMARY:Maized and Confused vs Chuck It
DESCRIPTION:M:Thu Night group regular season match: Maized a
 nd Confused vs. Chuck It
LOCATION:Ipsen Court 1 North
END:VEVENT
BEGIN:VEVENT
DTSTAMP:20230701T000000Z
UID:27435d07-5b4f-4236-9ea4-3fef20ff6a96@ClaytonBocce
DTSTART;TZID=America/Los_Angeles:20230831T183000
DTEND;TZID=America/Los_Angeles:20230831T213000
STATUS:CONFIRMED
SUMMARY:Maized and Confused vs Corn in the USA
DESCRIPTION:M:Thu Night group regular season match: Maized a
 nd Confused vs. Corn in the USA
LOCATION:Ipsen Court 1 North
END:VEVENT
END:VCALENDAR
