BEGIN:VCALENDAR
VERSION:2.0
PRODID:-//Clayton Bocce League
METHOD:PUBLISH
BEGIN:VTIMEZONE
TZID:America/Los_Angeles
X-LIC-LOCATION:America/Los_Angeles
BEGIN:DAYLIGHT
TZOFFSETFROM:-0800
TZOFFSETTO:-0700
TZNAME:PDT
DTSTART:20070311T020000
RRULE:FREQ=YEARLY;BYMONTH=3;BYDAY=2SU
END:DAYLIGHT
BEGIN:STANDARD
TZOFFSETFROM:-0700
TZOFFSETTO:-0800
TZNAME:PST
DTSTART:20071104T020000
RRULE:FREQ=YEARLY;BYMONTH=11;BYDAY=1SU
END:STANDARD
END:VTIMEZONE
BEGIN:VEVENT
DTSTAMP:20230715T000000Z
UID:6293016f-3953-457c-9bf0-9b2fad138583@ClaytonBocce
DTSTART;TZID=America/Los_Angeles:20230719T183000
DTEND;TZID=America/Los_Angeles:20230719T213000
STATUS:CONFIRMED
SUMMARY:Skip-Pallino vs Team Pallino
DESCRIPTION:E:Wed Night group regular season match: Skip-Pal
 lino vs. Team Pallino
LOCATION:Ipsen Court 2
END:VEVENT
BEGIN:VEVENT
DTSTAMP:20230715T000000Z
UID:a7e05c0d-acdf-41ac-a24b-80198ee138cd@ClaytonBocce
DTSTART;TZID=America/Los_Angeles:20230726T183000
DTEND;TZID=America/Los_Angeles:20230726T213000
STATUS:CONFIRMED
SUMMARY:Skip-Pallino vs Downtown Bocce
DESCRIPTION:E:Wed Night group regular season match: Skip-Pal
 lino vs. Downtown Bocce
LOCATION:Ipsen Court 3
END:VEVENT
BEGIN:VEVENT
DTSTAMP:20230715T000000Z
UID:d9e489a9-1a7c-470b-959b-ea0fa1c1ab97@ClaytonBocce
DTSTART;TZID=America/Los_Angeles:20230802T183000
DTEND;TZID=America/Los_Angeles:20230802T213000
STATUS:CONFIRMED
SUMMARY:Skip-Pallino vs The Soggy Ballers
DESCRIPTION:E:Wed Night group regular season match: Skip-Pal
 lino vs. The Soggy Ballers
LOCATION:Ipsen Court 2
END:VEVENT
BEGIN:VEVENT
DTSTAMP:20230715T000000Z
UID:a10859a4-d668-415a-a0f3-41193b5da810@ClaytonBocce
DTSTART;TZID=America/Los_Angeles:20230816T183000
DTEND;TZID=America/Los_Angeles:20230816T213000
STATUS:CONFIRMED
SUMMARY:Skip-Pallino vs Fuhgetabocce
DESCRIPTION:E:Wed Night group regular season match: Skip-Pal
 lino vs. Fuhgetabocce
LOCATION:Ipsen Court 4
END:VEVENT
BEGIN:VEVENT
DTSTAMP:20230715T000000Z
UID:226bf2d9-b9e2-4111-9112-df5642fc1627@ClaytonBocce
DTSTART;TZID=America/Los_Angeles:20230823T183000
DTEND;TZID=America/Los_Angeles:20230823T213000
STATUS:CONFIRMED
SUMMARY:Skip-Pallino vs Son of a Be-occe
DESCRIPTION:E:Wed Night group regular season match: Skip-Pal
 lino vs. Son of a Be-occe
LOCATION:Ipsen Court 2
END:VEVENT
BEGIN:VEVENT
DTSTAMP:20230715T000000Z
UID:27690262-2756-4207-b4f4-495f7f0ca28c@ClaytonBocce
DTSTART;TZID=America/Los_Angeles:20230913T183000
DTEND;TZID=America/Los_Angeles:20230913T213000
STATUS:CONFIRMED
SUMMARY:Skip-Pallino vs Ball and Vine
DESCRIPTION:E:Wed Night group regular season match: Skip-Pal
 lino vs. Ball and Vine
LOCATION:Ipsen Court 4
END:VEVENT
BEGIN:VEVENT
DTSTAMP:20230715T000000Z
UID:5576727a-cdf2-4690-a744-1a42bd85c7bb@ClaytonBocce
DTSTART;TZID=America/Los_Angeles:20231004T183000
DTEND;TZID=America/Los_Angeles:20231004T213000
STATUS:CONFIRMED
SUMMARY:Skip-Pallino vs Notorious B.O.C.C.E.
DESCRIPTION:E:Wed Night group regular season match: Skip-Pal
 lino vs. Notorious B.O.C.C.E.
LOCATION:Ipsen Court 1
END:VEVENT
BEGIN:VEVENT
DTSTAMP:20230715T000000Z
UID:34b2c8a9-d281-47e8-bf4e-0f3b42bcc24b@ClaytonBocce
DTSTART;TZID=America/Los_Angeles:20231011T183000
DTEND;TZID=America/Los_Angeles:20231011T213000
STATUS:CONFIRMED
SUMMARY:Skip-Pallino vs Ed’s Mudville Grill
DESCRIPTION:E:Wed Night group regular season match: Skip-Pal
 lino vs. Ed’s Mudville Grill
LOCATION:Ipsen Court 3
END:VEVENT
BEGIN:VEVENT
DTSTAMP:20230715T000000Z
UID:1a708d22-f13d-4b8e-b86a-9cb7a88e5d86@ClaytonBocce
DTSTART;TZID=America/Los_Angeles:20231018T183000
DTEND;TZID=America/Los_Angeles:20231018T213000
STATUS:CONFIRMED
SUMMARY:Skip-Pallino vs Bella Vino
DESCRIPTION:E:Wed Night group regular season match: Skip-Pal
 lino vs. Bella Vino
LOCATION:Ipsen Court 2
END:VEVENT
END:VCALENDAR
