BEGIN:VCALENDAR
VERSION:2.0
PRODID:-//Clayton Bocce League
METHOD:PUBLISH
BEGIN:VTIMEZONE
TZID:America/Los_Angeles
X-LIC-LOCATION:America/Los_Angeles
BEGIN:DAYLIGHT
TZOFFSETFROM:-0800
TZOFFSETTO:-0700
TZNAME:PDT
DTSTART:20070311T020000
RRULE:FREQ=YEARLY;BYMONTH=3;BYDAY=2SU
END:DAYLIGHT
BEGIN:STANDARD
TZOFFSETFROM:-0700
TZOFFSETTO:-0800
TZNAME:PST
DTSTART:20071104T020000
RRULE:FREQ=YEARLY;BYMONTH=11;BYDAY=1SU
END:STANDARD
END:VTIMEZONE
BEGIN:VEVENT
DTSTAMP:20230715T000000Z
UID:0adc9a4c-4675-4b31-9c92-0c3ee679e339@ClaytonBocce
DTSTART;TZID=America/Los_Angeles:20230719T183000
DTEND;TZID=America/Los_Angeles:20230719T213000
STATUS:CONFIRMED
SUMMARY:Downtown Bocce vs Son of a Be-occe
DESCRIPTION:E:Wed Night group regular season match: Downtown
  Bocce vs. Son of a Be-occe
LOCATION:Ipsen Court 4
END:VEVENT
BEGIN:VEVENT
DTSTAMP:20230715T000000Z
UID:a7e05c0d-acdf-41ac-a24b-80198ee138cd@ClaytonBocce
DTSTART;TZID=America/Los_Angeles:20230726T183000
DTEND;TZID=America/Los_Angeles:20230726T213000
STATUS:CONFIRMED
SUMMARY:Downtown Bocce vs Skip-Pallino
DESCRIPTION:E:Wed Night group regular season match: Downtown
  Bocce vs. Skip-Pallino
LOCATION:Ipsen Court 3
END:VEVENT
BEGIN:VEVENT
DTSTAMP:20230715T000000Z
UID:55bc0e70-a8f3-4c14-9be2-1307ec5829f4@ClaytonBocce
DTSTART;TZID=America/Los_Angeles:20230809T183000
DTEND;TZID=America/Los_Angeles:20230809T213000
STATUS:CONFIRMED
SUMMARY:Downtown Bocce vs Bella Vino
DESCRIPTION:E:Wed Night group regular season match: Downtown
  Bocce vs. Bella Vino
LOCATION:Ipsen Court 2
END:VEVENT
BEGIN:VEVENT
DTSTAMP:20230715T000000Z
UID:97ae9278-1a3f-4204-953d-54def425d1bc@ClaytonBocce
DTSTART;TZID=America/Los_Angeles:20230823T183000
DTEND;TZID=America/Los_Angeles:20230823T213000
STATUS:CONFIRMED
SUMMARY:Downtown Bocce vs Ball and Vine
DESCRIPTION:E:Wed Night group regular season match: Downtown
  Bocce vs. Ball and Vine
LOCATION:Ipsen Court 3
END:VEVENT
BEGIN:VEVENT
DTSTAMP:20230715T000000Z
UID:d9be2bd9-a775-4623-baf0-aa35cc7e9f80@ClaytonBocce
DTSTART;TZID=America/Los_Angeles:20230913T183000
DTEND;TZID=America/Los_Angeles:20230913T213000
STATUS:CONFIRMED
SUMMARY:Downtown Bocce vs Ed’s Mudville Grill
DESCRIPTION:E:Wed Night group regular season match: Downtown
  Bocce vs. Ed’s Mudville Grill
LOCATION:Ipsen Court 2
END:VEVENT
BEGIN:VEVENT
DTSTAMP:20230715T000000Z
UID:0866fda8-ba60-41d4-a350-cd435bfb5461@ClaytonBocce
DTSTART;TZID=America/Los_Angeles:20230920T183000
DTEND;TZID=America/Los_Angeles:20230920T213000
STATUS:CONFIRMED
SUMMARY:Downtown Bocce vs Notorious B.O.C.C.E.
DESCRIPTION:E:Wed Night group regular season match: Downtown
  Bocce vs. Notorious B.O.C.C.E.
LOCATION:Ipsen Court 3
END:VEVENT
BEGIN:VEVENT
DTSTAMP:20230715T000000Z
UID:0337268b-5d03-4a68-9012-3fe8675e9bde@ClaytonBocce
DTSTART;TZID=America/Los_Angeles:20230927T183000
DTEND;TZID=America/Los_Angeles:20230927T213000
STATUS:CONFIRMED
SUMMARY:Downtown Bocce vs Team Pallino
DESCRIPTION:E:Wed Night group regular season match: Downtown
  Bocce vs. Team Pallino
LOCATION:Ipsen Court 4
END:VEVENT
BEGIN:VEVENT
DTSTAMP:20230715T000000Z
UID:c04907ba-67c9-45bf-b838-bc6be9ec3542@ClaytonBocce
DTSTART;TZID=America/Los_Angeles:20231004T183000
DTEND;TZID=America/Los_Angeles:20231004T213000
STATUS:CONFIRMED
SUMMARY:Downtown Bocce vs The Soggy Ballers
DESCRIPTION:E:Wed Night group regular season match: Downtown
  Bocce vs. The Soggy Ballers
LOCATION:Ipsen Court 2
END:VEVENT
BEGIN:VEVENT
DTSTAMP:20230715T000000Z
UID:3074a053-7466-4b0a-9793-7ea1dfa87024@ClaytonBocce
DTSTART;TZID=America/Los_Angeles:20231011T183000
DTEND;TZID=America/Los_Angeles:20231011T213000
STATUS:CONFIRMED
SUMMARY:Downtown Bocce vs Fuhgetabocce
DESCRIPTION:E:Wed Night group regular season match: Downtown
  Bocce vs. Fuhgetabocce
LOCATION:Ipsen Court 1
END:VEVENT
END:VCALENDAR
