BEGIN:VCALENDAR
VERSION:2.0
PRODID:-//Clayton Bocce League
METHOD:PUBLISH
BEGIN:VTIMEZONE
TZID:America/Los_Angeles
X-LIC-LOCATION:America/Los_Angeles
BEGIN:DAYLIGHT
TZOFFSETFROM:-0800
TZOFFSETTO:-0700
TZNAME:PDT
DTSTART:20070311T020000
RRULE:FREQ=YEARLY;BYMONTH=3;BYDAY=2SU
END:DAYLIGHT
BEGIN:STANDARD
TZOFFSETFROM:-0700
TZOFFSETTO:-0800
TZNAME:PST
DTSTART:20071104T020000
RRULE:FREQ=YEARLY;BYMONTH=11;BYDAY=1SU
END:STANDARD
END:VTIMEZONE
BEGIN:VEVENT
DTSTAMP:20230715T000000Z
UID:36e3c3c0-1c56-4949-8c40-6eecbcfdceeb@ClaytonBocce
DTSTART;TZID=America/Los_Angeles:20230726T183000
DTEND;TZID=America/Los_Angeles:20230726T213000
STATUS:CONFIRMED
SUMMARY:Fuhgetabocce vs Son of a Be-occe
DESCRIPTION:E:Wed Night group regular season match: Fuhgetab
 occe vs. Son of a Be-occe
LOCATION:Ipsen Court 4
END:VEVENT
BEGIN:VEVENT
DTSTAMP:20230715T000000Z
UID:d165c3e0-6e68-44e1-b115-39025e7d0139@ClaytonBocce
DTSTART;TZID=America/Los_Angeles:20230802T183000
DTEND;TZID=America/Los_Angeles:20230802T213000
STATUS:CONFIRMED
SUMMARY:Fuhgetabocce vs Notorious B.O.C.C.E.
DESCRIPTION:E:Wed Night group regular season match: Fuhgetab
 occe vs. Notorious B.O.C.C.E.
LOCATION:Ipsen Court 3
END:VEVENT
BEGIN:VEVENT
DTSTAMP:20230715T000000Z
UID:b3674a1b-7dc8-4d34-90a8-661cc2a71805@ClaytonBocce
DTSTART;TZID=America/Los_Angeles:20230809T183000
DTEND;TZID=America/Los_Angeles:20230809T213000
STATUS:CONFIRMED
SUMMARY:Fuhgetabocce vs Ed’s Mudville Grill
DESCRIPTION:E:Wed Night group regular season match: Fuhgetab
 occe vs. Ed’s Mudville Grill
LOCATION:Ipsen Court 4
END:VEVENT
BEGIN:VEVENT
DTSTAMP:20230715T000000Z
UID:a10859a4-d668-415a-a0f3-41193b5da810@ClaytonBocce
DTSTART;TZID=America/Los_Angeles:20230816T183000
DTEND;TZID=America/Los_Angeles:20230816T213000
STATUS:CONFIRMED
SUMMARY:Fuhgetabocce vs Skip-Pallino
DESCRIPTION:E:Wed Night group regular season match: Fuhgetab
 occe vs. Skip-Pallino
LOCATION:Ipsen Court 4
END:VEVENT
BEGIN:VEVENT
DTSTAMP:20230715T000000Z
UID:b834a07f-c0ac-49b5-b313-fa87a5ddca5d@ClaytonBocce
DTSTART;TZID=America/Los_Angeles:20230913T183000
DTEND;TZID=America/Los_Angeles:20230913T213000
STATUS:CONFIRMED
SUMMARY:Fuhgetabocce vs The Soggy Ballers
DESCRIPTION:E:Wed Night group regular season match: Fuhgetab
 occe vs. The Soggy Ballers
LOCATION:Ipsen Court 3
END:VEVENT
BEGIN:VEVENT
DTSTAMP:20230715T000000Z
UID:371ef8d7-16be-482b-86dc-b85f69736edb@ClaytonBocce
DTSTART;TZID=America/Los_Angeles:20230920T183000
DTEND;TZID=America/Los_Angeles:20230920T213000
STATUS:CONFIRMED
SUMMARY:Fuhgetabocce vs Ball and Vine
DESCRIPTION:E:Wed Night group regular season match: Fuhgetab
 occe vs. Ball and Vine
LOCATION:Ipsen Court 2
END:VEVENT
BEGIN:VEVENT
DTSTAMP:20230715T000000Z
UID:ac6d8529-ff1c-438b-bf0d-933ff7f72922@ClaytonBocce
DTSTART;TZID=America/Los_Angeles:20230927T183000
DTEND;TZID=America/Los_Angeles:20230927T213000
STATUS:CONFIRMED
SUMMARY:Fuhgetabocce vs Bella Vino
DESCRIPTION:E:Wed Night group regular season match: Fuhgetab
 occe vs. Bella Vino
LOCATION:Ipsen Court 1
END:VEVENT
BEGIN:VEVENT
DTSTAMP:20230715T000000Z
UID:3074a053-7466-4b0a-9793-7ea1dfa87024@ClaytonBocce
DTSTART;TZID=America/Los_Angeles:20231011T183000
DTEND;TZID=America/Los_Angeles:20231011T213000
STATUS:CONFIRMED
SUMMARY:Fuhgetabocce vs Downtown Bocce
DESCRIPTION:E:Wed Night group regular season match: Fuhgetab
 occe vs. Downtown Bocce
LOCATION:Ipsen Court 1
END:VEVENT
BEGIN:VEVENT
DTSTAMP:20230715T000000Z
UID:72e90b03-501d-41b5-8f32-5299c3ffa5bb@ClaytonBocce
DTSTART;TZID=America/Los_Angeles:20231018T183000
DTEND;TZID=America/Los_Angeles:20231018T213000
STATUS:CONFIRMED
SUMMARY:Fuhgetabocce vs Team Pallino
DESCRIPTION:E:Wed Night group regular season match: Fuhgetab
 occe vs. Team Pallino
LOCATION:Ipsen Court 3
END:VEVENT
END:VCALENDAR
