BEGIN:VCALENDAR
VERSION:2.0
PRODID:-//Clayton Bocce League
METHOD:PUBLISH
BEGIN:VTIMEZONE
TZID:America/Los_Angeles
X-LIC-LOCATION:America/Los_Angeles
BEGIN:DAYLIGHT
TZOFFSETFROM:-0800
TZOFFSETTO:-0700
TZNAME:PDT
DTSTART:20070311T020000
RRULE:FREQ=YEARLY;BYMONTH=3;BYDAY=2SU
END:DAYLIGHT
BEGIN:STANDARD
TZOFFSETFROM:-0700
TZOFFSETTO:-0800
TZNAME:PST
DTSTART:20071104T020000
RRULE:FREQ=YEARLY;BYMONTH=11;BYDAY=1SU
END:STANDARD
END:VTIMEZONE
BEGIN:VEVENT
DTSTAMP:20230715T000000Z
UID:d165c3e0-6e68-44e1-b115-39025e7d0139@ClaytonBocce
DTSTART;TZID=America/Los_Angeles:20230802T183000
DTEND;TZID=America/Los_Angeles:20230802T213000
STATUS:CONFIRMED
SUMMARY:Notorious B.O.C.C.E. vs Fuhgetabocce
DESCRIPTION:E:Wed Night group regular season match: Notoriou
 s B.O.C.C.E. vs. Fuhgetabocce
LOCATION:Ipsen Court 3
END:VEVENT
BEGIN:VEVENT
DTSTAMP:20230715T000000Z
UID:d673b1b2-d994-4833-a9a8-960918d65f00@ClaytonBocce
DTSTART;TZID=America/Los_Angeles:20230816T183000
DTEND;TZID=America/Los_Angeles:20230816T213000
STATUS:CONFIRMED
SUMMARY:Notorious B.O.C.C.E. vs Ed’s Mudville Grill
DESCRIPTION:E:Wed Night group regular season match: Notoriou
 s B.O.C.C.E. vs. Ed’s Mudville Grill
LOCATION:Ipsen Court 3
END:VEVENT
BEGIN:VEVENT
DTSTAMP:20230715T000000Z
UID:8a0be37a-b225-4a61-96fb-9627c7e62ca5@ClaytonBocce
DTSTART;TZID=America/Los_Angeles:20230823T183000
DTEND;TZID=America/Los_Angeles:20230823T213000
STATUS:CONFIRMED
SUMMARY:Notorious B.O.C.C.E. vs Team Pallino
DESCRIPTION:E:Wed Night group regular season match: Notoriou
 s B.O.C.C.E. vs. Team Pallino
LOCATION:Ipsen Court 4
END:VEVENT
BEGIN:VEVENT
DTSTAMP:20230715T000000Z
UID:88895c58-404f-4b93-b34a-aac0c970d281@ClaytonBocce
DTSTART;TZID=America/Los_Angeles:20230830T183000
DTEND;TZID=America/Los_Angeles:20230830T213000
STATUS:CONFIRMED
SUMMARY:Notorious B.O.C.C.E. vs Bella Vino
DESCRIPTION:E:Wed Night group regular season match: Notoriou
 s B.O.C.C.E. vs. Bella Vino
LOCATION:Ipsen Court 3
END:VEVENT
BEGIN:VEVENT
DTSTAMP:20230715T000000Z
UID:0866fda8-ba60-41d4-a350-cd435bfb5461@ClaytonBocce
DTSTART;TZID=America/Los_Angeles:20230920T183000
DTEND;TZID=America/Los_Angeles:20230920T213000
STATUS:CONFIRMED
SUMMARY:Notorious B.O.C.C.E. vs Downtown Bocce
DESCRIPTION:E:Wed Night group regular season match: Notoriou
 s B.O.C.C.E. vs. Downtown Bocce
LOCATION:Ipsen Court 3
END:VEVENT
BEGIN:VEVENT
DTSTAMP:20230715T000000Z
UID:28ec6c83-247a-4da2-ba5e-119af296b6b5@ClaytonBocce
DTSTART;TZID=America/Los_Angeles:20230927T183000
DTEND;TZID=America/Los_Angeles:20230927T213000
STATUS:CONFIRMED
SUMMARY:Notorious B.O.C.C.E. vs Son of a Be-occe
DESCRIPTION:E:Wed Night group regular season match: Notoriou
 s B.O.C.C.E. vs. Son of a Be-occe
LOCATION:Ipsen Court 2
END:VEVENT
BEGIN:VEVENT
DTSTAMP:20230715T000000Z
UID:5576727a-cdf2-4690-a744-1a42bd85c7bb@ClaytonBocce
DTSTART;TZID=America/Los_Angeles:20231004T183000
DTEND;TZID=America/Los_Angeles:20231004T213000
STATUS:CONFIRMED
SUMMARY:Notorious B.O.C.C.E. vs Skip-Pallino
DESCRIPTION:E:Wed Night group regular season match: Notoriou
 s B.O.C.C.E. vs. Skip-Pallino
LOCATION:Ipsen Court 1
END:VEVENT
BEGIN:VEVENT
DTSTAMP:20230715T000000Z
UID:54ea3898-424c-443a-b06f-25a87020a9e7@ClaytonBocce
DTSTART;TZID=America/Los_Angeles:20231011T183000
DTEND;TZID=America/Los_Angeles:20231011T213000
STATUS:CONFIRMED
SUMMARY:Notorious B.O.C.C.E. vs Ball and Vine
DESCRIPTION:E:Wed Night group regular season match: Notoriou
 s B.O.C.C.E. vs. Ball and Vine
LOCATION:Ipsen Court 2
END:VEVENT
BEGIN:VEVENT
DTSTAMP:20230715T000000Z
UID:5e1e92a6-49f5-45df-ac52-57b5d778b2ec@ClaytonBocce
DTSTART;TZID=America/Los_Angeles:20231018T183000
DTEND;TZID=America/Los_Angeles:20231018T213000
STATUS:CONFIRMED
SUMMARY:Notorious B.O.C.C.E. vs The Soggy Ballers
DESCRIPTION:E:Wed Night group regular season match: Notoriou
 s B.O.C.C.E. vs. The Soggy Ballers
LOCATION:Ipsen Court 4
END:VEVENT
END:VCALENDAR
