BEGIN:VCALENDAR
VERSION:2.0
PRODID:-//Clayton Bocce League
METHOD:PUBLISH
BEGIN:VTIMEZONE
TZID:America/Los_Angeles
X-LIC-LOCATION:America/Los_Angeles
BEGIN:DAYLIGHT
TZOFFSETFROM:-0800
TZOFFSETTO:-0700
TZNAME:PDT
DTSTART:20070311T020000
RRULE:FREQ=YEARLY;BYMONTH=3;BYDAY=2SU
END:DAYLIGHT
BEGIN:STANDARD
TZOFFSETFROM:-0700
TZOFFSETTO:-0800
TZNAME:PST
DTSTART:20071104T020000
RRULE:FREQ=YEARLY;BYMONTH=11;BYDAY=1SU
END:STANDARD
END:VTIMEZONE
BEGIN:VEVENT
DTSTAMP:20240708T000000Z
UID:278a449a-3aa9-4449-b330-fb81cc0f8f95@ClaytonBocce
DTSTART;TZID=America/Los_Angeles:20240714T133000
DTEND;TZID=America/Los_Angeles:20240714T163000
STATUS:CONFIRMED
SUMMARY:Bocce Bocce Bocce! Oi Oi Oi! vs Blenderheads Too
DESCRIPTION:A:Sun Afternoon group regular season match: Bocc
 e Bocce Bocce! Oi Oi Oi! vs. Blenderheads Too
LOCATION:Ipsen Court 1
END:VEVENT
BEGIN:VEVENT
DTSTAMP:20240708T000000Z
UID:78123088-140f-4061-85f0-ebe7a7397c54@ClaytonBocce
DTSTART;TZID=America/Los_Angeles:20240721T133000
DTEND;TZID=America/Los_Angeles:20240721T163000
STATUS:CONFIRMED
SUMMARY:Bocce Bocce Bocce! Oi Oi Oi! vs Rolling Rainbows
DESCRIPTION:A:Sun Afternoon group regular season match: Bocc
 e Bocce Bocce! Oi Oi Oi! vs. Rolling Rainbows
LOCATION:Ipsen Court 2
END:VEVENT
BEGIN:VEVENT
DTSTAMP:20240708T000000Z
UID:b9f925bb-ec15-41c1-9fb8-981b2ff72dc7@ClaytonBocce
DTSTART;TZID=America/Los_Angeles:20240728T133000
DTEND;TZID=America/Los_Angeles:20240728T163000
STATUS:CONFIRMED
SUMMARY:Bocce Bocce Bocce! Oi Oi Oi! vs The Pour Folk
DESCRIPTION:A:Sun Afternoon group regular season match: Bocc
 e Bocce Bocce! Oi Oi Oi! vs. The Pour Folk
LOCATION:Ipsen Court 3
END:VEVENT
BEGIN:VEVENT
DTSTAMP:20240708T000000Z
UID:60fed714-6dcf-42ed-9adc-a174ac1f8e88@ClaytonBocce
DTSTART;TZID=America/Los_Angeles:20240811T133000
DTEND;TZID=America/Los_Angeles:20240811T163000
STATUS:CONFIRMED
SUMMARY:Bocce Bocce Bocce! Oi Oi Oi! vs Grateful Heads
DESCRIPTION:A:Sun Afternoon group regular season match: Bocc
 e Bocce Bocce! Oi Oi Oi! vs. Grateful Heads
LOCATION:Ipsen Court 4
END:VEVENT
BEGIN:VEVENT
DTSTAMP:20240708T000000Z
UID:2d1123af-df7b-499c-87e3-324dd44efb47@ClaytonBocce
DTSTART;TZID=America/Los_Angeles:20240818T133000
DTEND;TZID=America/Los_Angeles:20240818T163000
STATUS:CONFIRMED
SUMMARY:Bocce Bocce Bocce! Oi Oi Oi! vs Rolling Thunder
DESCRIPTION:A:Sun Afternoon group regular season match: Bocc
 e Bocce Bocce! Oi Oi Oi! vs. Rolling Thunder
LOCATION:Ipsen Court 2
END:VEVENT
BEGIN:VEVENT
DTSTAMP:20240708T000000Z
UID:b7e3c99a-44d3-4bcf-9acf-b635c3448676@ClaytonBocce
DTSTART;TZID=America/Los_Angeles:20240825T133000
DTEND;TZID=America/Los_Angeles:20240825T163000
STATUS:CONFIRMED
SUMMARY:Bocce Bocce Bocce! Oi Oi Oi! vs East County Rollers 
 III
DESCRIPTION:A:Sun Afternoon group regular season match: Bocc
 e Bocce Bocce! Oi Oi Oi! vs. East County Rollers III
LOCATION:Ipsen Court 3
END:VEVENT
BEGIN:VEVENT
DTSTAMP:20240708T000000Z
UID:6ea14494-f469-4e17-8d73-71c0df554a0f@ClaytonBocce
DTSTART;TZID=America/Los_Angeles:20240915T133000
DTEND;TZID=America/Los_Angeles:20240915T163000
STATUS:CONFIRMED
SUMMARY:Bocce Bocce Bocce! Oi Oi Oi! vs Chewbocce Too
DESCRIPTION:A:Sun Afternoon group regular season match: Bocc
 e Bocce Bocce! Oi Oi Oi! vs. Chewbocce Too
LOCATION:Ipsen Court 4
END:VEVENT
BEGIN:VEVENT
DTSTAMP:20240708T000000Z
UID:5173899b-ad08-4371-af12-cfb868c72040@ClaytonBocce
DTSTART;TZID=America/Los_Angeles:20240922T133000
DTEND;TZID=America/Los_Angeles:20240922T163000
STATUS:CONFIRMED
SUMMARY:Bocce Bocce Bocce! Oi Oi Oi! vs Clayton Music!
DESCRIPTION:A:Sun Afternoon group regular season match: Bocc
 e Bocce Bocce! Oi Oi Oi! vs. Clayton Music!
LOCATION:Ipsen Court 3
END:VEVENT
BEGIN:VEVENT
DTSTAMP:20240708T000000Z
UID:1e204a79-d2eb-4a91-a571-079f07094ce9@ClaytonBocce
DTSTART;TZID=America/Los_Angeles:20240929T133000
DTEND;TZID=America/Los_Angeles:20240929T163000
STATUS:CONFIRMED
SUMMARY:Bocce Bocce Bocce! Oi Oi Oi! vs How Hard Can It Be
DESCRIPTION:A:Sun Afternoon group regular season match: Bocc
 e Bocce Bocce! Oi Oi Oi! vs. How Hard Can It Be
LOCATION:Ipsen Court 1
END:VEVENT
END:VCALENDAR
