BEGIN:VCALENDAR
VERSION:2.0
PRODID:-//Clayton Bocce League
METHOD:PUBLISH
BEGIN:VTIMEZONE
TZID:America/Los_Angeles
X-LIC-LOCATION:America/Los_Angeles
BEGIN:DAYLIGHT
TZOFFSETFROM:-0800
TZOFFSETTO:-0700
TZNAME:PDT
DTSTART:20070311T020000
RRULE:FREQ=YEARLY;BYMONTH=3;BYDAY=2SU
END:DAYLIGHT
BEGIN:STANDARD
TZOFFSETFROM:-0700
TZOFFSETTO:-0800
TZNAME:PST
DTSTART:20071104T020000
RRULE:FREQ=YEARLY;BYMONTH=11;BYDAY=1SU
END:STANDARD
END:VTIMEZONE
BEGIN:VEVENT
DTSTAMP:20240708T000000Z
UID:dae42eff-bc25-4108-b219-de62be71304c@ClaytonBocce
DTSTART;TZID=America/Los_Angeles:20240714T133000
DTEND;TZID=America/Los_Angeles:20240714T163000
STATUS:CONFIRMED
SUMMARY:Rolling Rainbows vs Clayton Music!
DESCRIPTION:A:Sun Afternoon group regular season match: Roll
 ing Rainbows vs. Clayton Music!
LOCATION:Ipsen Court 2
END:VEVENT
BEGIN:VEVENT
DTSTAMP:20240708T000000Z
UID:78123088-140f-4061-85f0-ebe7a7397c54@ClaytonBocce
DTSTART;TZID=America/Los_Angeles:20240721T133000
DTEND;TZID=America/Los_Angeles:20240721T163000
STATUS:CONFIRMED
SUMMARY:Rolling Rainbows vs Bocce Bocce Bocce! Oi Oi Oi!
DESCRIPTION:A:Sun Afternoon group regular season match: Roll
 ing Rainbows vs. Bocce Bocce Bocce! Oi Oi Oi!
LOCATION:Ipsen Court 2
END:VEVENT
BEGIN:VEVENT
DTSTAMP:20240708T000000Z
UID:6bc5524d-9868-41dc-aab8-d320c0ce4eea@ClaytonBocce
DTSTART;TZID=America/Los_Angeles:20240728T133000
DTEND;TZID=America/Los_Angeles:20240728T163000
STATUS:CONFIRMED
SUMMARY:Rolling Rainbows vs East County Rollers III
DESCRIPTION:A:Sun Afternoon group regular season match: Roll
 ing Rainbows vs. East County Rollers III
LOCATION:Ipsen Court 1
END:VEVENT
BEGIN:VEVENT
DTSTAMP:20240708T000000Z
UID:72c81260-0895-4c1a-a111-317f8c47335f@ClaytonBocce
DTSTART;TZID=America/Los_Angeles:20240804T133000
DTEND;TZID=America/Los_Angeles:20240804T163000
STATUS:CONFIRMED
SUMMARY:Rolling Rainbows vs How Hard Can It Be
DESCRIPTION:A:Sun Afternoon group regular season match: Roll
 ing Rainbows vs. How Hard Can It Be
LOCATION:Ipsen Court 3
END:VEVENT
BEGIN:VEVENT
DTSTAMP:20240708T000000Z
UID:7380eb40-47cb-44a1-9d17-492312807a1b@ClaytonBocce
DTSTART;TZID=America/Los_Angeles:20240811T133000
DTEND;TZID=America/Los_Angeles:20240811T163000
STATUS:CONFIRMED
SUMMARY:Rolling Rainbows vs Blenderheads Too
DESCRIPTION:A:Sun Afternoon group regular season match: Roll
 ing Rainbows vs. Blenderheads Too
LOCATION:Ipsen Court 1
END:VEVENT
BEGIN:VEVENT
DTSTAMP:20240708T000000Z
UID:c8276439-9f13-4c30-995d-1b566510ab30@ClaytonBocce
DTSTART;TZID=America/Los_Angeles:20240825T133000
DTEND;TZID=America/Los_Angeles:20240825T163000
STATUS:CONFIRMED
SUMMARY:Rolling Rainbows vs Rolling Thunder
DESCRIPTION:A:Sun Afternoon group regular season match: Roll
 ing Rainbows vs. Rolling Thunder
LOCATION:Ipsen Court 4
END:VEVENT
BEGIN:VEVENT
DTSTAMP:20240708T000000Z
UID:7aafc546-f227-4a03-800b-48afaeaefe75@ClaytonBocce
DTSTART;TZID=America/Los_Angeles:20240908T133000
DTEND;TZID=America/Los_Angeles:20240908T163000
STATUS:CONFIRMED
SUMMARY:Rolling Rainbows vs Grateful Heads
DESCRIPTION:A:Sun Afternoon group regular season match: Roll
 ing Rainbows vs. Grateful Heads
LOCATION:Ipsen Court 3
END:VEVENT
BEGIN:VEVENT
DTSTAMP:20240708T000000Z
UID:1ecc699a-2d6f-4a5b-9222-79730aa5cfa5@ClaytonBocce
DTSTART;TZID=America/Los_Angeles:20240929T133000
DTEND;TZID=America/Los_Angeles:20240929T163000
STATUS:CONFIRMED
SUMMARY:Rolling Rainbows vs Chewbocce Too
DESCRIPTION:A:Sun Afternoon group regular season match: Roll
 ing Rainbows vs. Chewbocce Too
LOCATION:Ipsen Court 3
END:VEVENT
BEGIN:VEVENT
DTSTAMP:20240708T000000Z
UID:5631553b-aaff-4102-b6d6-8d9f09f94a46@ClaytonBocce
DTSTART;TZID=America/Los_Angeles:20241013T133000
DTEND;TZID=America/Los_Angeles:20241013T163000
STATUS:CONFIRMED
SUMMARY:Rolling Rainbows vs The Pour Folk
DESCRIPTION:A:Sun Afternoon group regular season match: Roll
 ing Rainbows vs. The Pour Folk
LOCATION:Ipsen Court 4
END:VEVENT
END:VCALENDAR
