BEGIN:VCALENDAR
VERSION:2.0
PRODID:-//Clayton Bocce League
METHOD:PUBLISH
BEGIN:VTIMEZONE
TZID:America/Los_Angeles
X-LIC-LOCATION:America/Los_Angeles
BEGIN:DAYLIGHT
TZOFFSETFROM:-0800
TZOFFSETTO:-0700
TZNAME:PDT
DTSTART:20070311T020000
RRULE:FREQ=YEARLY;BYMONTH=3;BYDAY=2SU
END:DAYLIGHT
BEGIN:STANDARD
TZOFFSETFROM:-0700
TZOFFSETTO:-0800
TZNAME:PST
DTSTART:20071104T020000
RRULE:FREQ=YEARLY;BYMONTH=11;BYDAY=1SU
END:STANDARD
END:VTIMEZONE
BEGIN:VEVENT
DTSTAMP:20240708T000000Z
UID:dae42eff-bc25-4108-b219-de62be71304c@ClaytonBocce
DTSTART;TZID=America/Los_Angeles:20240714T133000
DTEND;TZID=America/Los_Angeles:20240714T163000
STATUS:CONFIRMED
SUMMARY:Clayton Music! vs Rolling Rainbows
DESCRIPTION:A:Sun Afternoon group regular season match: Clay
 ton Music! vs. Rolling Rainbows
LOCATION:Ipsen Court 2
END:VEVENT
BEGIN:VEVENT
DTSTAMP:20240708T000000Z
UID:85833a09-b0dc-4fc7-826f-f632f05aac26@ClaytonBocce
DTSTART;TZID=America/Los_Angeles:20240721T133000
DTEND;TZID=America/Los_Angeles:20240721T163000
STATUS:CONFIRMED
SUMMARY:Clayton Music! vs Rolling Thunder
DESCRIPTION:A:Sun Afternoon group regular season match: Clay
 ton Music! vs. Rolling Thunder
LOCATION:Ipsen Court 3
END:VEVENT
BEGIN:VEVENT
DTSTAMP:20240708T000000Z
UID:c1145a51-e896-4f84-bf05-6eab4dd15014@ClaytonBocce
DTSTART;TZID=America/Los_Angeles:20240728T133000
DTEND;TZID=America/Los_Angeles:20240728T163000
STATUS:CONFIRMED
SUMMARY:Clayton Music! vs Chewbocce Too
DESCRIPTION:A:Sun Afternoon group regular season match: Clay
 ton Music! vs. Chewbocce Too
LOCATION:Ipsen Court 4
END:VEVENT
BEGIN:VEVENT
DTSTAMP:20240708T000000Z
UID:62d40691-cfb7-4c98-8c27-084dc3f87529@ClaytonBocce
DTSTART;TZID=America/Los_Angeles:20240804T133000
DTEND;TZID=America/Los_Angeles:20240804T163000
STATUS:CONFIRMED
SUMMARY:Clayton Music! vs Blenderheads Too
DESCRIPTION:A:Sun Afternoon group regular season match: Clay
 ton Music! vs. Blenderheads Too
LOCATION:Ipsen Court 1
END:VEVENT
BEGIN:VEVENT
DTSTAMP:20240708T000000Z
UID:734daeaa-9da0-4720-be37-827f07d4efc9@ClaytonBocce
DTSTART;TZID=America/Los_Angeles:20240818T133000
DTEND;TZID=America/Los_Angeles:20240818T163000
STATUS:CONFIRMED
SUMMARY:Clayton Music! vs East County Rollers III
DESCRIPTION:A:Sun Afternoon group regular season match: Clay
 ton Music! vs. East County Rollers III
LOCATION:Ipsen Court 4
END:VEVENT
BEGIN:VEVENT
DTSTAMP:20240708T000000Z
UID:b0802f19-3d42-4371-8509-7332d4a9c8da@ClaytonBocce
DTSTART;TZID=America/Los_Angeles:20240908T133000
DTEND;TZID=America/Los_Angeles:20240908T163000
STATUS:CONFIRMED
SUMMARY:Clayton Music! vs The Pour Folk
DESCRIPTION:A:Sun Afternoon group regular season match: Clay
 ton Music! vs. The Pour Folk
LOCATION:Ipsen Court 1
END:VEVENT
BEGIN:VEVENT
DTSTAMP:20240708T000000Z
UID:5173899b-ad08-4371-af12-cfb868c72040@ClaytonBocce
DTSTART;TZID=America/Los_Angeles:20240922T133000
DTEND;TZID=America/Los_Angeles:20240922T163000
STATUS:CONFIRMED
SUMMARY:Clayton Music! vs Bocce Bocce Bocce! Oi Oi Oi!
DESCRIPTION:A:Sun Afternoon group regular season match: Clay
 ton Music! vs. Bocce Bocce Bocce! Oi Oi Oi!
LOCATION:Ipsen Court 3
END:VEVENT
BEGIN:VEVENT
DTSTAMP:20240708T000000Z
UID:173173d7-f4e4-4dc6-9f09-6a6d434afb53@ClaytonBocce
DTSTART;TZID=America/Los_Angeles:20240929T133000
DTEND;TZID=America/Los_Angeles:20240929T163000
STATUS:CONFIRMED
SUMMARY:Clayton Music! vs Grateful Heads
DESCRIPTION:A:Sun Afternoon group regular season match: Clay
 ton Music! vs. Grateful Heads
LOCATION:Ipsen Court 2
END:VEVENT
BEGIN:VEVENT
DTSTAMP:20240708T000000Z
UID:017f4863-c3b0-419e-b7d6-754861043940@ClaytonBocce
DTSTART;TZID=America/Los_Angeles:20241013T133000
DTEND;TZID=America/Los_Angeles:20241013T163000
STATUS:CONFIRMED
SUMMARY:Clayton Music! vs How Hard Can It Be
DESCRIPTION:A:Sun Afternoon group regular season match: Clay
 ton Music! vs. How Hard Can It Be
LOCATION:Ipsen Court 3
END:VEVENT
END:VCALENDAR
