BEGIN:VCALENDAR
VERSION:2.0
PRODID:-//Clayton Bocce League
METHOD:PUBLISH
BEGIN:VTIMEZONE
TZID:America/Los_Angeles
X-LIC-LOCATION:America/Los_Angeles
BEGIN:DAYLIGHT
TZOFFSETFROM:-0800
TZOFFSETTO:-0700
TZNAME:PDT
DTSTART:20070311T020000
RRULE:FREQ=YEARLY;BYMONTH=3;BYDAY=2SU
END:DAYLIGHT
BEGIN:STANDARD
TZOFFSETFROM:-0700
TZOFFSETTO:-0800
TZNAME:PST
DTSTART:20071104T020000
RRULE:FREQ=YEARLY;BYMONTH=11;BYDAY=1SU
END:STANDARD
END:VTIMEZONE
BEGIN:VEVENT
DTSTAMP:20240708T000000Z
UID:2c615365-c0c2-43b1-8576-13525e01b974@ClaytonBocce
DTSTART;TZID=America/Los_Angeles:20240714T133000
DTEND;TZID=America/Los_Angeles:20240714T163000
STATUS:CONFIRMED
SUMMARY:Grateful Heads vs East County Rollers III
DESCRIPTION:A:Sun Afternoon group regular season match: Grat
 eful Heads vs. East County Rollers III
LOCATION:Ipsen Court 3
END:VEVENT
BEGIN:VEVENT
DTSTAMP:20240708T000000Z
UID:f7d0f774-92b1-44c2-8623-df1975d2ca07@ClaytonBocce
DTSTART;TZID=America/Los_Angeles:20240721T133000
DTEND;TZID=America/Los_Angeles:20240721T163000
STATUS:CONFIRMED
SUMMARY:Grateful Heads vs The Pour Folk
DESCRIPTION:A:Sun Afternoon group regular season match: Grat
 eful Heads vs. The Pour Folk
LOCATION:Ipsen Court 1
END:VEVENT
BEGIN:VEVENT
DTSTAMP:20240708T000000Z
UID:60fed714-6dcf-42ed-9adc-a174ac1f8e88@ClaytonBocce
DTSTART;TZID=America/Los_Angeles:20240811T133000
DTEND;TZID=America/Los_Angeles:20240811T163000
STATUS:CONFIRMED
SUMMARY:Grateful Heads vs Bocce Bocce Bocce! Oi Oi Oi!
DESCRIPTION:A:Sun Afternoon group regular season match: Grat
 eful Heads vs. Bocce Bocce Bocce! Oi Oi Oi!
LOCATION:Ipsen Court 4
END:VEVENT
BEGIN:VEVENT
DTSTAMP:20240708T000000Z
UID:21f86e01-b81d-4152-9738-c112582323be@ClaytonBocce
DTSTART;TZID=America/Los_Angeles:20240818T133000
DTEND;TZID=America/Los_Angeles:20240818T163000
STATUS:CONFIRMED
SUMMARY:Grateful Heads vs How Hard Can It Be
DESCRIPTION:A:Sun Afternoon group regular season match: Grat
 eful Heads vs. How Hard Can It Be
LOCATION:Ipsen Court 1
END:VEVENT
BEGIN:VEVENT
DTSTAMP:20240708T000000Z
UID:9e1af581-3c2b-4741-9552-cb898602ff7a@ClaytonBocce
DTSTART;TZID=America/Los_Angeles:20240825T133000
DTEND;TZID=America/Los_Angeles:20240825T163000
STATUS:CONFIRMED
SUMMARY:Grateful Heads vs Chewbocce Too
DESCRIPTION:A:Sun Afternoon group regular season match: Grat
 eful Heads vs. Chewbocce Too
LOCATION:Ipsen Court 1
END:VEVENT
BEGIN:VEVENT
DTSTAMP:20240708T000000Z
UID:7aafc546-f227-4a03-800b-48afaeaefe75@ClaytonBocce
DTSTART;TZID=America/Los_Angeles:20240908T133000
DTEND;TZID=America/Los_Angeles:20240908T163000
STATUS:CONFIRMED
SUMMARY:Grateful Heads vs Rolling Rainbows
DESCRIPTION:A:Sun Afternoon group regular season match: Grat
 eful Heads vs. Rolling Rainbows
LOCATION:Ipsen Court 3
END:VEVENT
BEGIN:VEVENT
DTSTAMP:20240708T000000Z
UID:928e156c-0b0f-4033-9640-12dde64f28e0@ClaytonBocce
DTSTART;TZID=America/Los_Angeles:20240915T133000
DTEND;TZID=America/Los_Angeles:20240915T163000
STATUS:CONFIRMED
SUMMARY:Grateful Heads vs Rolling Thunder
DESCRIPTION:A:Sun Afternoon group regular season match: Grat
 eful Heads vs. Rolling Thunder
LOCATION:Ipsen Court 2
END:VEVENT
BEGIN:VEVENT
DTSTAMP:20240708T000000Z
UID:b893936d-8058-4e18-8909-b05e034cfc64@ClaytonBocce
DTSTART;TZID=America/Los_Angeles:20240922T133000
DTEND;TZID=America/Los_Angeles:20240922T163000
STATUS:CONFIRMED
SUMMARY:Grateful Heads vs Blenderheads Too
DESCRIPTION:A:Sun Afternoon group regular season match: Grat
 eful Heads vs. Blenderheads Too
LOCATION:Ipsen Court 4
END:VEVENT
BEGIN:VEVENT
DTSTAMP:20240708T000000Z
UID:173173d7-f4e4-4dc6-9f09-6a6d434afb53@ClaytonBocce
DTSTART;TZID=America/Los_Angeles:20240929T133000
DTEND;TZID=America/Los_Angeles:20240929T163000
STATUS:CONFIRMED
SUMMARY:Grateful Heads vs Clayton Music!
DESCRIPTION:A:Sun Afternoon group regular season match: Grat
 eful Heads vs. Clayton Music!
LOCATION:Ipsen Court 2
END:VEVENT
END:VCALENDAR
