BEGIN:VCALENDAR
VERSION:2.0
PRODID:-//Clayton Bocce League
METHOD:PUBLISH
BEGIN:VTIMEZONE
TZID:America/Los_Angeles
X-LIC-LOCATION:America/Los_Angeles
BEGIN:DAYLIGHT
TZOFFSETFROM:-0800
TZOFFSETTO:-0700
TZNAME:PDT
DTSTART:20070311T020000
RRULE:FREQ=YEARLY;BYMONTH=3;BYDAY=2SU
END:DAYLIGHT
BEGIN:STANDARD
TZOFFSETFROM:-0700
TZOFFSETTO:-0800
TZNAME:PST
DTSTART:20071104T020000
RRULE:FREQ=YEARLY;BYMONTH=11;BYDAY=1SU
END:STANDARD
END:VTIMEZONE
BEGIN:VEVENT
DTSTAMP:20240708T000000Z
UID:2c615365-c0c2-43b1-8576-13525e01b974@ClaytonBocce
DTSTART;TZID=America/Los_Angeles:20240714T133000
DTEND;TZID=America/Los_Angeles:20240714T163000
STATUS:CONFIRMED
SUMMARY:East County Rollers III vs Grateful Heads
DESCRIPTION:A:Sun Afternoon group regular season match: East
  County Rollers III vs. Grateful Heads
LOCATION:Ipsen Court 3
END:VEVENT
BEGIN:VEVENT
DTSTAMP:20240708T000000Z
UID:6bc5524d-9868-41dc-aab8-d320c0ce4eea@ClaytonBocce
DTSTART;TZID=America/Los_Angeles:20240728T133000
DTEND;TZID=America/Los_Angeles:20240728T163000
STATUS:CONFIRMED
SUMMARY:East County Rollers III vs Rolling Rainbows
DESCRIPTION:A:Sun Afternoon group regular season match: East
  County Rollers III vs. Rolling Rainbows
LOCATION:Ipsen Court 1
END:VEVENT
BEGIN:VEVENT
DTSTAMP:20240708T000000Z
UID:727d37c9-d01a-402e-9ccb-8ea44a268fa1@ClaytonBocce
DTSTART;TZID=America/Los_Angeles:20240811T133000
DTEND;TZID=America/Los_Angeles:20240811T163000
STATUS:CONFIRMED
SUMMARY:East County Rollers III vs Chewbocce Too
DESCRIPTION:A:Sun Afternoon group regular season match: East
  County Rollers III vs. Chewbocce Too
LOCATION:Ipsen Court 2
END:VEVENT
BEGIN:VEVENT
DTSTAMP:20240708T000000Z
UID:734daeaa-9da0-4720-be37-827f07d4efc9@ClaytonBocce
DTSTART;TZID=America/Los_Angeles:20240818T133000
DTEND;TZID=America/Los_Angeles:20240818T163000
STATUS:CONFIRMED
SUMMARY:East County Rollers III vs Clayton Music!
DESCRIPTION:A:Sun Afternoon group regular season match: East
  County Rollers III vs. Clayton Music!
LOCATION:Ipsen Court 4
END:VEVENT
BEGIN:VEVENT
DTSTAMP:20240708T000000Z
UID:b7e3c99a-44d3-4bcf-9acf-b635c3448676@ClaytonBocce
DTSTART;TZID=America/Los_Angeles:20240825T133000
DTEND;TZID=America/Los_Angeles:20240825T163000
STATUS:CONFIRMED
SUMMARY:East County Rollers III vs Bocce Bocce Bocce! Oi Oi 
 Oi!
DESCRIPTION:A:Sun Afternoon group regular season match: East
  County Rollers III vs. Bocce Bocce Bocce! Oi Oi Oi!
LOCATION:Ipsen Court 3
END:VEVENT
BEGIN:VEVENT
DTSTAMP:20240708T000000Z
UID:c6473191-1a8f-4a0c-9f8e-d2f88ad90baa@ClaytonBocce
DTSTART;TZID=America/Los_Angeles:20240908T133000
DTEND;TZID=America/Los_Angeles:20240908T163000
STATUS:CONFIRMED
SUMMARY:East County Rollers III vs How Hard Can It Be
DESCRIPTION:A:Sun Afternoon group regular season match: East
  County Rollers III vs. How Hard Can It Be
LOCATION:Ipsen Court 4
END:VEVENT
BEGIN:VEVENT
DTSTAMP:20240708T000000Z
UID:22449e64-df84-4cb6-a35b-5ae88f21c785@ClaytonBocce
DTSTART;TZID=America/Los_Angeles:20240915T133000
DTEND;TZID=America/Los_Angeles:20240915T163000
STATUS:CONFIRMED
SUMMARY:East County Rollers III vs Blenderheads Too
DESCRIPTION:A:Sun Afternoon group regular season match: East
  County Rollers III vs. Blenderheads Too
LOCATION:Ipsen Court 3
END:VEVENT
BEGIN:VEVENT
DTSTAMP:20240708T000000Z
UID:43084c6f-cdf2-4a1c-a406-12c08a877f25@ClaytonBocce
DTSTART;TZID=America/Los_Angeles:20240922T133000
DTEND;TZID=America/Los_Angeles:20240922T163000
STATUS:CONFIRMED
SUMMARY:East County Rollers III vs The Pour Folk
DESCRIPTION:A:Sun Afternoon group regular season match: East
  County Rollers III vs. The Pour Folk
LOCATION:Ipsen Court 2
END:VEVENT
BEGIN:VEVENT
DTSTAMP:20240708T000000Z
UID:9be811f8-a788-419c-b951-166661ecb686@ClaytonBocce
DTSTART;TZID=America/Los_Angeles:20241013T133000
DTEND;TZID=America/Los_Angeles:20241013T163000
STATUS:CONFIRMED
SUMMARY:East County Rollers III vs Rolling Thunder
DESCRIPTION:A:Sun Afternoon group regular season match: East
  County Rollers III vs. Rolling Thunder
LOCATION:Ipsen Court 1
END:VEVENT
END:VCALENDAR
