BEGIN:VCALENDAR
VERSION:2.0
PRODID:-//Clayton Bocce League
METHOD:PUBLISH
BEGIN:VTIMEZONE
TZID:America/Los_Angeles
X-LIC-LOCATION:America/Los_Angeles
BEGIN:DAYLIGHT
TZOFFSETFROM:-0800
TZOFFSETTO:-0700
TZNAME:PDT
DTSTART:20070311T020000
RRULE:FREQ=YEARLY;BYMONTH=3;BYDAY=2SU
END:DAYLIGHT
BEGIN:STANDARD
TZOFFSETFROM:-0700
TZOFFSETTO:-0800
TZNAME:PST
DTSTART:20071104T020000
RRULE:FREQ=YEARLY;BYMONTH=11;BYDAY=1SU
END:STANDARD
END:VTIMEZONE
BEGIN:VEVENT
DTSTAMP:20240708T000000Z
UID:d8ec8962-ee53-4e2b-97aa-268bac000fbd@ClaytonBocce
DTSTART;TZID=America/Los_Angeles:20240714T183000
DTEND;TZID=America/Los_Angeles:20240714T213000
STATUS:CONFIRMED
SUMMARY:Block Party vs Bada Bing
DESCRIPTION:B:Sun Night group regular season match: Block Pa
 rty vs. Bada Bing
LOCATION:Ipsen Court 1
END:VEVENT
BEGIN:VEVENT
DTSTAMP:20240708T000000Z
UID:9a84c82e-0cb3-45cf-89b8-37f14be56ad7@ClaytonBocce
DTSTART;TZID=America/Los_Angeles:20240721T183000
DTEND;TZID=America/Los_Angeles:20240721T213000
STATUS:CONFIRMED
SUMMARY:Block Party vs That’s How We Roll
DESCRIPTION:B:Sun Night group regular season match: Block Pa
 rty vs. That’s How We Roll
LOCATION:Ipsen Court 2
END:VEVENT
BEGIN:VEVENT
DTSTAMP:20240708T000000Z
UID:c54fc165-5d04-4b56-86a6-03ac8c0c44bb@ClaytonBocce
DTSTART;TZID=America/Los_Angeles:20240728T183000
DTEND;TZID=America/Los_Angeles:20240728T213000
STATUS:CONFIRMED
SUMMARY:Block Party vs Rowdy Rollers
DESCRIPTION:B:Sun Night group regular season match: Block Pa
 rty vs. Rowdy Rollers
LOCATION:Ipsen Court 3
END:VEVENT
BEGIN:VEVENT
DTSTAMP:20240708T000000Z
UID:114215ff-24bf-475c-b0d7-5658d0325ed4@ClaytonBocce
DTSTART;TZID=America/Los_Angeles:20240811T183000
DTEND;TZID=America/Los_Angeles:20240811T213000
STATUS:CONFIRMED
SUMMARY:Block Party vs Fireballs II
DESCRIPTION:B:Sun Night group regular season match: Block Pa
 rty vs. Fireballs II
LOCATION:Ipsen Court 4
END:VEVENT
BEGIN:VEVENT
DTSTAMP:20240708T000000Z
UID:f8488ccc-b97e-4df1-b9f2-d7abaaf27748@ClaytonBocce
DTSTART;TZID=America/Los_Angeles:20240818T183000
DTEND;TZID=America/Los_Angeles:20240818T213000
STATUS:CONFIRMED
SUMMARY:Block Party vs The Winers
DESCRIPTION:B:Sun Night group regular season match: Block Pa
 rty vs. The Winers
LOCATION:Ipsen Court 2
END:VEVENT
BEGIN:VEVENT
DTSTAMP:20240708T000000Z
UID:3f1b078a-fba9-4713-9b06-b52ecba58aaf@ClaytonBocce
DTSTART;TZID=America/Los_Angeles:20240825T183000
DTEND;TZID=America/Los_Angeles:20240825T213000
STATUS:CONFIRMED
SUMMARY:Block Party vs Empty Nesters
DESCRIPTION:B:Sun Night group regular season match: Block Pa
 rty vs. Empty Nesters
LOCATION:Ipsen Court 3
END:VEVENT
BEGIN:VEVENT
DTSTAMP:20240708T000000Z
UID:1ce7e0e9-b433-4c04-9621-79aa37b1fb43@ClaytonBocce
DTSTART;TZID=America/Los_Angeles:20240915T183000
DTEND;TZID=America/Los_Angeles:20240915T213000
STATUS:CONFIRMED
SUMMARY:Block Party vs Bocce Buddies
DESCRIPTION:B:Sun Night group regular season match: Block Pa
 rty vs. Bocce Buddies
LOCATION:Ipsen Court 4
END:VEVENT
BEGIN:VEVENT
DTSTAMP:20240708T000000Z
UID:01727853-6a2c-4f65-b4b5-1500922aacab@ClaytonBocce
DTSTART;TZID=America/Los_Angeles:20240922T183000
DTEND;TZID=America/Los_Angeles:20240922T213000
STATUS:CONFIRMED
SUMMARY:Block Party vs Bocceholics
DESCRIPTION:B:Sun Night group regular season match: Block Pa
 rty vs. Bocceholics
LOCATION:Ipsen Court 3
END:VEVENT
BEGIN:VEVENT
DTSTAMP:20240708T000000Z
UID:3a00be9b-b48c-456d-9ee7-15f4003e64a6@ClaytonBocce
DTSTART;TZID=America/Los_Angeles:20240929T183000
DTEND;TZID=America/Los_Angeles:20240929T213000
STATUS:CONFIRMED
SUMMARY:Block Party vs Meadow Maulers
DESCRIPTION:B:Sun Night group regular season match: Block Pa
 rty vs. Meadow Maulers
LOCATION:Ipsen Court 1
END:VEVENT
END:VCALENDAR
