BEGIN:VCALENDAR
VERSION:2.0
PRODID:-//Clayton Bocce League
METHOD:PUBLISH
BEGIN:VTIMEZONE
TZID:America/Los_Angeles
X-LIC-LOCATION:America/Los_Angeles
BEGIN:DAYLIGHT
TZOFFSETFROM:-0800
TZOFFSETTO:-0700
TZNAME:PDT
DTSTART:20070311T020000
RRULE:FREQ=YEARLY;BYMONTH=3;BYDAY=2SU
END:DAYLIGHT
BEGIN:STANDARD
TZOFFSETFROM:-0700
TZOFFSETTO:-0800
TZNAME:PST
DTSTART:20071104T020000
RRULE:FREQ=YEARLY;BYMONTH=11;BYDAY=1SU
END:STANDARD
END:VTIMEZONE
BEGIN:VEVENT
DTSTAMP:20240708T000000Z
UID:5e5605d7-a7f9-47ad-a742-5043c536dcde@ClaytonBocce
DTSTART;TZID=America/Los_Angeles:20240714T183000
DTEND;TZID=America/Los_Angeles:20240714T213000
STATUS:CONFIRMED
SUMMARY:That’s How We Roll vs Bocceholics
DESCRIPTION:B:Sun Night group regular season match: That’s H
 ow We Roll vs. Bocceholics
LOCATION:Ipsen Court 2
END:VEVENT
BEGIN:VEVENT
DTSTAMP:20240708T000000Z
UID:9a84c82e-0cb3-45cf-89b8-37f14be56ad7@ClaytonBocce
DTSTART;TZID=America/Los_Angeles:20240721T183000
DTEND;TZID=America/Los_Angeles:20240721T213000
STATUS:CONFIRMED
SUMMARY:That’s How We Roll vs Block Party
DESCRIPTION:B:Sun Night group regular season match: That’s H
 ow We Roll vs. Block Party
LOCATION:Ipsen Court 2
END:VEVENT
BEGIN:VEVENT
DTSTAMP:20240708T000000Z
UID:84da2314-66e7-465a-af25-0b4a771e5371@ClaytonBocce
DTSTART;TZID=America/Los_Angeles:20240728T183000
DTEND;TZID=America/Los_Angeles:20240728T213000
STATUS:CONFIRMED
SUMMARY:That’s How We Roll vs Empty Nesters
DESCRIPTION:B:Sun Night group regular season match: That’s H
 ow We Roll vs. Empty Nesters
LOCATION:Ipsen Court 1
END:VEVENT
BEGIN:VEVENT
DTSTAMP:20240708T000000Z
UID:625c3690-6f43-43a3-a6d2-6a5472a72999@ClaytonBocce
DTSTART;TZID=America/Los_Angeles:20240804T183000
DTEND;TZID=America/Los_Angeles:20240804T213000
STATUS:CONFIRMED
SUMMARY:That’s How We Roll vs Meadow Maulers
DESCRIPTION:B:Sun Night group regular season match: That’s H
 ow We Roll vs. Meadow Maulers
LOCATION:Ipsen Court 3
END:VEVENT
BEGIN:VEVENT
DTSTAMP:20240708T000000Z
UID:813f857a-7554-46d7-963e-6aa046a3af29@ClaytonBocce
DTSTART;TZID=America/Los_Angeles:20240811T183000
DTEND;TZID=America/Los_Angeles:20240811T213000
STATUS:CONFIRMED
SUMMARY:That’s How We Roll vs Bada Bing
DESCRIPTION:B:Sun Night group regular season match: That’s H
 ow We Roll vs. Bada Bing
LOCATION:Ipsen Court 1
END:VEVENT
BEGIN:VEVENT
DTSTAMP:20240708T000000Z
UID:4c2bcfa4-3fb6-4745-afe7-78e11962c982@ClaytonBocce
DTSTART;TZID=America/Los_Angeles:20240825T183000
DTEND;TZID=America/Los_Angeles:20240825T213000
STATUS:CONFIRMED
SUMMARY:That’s How We Roll vs The Winers
DESCRIPTION:B:Sun Night group regular season match: That’s H
 ow We Roll vs. The Winers
LOCATION:Ipsen Court 4
END:VEVENT
BEGIN:VEVENT
DTSTAMP:20240708T000000Z
UID:aa1ae7f5-e67a-4801-9538-f0df6efba1fb@ClaytonBocce
DTSTART;TZID=America/Los_Angeles:20240908T183000
DTEND;TZID=America/Los_Angeles:20240908T213000
STATUS:CONFIRMED
SUMMARY:That’s How We Roll vs Fireballs II
DESCRIPTION:B:Sun Night group regular season match: That’s H
 ow We Roll vs. Fireballs II
LOCATION:Ipsen Court 3
END:VEVENT
BEGIN:VEVENT
DTSTAMP:20240708T000000Z
UID:92c365c0-780e-45a0-9a57-0c4c35e46653@ClaytonBocce
DTSTART;TZID=America/Los_Angeles:20240929T183000
DTEND;TZID=America/Los_Angeles:20240929T213000
STATUS:CONFIRMED
SUMMARY:That’s How We Roll vs Bocce Buddies
DESCRIPTION:B:Sun Night group regular season match: That’s H
 ow We Roll vs. Bocce Buddies
LOCATION:Ipsen Court 3
END:VEVENT
BEGIN:VEVENT
DTSTAMP:20240708T000000Z
UID:5b2d3467-77c4-417f-84bc-93b7d906235f@ClaytonBocce
DTSTART;TZID=America/Los_Angeles:20241013T183000
DTEND;TZID=America/Los_Angeles:20241013T213000
STATUS:CONFIRMED
SUMMARY:That’s How We Roll vs Rowdy Rollers
DESCRIPTION:B:Sun Night group regular season match: That’s H
 ow We Roll vs. Rowdy Rollers
LOCATION:Ipsen Court 4
END:VEVENT
END:VCALENDAR
