BEGIN:VCALENDAR
VERSION:2.0
PRODID:-//Clayton Bocce League
METHOD:PUBLISH
BEGIN:VTIMEZONE
TZID:America/Los_Angeles
X-LIC-LOCATION:America/Los_Angeles
BEGIN:DAYLIGHT
TZOFFSETFROM:-0800
TZOFFSETTO:-0700
TZNAME:PDT
DTSTART:20070311T020000
RRULE:FREQ=YEARLY;BYMONTH=3;BYDAY=2SU
END:DAYLIGHT
BEGIN:STANDARD
TZOFFSETFROM:-0700
TZOFFSETTO:-0800
TZNAME:PST
DTSTART:20071104T020000
RRULE:FREQ=YEARLY;BYMONTH=11;BYDAY=1SU
END:STANDARD
END:VTIMEZONE
BEGIN:VEVENT
DTSTAMP:20240708T000000Z
UID:5e5605d7-a7f9-47ad-a742-5043c536dcde@ClaytonBocce
DTSTART;TZID=America/Los_Angeles:20240714T183000
DTEND;TZID=America/Los_Angeles:20240714T213000
STATUS:CONFIRMED
SUMMARY:Bocceholics vs That’s How We Roll
DESCRIPTION:B:Sun Night group regular season match: Boccehol
 ics vs. That’s How We Roll
LOCATION:Ipsen Court 2
END:VEVENT
BEGIN:VEVENT
DTSTAMP:20240708T000000Z
UID:02b4d181-c365-4ceb-9590-ac4968d0c9ce@ClaytonBocce
DTSTART;TZID=America/Los_Angeles:20240721T183000
DTEND;TZID=America/Los_Angeles:20240721T213000
STATUS:CONFIRMED
SUMMARY:Bocceholics vs The Winers
DESCRIPTION:B:Sun Night group regular season match: Boccehol
 ics vs. The Winers
LOCATION:Ipsen Court 3
END:VEVENT
BEGIN:VEVENT
DTSTAMP:20240708T000000Z
UID:6c60ca3a-c33f-4b09-9275-e108ae16bcf4@ClaytonBocce
DTSTART;TZID=America/Los_Angeles:20240728T183000
DTEND;TZID=America/Los_Angeles:20240728T213000
STATUS:CONFIRMED
SUMMARY:Bocceholics vs Bocce Buddies
DESCRIPTION:B:Sun Night group regular season match: Boccehol
 ics vs. Bocce Buddies
LOCATION:Ipsen Court 4
END:VEVENT
BEGIN:VEVENT
DTSTAMP:20240708T000000Z
UID:d99d5f35-6398-40fa-b144-374936728622@ClaytonBocce
DTSTART;TZID=America/Los_Angeles:20240804T183000
DTEND;TZID=America/Los_Angeles:20240804T213000
STATUS:CONFIRMED
SUMMARY:Bocceholics vs Bada Bing
DESCRIPTION:B:Sun Night group regular season match: Boccehol
 ics vs. Bada Bing
LOCATION:Ipsen Court 1
END:VEVENT
BEGIN:VEVENT
DTSTAMP:20240708T000000Z
UID:30edb7e7-56d7-402e-91a6-3e1450f8eafa@ClaytonBocce
DTSTART;TZID=America/Los_Angeles:20240818T183000
DTEND;TZID=America/Los_Angeles:20240818T213000
STATUS:CONFIRMED
SUMMARY:Bocceholics vs Empty Nesters
DESCRIPTION:B:Sun Night group regular season match: Boccehol
 ics vs. Empty Nesters
LOCATION:Ipsen Court 4
END:VEVENT
BEGIN:VEVENT
DTSTAMP:20240708T000000Z
UID:fefb2f02-44e7-48e3-9687-1dfee0c0363d@ClaytonBocce
DTSTART;TZID=America/Los_Angeles:20240908T183000
DTEND;TZID=America/Los_Angeles:20240908T213000
STATUS:CONFIRMED
SUMMARY:Bocceholics vs Rowdy Rollers
DESCRIPTION:B:Sun Night group regular season match: Boccehol
 ics vs. Rowdy Rollers
LOCATION:Ipsen Court 1
END:VEVENT
BEGIN:VEVENT
DTSTAMP:20240708T000000Z
UID:01727853-6a2c-4f65-b4b5-1500922aacab@ClaytonBocce
DTSTART;TZID=America/Los_Angeles:20240922T183000
DTEND;TZID=America/Los_Angeles:20240922T213000
STATUS:CONFIRMED
SUMMARY:Bocceholics vs Block Party
DESCRIPTION:B:Sun Night group regular season match: Boccehol
 ics vs. Block Party
LOCATION:Ipsen Court 3
END:VEVENT
BEGIN:VEVENT
DTSTAMP:20240708T000000Z
UID:fab337ac-c4be-4192-9615-256fd98e885a@ClaytonBocce
DTSTART;TZID=America/Los_Angeles:20240929T183000
DTEND;TZID=America/Los_Angeles:20240929T213000
STATUS:CONFIRMED
SUMMARY:Bocceholics vs Fireballs II
DESCRIPTION:B:Sun Night group regular season match: Boccehol
 ics vs. Fireballs II
LOCATION:Ipsen Court 2
END:VEVENT
BEGIN:VEVENT
DTSTAMP:20240708T000000Z
UID:e4ca3d70-ed7c-468b-807f-8d264161b143@ClaytonBocce
DTSTART;TZID=America/Los_Angeles:20241013T183000
DTEND;TZID=America/Los_Angeles:20241013T213000
STATUS:CONFIRMED
SUMMARY:Bocceholics vs Meadow Maulers
DESCRIPTION:B:Sun Night group regular season match: Boccehol
 ics vs. Meadow Maulers
LOCATION:Ipsen Court 3
END:VEVENT
END:VCALENDAR
