BEGIN:VCALENDAR
VERSION:2.0
PRODID:-//Clayton Bocce League
METHOD:PUBLISH
BEGIN:VTIMEZONE
TZID:America/Los_Angeles
X-LIC-LOCATION:America/Los_Angeles
BEGIN:DAYLIGHT
TZOFFSETFROM:-0800
TZOFFSETTO:-0700
TZNAME:PDT
DTSTART:20070311T020000
RRULE:FREQ=YEARLY;BYMONTH=3;BYDAY=2SU
END:DAYLIGHT
BEGIN:STANDARD
TZOFFSETFROM:-0700
TZOFFSETTO:-0800
TZNAME:PST
DTSTART:20071104T020000
RRULE:FREQ=YEARLY;BYMONTH=11;BYDAY=1SU
END:STANDARD
END:VTIMEZONE
BEGIN:VEVENT
DTSTAMP:20240708T000000Z
UID:c56263a9-3c0e-43e9-9fbd-0961e0ecae44@ClaytonBocce
DTSTART;TZID=America/Los_Angeles:20240714T183000
DTEND;TZID=America/Los_Angeles:20240714T213000
STATUS:CONFIRMED
SUMMARY:Fireballs II vs Empty Nesters
DESCRIPTION:B:Sun Night group regular season match: Fireball
 s II vs. Empty Nesters
LOCATION:Ipsen Court 3
END:VEVENT
BEGIN:VEVENT
DTSTAMP:20240708T000000Z
UID:d4441f7c-8b4b-4047-8805-11f0ae716672@ClaytonBocce
DTSTART;TZID=America/Los_Angeles:20240721T183000
DTEND;TZID=America/Los_Angeles:20240721T213000
STATUS:CONFIRMED
SUMMARY:Fireballs II vs Rowdy Rollers
DESCRIPTION:B:Sun Night group regular season match: Fireball
 s II vs. Rowdy Rollers
LOCATION:Ipsen Court 1
END:VEVENT
BEGIN:VEVENT
DTSTAMP:20240708T000000Z
UID:114215ff-24bf-475c-b0d7-5658d0325ed4@ClaytonBocce
DTSTART;TZID=America/Los_Angeles:20240811T183000
DTEND;TZID=America/Los_Angeles:20240811T213000
STATUS:CONFIRMED
SUMMARY:Fireballs II vs Block Party
DESCRIPTION:B:Sun Night group regular season match: Fireball
 s II vs. Block Party
LOCATION:Ipsen Court 4
END:VEVENT
BEGIN:VEVENT
DTSTAMP:20240708T000000Z
UID:294a1481-c212-42bc-bd54-51ba613b30f4@ClaytonBocce
DTSTART;TZID=America/Los_Angeles:20240818T183000
DTEND;TZID=America/Los_Angeles:20240818T213000
STATUS:CONFIRMED
SUMMARY:Fireballs II vs Meadow Maulers
DESCRIPTION:B:Sun Night group regular season match: Fireball
 s II vs. Meadow Maulers
LOCATION:Ipsen Court 1
END:VEVENT
BEGIN:VEVENT
DTSTAMP:20240708T000000Z
UID:373e19ea-408e-4743-ac6f-9a83c5b54cc2@ClaytonBocce
DTSTART;TZID=America/Los_Angeles:20240825T183000
DTEND;TZID=America/Los_Angeles:20240825T213000
STATUS:CONFIRMED
SUMMARY:Fireballs II vs Bocce Buddies
DESCRIPTION:B:Sun Night group regular season match: Fireball
 s II vs. Bocce Buddies
LOCATION:Ipsen Court 1
END:VEVENT
BEGIN:VEVENT
DTSTAMP:20240708T000000Z
UID:aa1ae7f5-e67a-4801-9538-f0df6efba1fb@ClaytonBocce
DTSTART;TZID=America/Los_Angeles:20240908T183000
DTEND;TZID=America/Los_Angeles:20240908T213000
STATUS:CONFIRMED
SUMMARY:Fireballs II vs That’s How We Roll
DESCRIPTION:B:Sun Night group regular season match: Fireball
 s II vs. That’s How We Roll
LOCATION:Ipsen Court 3
END:VEVENT
BEGIN:VEVENT
DTSTAMP:20240708T000000Z
UID:a6332418-f3bf-4b1a-a2b9-0d0c971c51ca@ClaytonBocce
DTSTART;TZID=America/Los_Angeles:20240915T183000
DTEND;TZID=America/Los_Angeles:20240915T213000
STATUS:CONFIRMED
SUMMARY:Fireballs II vs The Winers
DESCRIPTION:B:Sun Night group regular season match: Fireball
 s II vs. The Winers
LOCATION:Ipsen Court 2
END:VEVENT
BEGIN:VEVENT
DTSTAMP:20240708T000000Z
UID:d136c729-fd04-4dbb-8d99-36e5483ba799@ClaytonBocce
DTSTART;TZID=America/Los_Angeles:20240922T183000
DTEND;TZID=America/Los_Angeles:20240922T213000
STATUS:CONFIRMED
SUMMARY:Fireballs II vs Bada Bing
DESCRIPTION:B:Sun Night group regular season match: Fireball
 s II vs. Bada Bing
LOCATION:Ipsen Court 4
END:VEVENT
BEGIN:VEVENT
DTSTAMP:20240708T000000Z
UID:fab337ac-c4be-4192-9615-256fd98e885a@ClaytonBocce
DTSTART;TZID=America/Los_Angeles:20240929T183000
DTEND;TZID=America/Los_Angeles:20240929T213000
STATUS:CONFIRMED
SUMMARY:Fireballs II vs Bocceholics
DESCRIPTION:B:Sun Night group regular season match: Fireball
 s II vs. Bocceholics
LOCATION:Ipsen Court 2
END:VEVENT
END:VCALENDAR
