BEGIN:VCALENDAR
VERSION:2.0
PRODID:-//Clayton Bocce League
METHOD:PUBLISH
BEGIN:VTIMEZONE
TZID:America/Los_Angeles
X-LIC-LOCATION:America/Los_Angeles
BEGIN:DAYLIGHT
TZOFFSETFROM:-0800
TZOFFSETTO:-0700
TZNAME:PDT
DTSTART:20070311T020000
RRULE:FREQ=YEARLY;BYMONTH=3;BYDAY=2SU
END:DAYLIGHT
BEGIN:STANDARD
TZOFFSETFROM:-0700
TZOFFSETTO:-0800
TZNAME:PST
DTSTART:20071104T020000
RRULE:FREQ=YEARLY;BYMONTH=11;BYDAY=1SU
END:STANDARD
END:VTIMEZONE
BEGIN:VEVENT
DTSTAMP:20240708T000000Z
UID:c56263a9-3c0e-43e9-9fbd-0961e0ecae44@ClaytonBocce
DTSTART;TZID=America/Los_Angeles:20240714T183000
DTEND;TZID=America/Los_Angeles:20240714T213000
STATUS:CONFIRMED
SUMMARY:Empty Nesters vs Fireballs II
DESCRIPTION:B:Sun Night group regular season match: Empty Ne
 sters vs. Fireballs II
LOCATION:Ipsen Court 3
END:VEVENT
BEGIN:VEVENT
DTSTAMP:20240708T000000Z
UID:84da2314-66e7-465a-af25-0b4a771e5371@ClaytonBocce
DTSTART;TZID=America/Los_Angeles:20240728T183000
DTEND;TZID=America/Los_Angeles:20240728T213000
STATUS:CONFIRMED
SUMMARY:Empty Nesters vs That’s How We Roll
DESCRIPTION:B:Sun Night group regular season match: Empty Ne
 sters vs. That’s How We Roll
LOCATION:Ipsen Court 1
END:VEVENT
BEGIN:VEVENT
DTSTAMP:20240708T000000Z
UID:e29f3848-fbee-4837-9612-c3a9ebab2e0f@ClaytonBocce
DTSTART;TZID=America/Los_Angeles:20240811T183000
DTEND;TZID=America/Los_Angeles:20240811T213000
STATUS:CONFIRMED
SUMMARY:Empty Nesters vs Bocce Buddies
DESCRIPTION:B:Sun Night group regular season match: Empty Ne
 sters vs. Bocce Buddies
LOCATION:Ipsen Court 2
END:VEVENT
BEGIN:VEVENT
DTSTAMP:20240708T000000Z
UID:30edb7e7-56d7-402e-91a6-3e1450f8eafa@ClaytonBocce
DTSTART;TZID=America/Los_Angeles:20240818T183000
DTEND;TZID=America/Los_Angeles:20240818T213000
STATUS:CONFIRMED
SUMMARY:Empty Nesters vs Bocceholics
DESCRIPTION:B:Sun Night group regular season match: Empty Ne
 sters vs. Bocceholics
LOCATION:Ipsen Court 4
END:VEVENT
BEGIN:VEVENT
DTSTAMP:20240708T000000Z
UID:3f1b078a-fba9-4713-9b06-b52ecba58aaf@ClaytonBocce
DTSTART;TZID=America/Los_Angeles:20240825T183000
DTEND;TZID=America/Los_Angeles:20240825T213000
STATUS:CONFIRMED
SUMMARY:Empty Nesters vs Block Party
DESCRIPTION:B:Sun Night group regular season match: Empty Ne
 sters vs. Block Party
LOCATION:Ipsen Court 3
END:VEVENT
BEGIN:VEVENT
DTSTAMP:20240708T000000Z
UID:2fcaaa49-5c8b-47cb-8e8f-fa28469ac402@ClaytonBocce
DTSTART;TZID=America/Los_Angeles:20240908T183000
DTEND;TZID=America/Los_Angeles:20240908T213000
STATUS:CONFIRMED
SUMMARY:Empty Nesters vs Meadow Maulers
DESCRIPTION:B:Sun Night group regular season match: Empty Ne
 sters vs. Meadow Maulers
LOCATION:Ipsen Court 4
END:VEVENT
BEGIN:VEVENT
DTSTAMP:20240708T000000Z
UID:280c34a8-36d6-4842-8417-499521cdcde4@ClaytonBocce
DTSTART;TZID=America/Los_Angeles:20240915T183000
DTEND;TZID=America/Los_Angeles:20240915T213000
STATUS:CONFIRMED
SUMMARY:Empty Nesters vs Bada Bing
DESCRIPTION:B:Sun Night group regular season match: Empty Ne
 sters vs. Bada Bing
LOCATION:Ipsen Court 3
END:VEVENT
BEGIN:VEVENT
DTSTAMP:20240708T000000Z
UID:2751fd6f-7513-479e-951d-d798f3c16d26@ClaytonBocce
DTSTART;TZID=America/Los_Angeles:20240922T183000
DTEND;TZID=America/Los_Angeles:20240922T213000
STATUS:CONFIRMED
SUMMARY:Empty Nesters vs Rowdy Rollers
DESCRIPTION:B:Sun Night group regular season match: Empty Ne
 sters vs. Rowdy Rollers
LOCATION:Ipsen Court 2
END:VEVENT
BEGIN:VEVENT
DTSTAMP:20240708T000000Z
UID:b2591170-aafe-4fe9-b102-78b6deaa3c5f@ClaytonBocce
DTSTART;TZID=America/Los_Angeles:20241013T183000
DTEND;TZID=America/Los_Angeles:20241013T213000
STATUS:CONFIRMED
SUMMARY:Empty Nesters vs The Winers
DESCRIPTION:B:Sun Night group regular season match: Empty Ne
 sters vs. The Winers
LOCATION:Ipsen Court 1
END:VEVENT
END:VCALENDAR
