BEGIN:VCALENDAR
VERSION:2.0
PRODID:-//Clayton Bocce League
METHOD:PUBLISH
BEGIN:VTIMEZONE
TZID:America/Los_Angeles
X-LIC-LOCATION:America/Los_Angeles
BEGIN:DAYLIGHT
TZOFFSETFROM:-0800
TZOFFSETTO:-0700
TZNAME:PDT
DTSTART:20070311T020000
RRULE:FREQ=YEARLY;BYMONTH=3;BYDAY=2SU
END:DAYLIGHT
BEGIN:STANDARD
TZOFFSETFROM:-0700
TZOFFSETTO:-0800
TZNAME:PST
DTSTART:20071104T020000
RRULE:FREQ=YEARLY;BYMONTH=11;BYDAY=1SU
END:STANDARD
END:VTIMEZONE
BEGIN:VEVENT
DTSTAMP:20240708T000000Z
UID:48ad2dc0-9a0a-4b75-ba5b-370fe8fde18a@ClaytonBocce
DTSTART;TZID=America/Los_Angeles:20240714T183000
DTEND;TZID=America/Los_Angeles:20240714T213000
STATUS:CONFIRMED
SUMMARY:The Winers vs Meadow Maulers
DESCRIPTION:B:Sun Night group regular season match: The Wine
 rs vs. Meadow Maulers
LOCATION:Ipsen Court 4
END:VEVENT
BEGIN:VEVENT
DTSTAMP:20240708T000000Z
UID:02b4d181-c365-4ceb-9590-ac4968d0c9ce@ClaytonBocce
DTSTART;TZID=America/Los_Angeles:20240721T183000
DTEND;TZID=America/Los_Angeles:20240721T213000
STATUS:CONFIRMED
SUMMARY:The Winers vs Bocceholics
DESCRIPTION:B:Sun Night group regular season match: The Wine
 rs vs. Bocceholics
LOCATION:Ipsen Court 3
END:VEVENT
BEGIN:VEVENT
DTSTAMP:20240708T000000Z
UID:0300bd2e-d1ae-4d4a-b663-059d7c7e97e5@ClaytonBocce
DTSTART;TZID=America/Los_Angeles:20240811T183000
DTEND;TZID=America/Los_Angeles:20240811T213000
STATUS:CONFIRMED
SUMMARY:The Winers vs Rowdy Rollers
DESCRIPTION:B:Sun Night group regular season match: The Wine
 rs vs. Rowdy Rollers
LOCATION:Ipsen Court 3
END:VEVENT
BEGIN:VEVENT
DTSTAMP:20240708T000000Z
UID:f8488ccc-b97e-4df1-b9f2-d7abaaf27748@ClaytonBocce
DTSTART;TZID=America/Los_Angeles:20240818T183000
DTEND;TZID=America/Los_Angeles:20240818T213000
STATUS:CONFIRMED
SUMMARY:The Winers vs Block Party
DESCRIPTION:B:Sun Night group regular season match: The Wine
 rs vs. Block Party
LOCATION:Ipsen Court 2
END:VEVENT
BEGIN:VEVENT
DTSTAMP:20240708T000000Z
UID:4c2bcfa4-3fb6-4745-afe7-78e11962c982@ClaytonBocce
DTSTART;TZID=America/Los_Angeles:20240825T183000
DTEND;TZID=America/Los_Angeles:20240825T213000
STATUS:CONFIRMED
SUMMARY:The Winers vs That’s How We Roll
DESCRIPTION:B:Sun Night group regular season match: The Wine
 rs vs. That’s How We Roll
LOCATION:Ipsen Court 4
END:VEVENT
BEGIN:VEVENT
DTSTAMP:20240708T000000Z
UID:14176ae7-fbc6-48b9-9b00-a56d021f5ae8@ClaytonBocce
DTSTART;TZID=America/Los_Angeles:20240908T183000
DTEND;TZID=America/Los_Angeles:20240908T213000
STATUS:CONFIRMED
SUMMARY:The Winers vs Bada Bing
DESCRIPTION:B:Sun Night group regular season match: The Wine
 rs vs. Bada Bing
LOCATION:Ipsen Court 2
END:VEVENT
BEGIN:VEVENT
DTSTAMP:20240708T000000Z
UID:a6332418-f3bf-4b1a-a2b9-0d0c971c51ca@ClaytonBocce
DTSTART;TZID=America/Los_Angeles:20240915T183000
DTEND;TZID=America/Los_Angeles:20240915T213000
STATUS:CONFIRMED
SUMMARY:The Winers vs Fireballs II
DESCRIPTION:B:Sun Night group regular season match: The Wine
 rs vs. Fireballs II
LOCATION:Ipsen Court 2
END:VEVENT
BEGIN:VEVENT
DTSTAMP:20240708T000000Z
UID:31ca5cc6-f27f-4393-9992-c87acf70ed1f@ClaytonBocce
DTSTART;TZID=America/Los_Angeles:20240922T183000
DTEND;TZID=America/Los_Angeles:20240922T213000
STATUS:CONFIRMED
SUMMARY:The Winers vs Bocce Buddies
DESCRIPTION:B:Sun Night group regular season match: The Wine
 rs vs. Bocce Buddies
LOCATION:Ipsen Court 1
END:VEVENT
BEGIN:VEVENT
DTSTAMP:20240708T000000Z
UID:b2591170-aafe-4fe9-b102-78b6deaa3c5f@ClaytonBocce
DTSTART;TZID=America/Los_Angeles:20241013T183000
DTEND;TZID=America/Los_Angeles:20241013T213000
STATUS:CONFIRMED
SUMMARY:The Winers vs Empty Nesters
DESCRIPTION:B:Sun Night group regular season match: The Wine
 rs vs. Empty Nesters
LOCATION:Ipsen Court 1
END:VEVENT
END:VCALENDAR
