BEGIN:VCALENDAR
VERSION:2.0
PRODID:-//Clayton Bocce League
METHOD:PUBLISH
BEGIN:VTIMEZONE
TZID:America/Los_Angeles
X-LIC-LOCATION:America/Los_Angeles
BEGIN:DAYLIGHT
TZOFFSETFROM:-0800
TZOFFSETTO:-0700
TZNAME:PDT
DTSTART:20070311T020000
RRULE:FREQ=YEARLY;BYMONTH=3;BYDAY=2SU
END:DAYLIGHT
BEGIN:STANDARD
TZOFFSETFROM:-0700
TZOFFSETTO:-0800
TZNAME:PST
DTSTART:20071104T020000
RRULE:FREQ=YEARLY;BYMONTH=11;BYDAY=1SU
END:STANDARD
END:VTIMEZONE
BEGIN:VEVENT
DTSTAMP:20240708T000000Z
UID:48ad2dc0-9a0a-4b75-ba5b-370fe8fde18a@ClaytonBocce
DTSTART;TZID=America/Los_Angeles:20240714T183000
DTEND;TZID=America/Los_Angeles:20240714T213000
STATUS:CONFIRMED
SUMMARY:Meadow Maulers vs The Winers
DESCRIPTION:B:Sun Night group regular season match: Meadow M
 aulers vs. The Winers
LOCATION:Ipsen Court 4
END:VEVENT
BEGIN:VEVENT
DTSTAMP:20240708T000000Z
UID:06aa0bd3-f5ea-4a81-b0df-9de48235acf2@ClaytonBocce
DTSTART;TZID=America/Los_Angeles:20240721T183000
DTEND;TZID=America/Los_Angeles:20240721T213000
STATUS:CONFIRMED
SUMMARY:Meadow Maulers vs Bocce Buddies
DESCRIPTION:B:Sun Night group regular season match: Meadow M
 aulers vs. Bocce Buddies
LOCATION:Ipsen Court 4
END:VEVENT
BEGIN:VEVENT
DTSTAMP:20240708T000000Z
UID:1461d73c-e605-492f-82e0-529a2dcfe078@ClaytonBocce
DTSTART;TZID=America/Los_Angeles:20240728T183000
DTEND;TZID=America/Los_Angeles:20240728T213000
STATUS:CONFIRMED
SUMMARY:Meadow Maulers vs Bada Bing
DESCRIPTION:B:Sun Night group regular season match: Meadow M
 aulers vs. Bada Bing
LOCATION:Ipsen Court 2
END:VEVENT
BEGIN:VEVENT
DTSTAMP:20240708T000000Z
UID:625c3690-6f43-43a3-a6d2-6a5472a72999@ClaytonBocce
DTSTART;TZID=America/Los_Angeles:20240804T183000
DTEND;TZID=America/Los_Angeles:20240804T213000
STATUS:CONFIRMED
SUMMARY:Meadow Maulers vs That’s How We Roll
DESCRIPTION:B:Sun Night group regular season match: Meadow M
 aulers vs. That’s How We Roll
LOCATION:Ipsen Court 3
END:VEVENT
BEGIN:VEVENT
DTSTAMP:20240708T000000Z
UID:294a1481-c212-42bc-bd54-51ba613b30f4@ClaytonBocce
DTSTART;TZID=America/Los_Angeles:20240818T183000
DTEND;TZID=America/Los_Angeles:20240818T213000
STATUS:CONFIRMED
SUMMARY:Meadow Maulers vs Fireballs II
DESCRIPTION:B:Sun Night group regular season match: Meadow M
 aulers vs. Fireballs II
LOCATION:Ipsen Court 1
END:VEVENT
BEGIN:VEVENT
DTSTAMP:20240708T000000Z
UID:4879ecfe-229d-4492-9d0c-850cab0a1270@ClaytonBocce
DTSTART;TZID=America/Los_Angeles:20240825T183000
DTEND;TZID=America/Los_Angeles:20240825T213000
STATUS:CONFIRMED
SUMMARY:Meadow Maulers vs Rowdy Rollers
DESCRIPTION:B:Sun Night group regular season match: Meadow M
 aulers vs. Rowdy Rollers
LOCATION:Ipsen Court 2
END:VEVENT
BEGIN:VEVENT
DTSTAMP:20240708T000000Z
UID:2fcaaa49-5c8b-47cb-8e8f-fa28469ac402@ClaytonBocce
DTSTART;TZID=America/Los_Angeles:20240908T183000
DTEND;TZID=America/Los_Angeles:20240908T213000
STATUS:CONFIRMED
SUMMARY:Meadow Maulers vs Empty Nesters
DESCRIPTION:B:Sun Night group regular season match: Meadow M
 aulers vs. Empty Nesters
LOCATION:Ipsen Court 4
END:VEVENT
BEGIN:VEVENT
DTSTAMP:20240708T000000Z
UID:3a00be9b-b48c-456d-9ee7-15f4003e64a6@ClaytonBocce
DTSTART;TZID=America/Los_Angeles:20240929T183000
DTEND;TZID=America/Los_Angeles:20240929T213000
STATUS:CONFIRMED
SUMMARY:Meadow Maulers vs Block Party
DESCRIPTION:B:Sun Night group regular season match: Meadow M
 aulers vs. Block Party
LOCATION:Ipsen Court 1
END:VEVENT
BEGIN:VEVENT
DTSTAMP:20240708T000000Z
UID:e4ca3d70-ed7c-468b-807f-8d264161b143@ClaytonBocce
DTSTART;TZID=America/Los_Angeles:20241013T183000
DTEND;TZID=America/Los_Angeles:20241013T213000
STATUS:CONFIRMED
SUMMARY:Meadow Maulers vs Bocceholics
DESCRIPTION:B:Sun Night group regular season match: Meadow M
 aulers vs. Bocceholics
LOCATION:Ipsen Court 3
END:VEVENT
END:VCALENDAR
