BEGIN:VCALENDAR
VERSION:2.0
PRODID:-//Clayton Bocce League
METHOD:PUBLISH
BEGIN:VTIMEZONE
TZID:America/Los_Angeles
X-LIC-LOCATION:America/Los_Angeles
BEGIN:DAYLIGHT
TZOFFSETFROM:-0800
TZOFFSETTO:-0700
TZNAME:PDT
DTSTART:20070311T020000
RRULE:FREQ=YEARLY;BYMONTH=3;BYDAY=2SU
END:DAYLIGHT
BEGIN:STANDARD
TZOFFSETFROM:-0700
TZOFFSETTO:-0800
TZNAME:PST
DTSTART:20071104T020000
RRULE:FREQ=YEARLY;BYMONTH=11;BYDAY=1SU
END:STANDARD
END:VTIMEZONE
BEGIN:VEVENT
DTSTAMP:20240708T000000Z
UID:d4441f7c-8b4b-4047-8805-11f0ae716672@ClaytonBocce
DTSTART;TZID=America/Los_Angeles:20240721T183000
DTEND;TZID=America/Los_Angeles:20240721T213000
STATUS:CONFIRMED
SUMMARY:Rowdy Rollers vs Fireballs II
DESCRIPTION:B:Sun Night group regular season match: Rowdy Ro
 llers vs. Fireballs II
LOCATION:Ipsen Court 1
END:VEVENT
BEGIN:VEVENT
DTSTAMP:20240708T000000Z
UID:c54fc165-5d04-4b56-86a6-03ac8c0c44bb@ClaytonBocce
DTSTART;TZID=America/Los_Angeles:20240728T183000
DTEND;TZID=America/Los_Angeles:20240728T213000
STATUS:CONFIRMED
SUMMARY:Rowdy Rollers vs Block Party
DESCRIPTION:B:Sun Night group regular season match: Rowdy Ro
 llers vs. Block Party
LOCATION:Ipsen Court 3
END:VEVENT
BEGIN:VEVENT
DTSTAMP:20240708T000000Z
UID:51c25b54-3611-43f3-9fc1-133b6f6961bc@ClaytonBocce
DTSTART;TZID=America/Los_Angeles:20240804T183000
DTEND;TZID=America/Los_Angeles:20240804T213000
STATUS:CONFIRMED
SUMMARY:Rowdy Rollers vs Bocce Buddies
DESCRIPTION:B:Sun Night group regular season match: Rowdy Ro
 llers vs. Bocce Buddies
LOCATION:Ipsen Court 2
END:VEVENT
BEGIN:VEVENT
DTSTAMP:20240708T000000Z
UID:0300bd2e-d1ae-4d4a-b663-059d7c7e97e5@ClaytonBocce
DTSTART;TZID=America/Los_Angeles:20240811T183000
DTEND;TZID=America/Los_Angeles:20240811T213000
STATUS:CONFIRMED
SUMMARY:Rowdy Rollers vs The Winers
DESCRIPTION:B:Sun Night group regular season match: Rowdy Ro
 llers vs. The Winers
LOCATION:Ipsen Court 3
END:VEVENT
BEGIN:VEVENT
DTSTAMP:20240708T000000Z
UID:4879ecfe-229d-4492-9d0c-850cab0a1270@ClaytonBocce
DTSTART;TZID=America/Los_Angeles:20240825T183000
DTEND;TZID=America/Los_Angeles:20240825T213000
STATUS:CONFIRMED
SUMMARY:Rowdy Rollers vs Meadow Maulers
DESCRIPTION:B:Sun Night group regular season match: Rowdy Ro
 llers vs. Meadow Maulers
LOCATION:Ipsen Court 2
END:VEVENT
BEGIN:VEVENT
DTSTAMP:20240708T000000Z
UID:fefb2f02-44e7-48e3-9687-1dfee0c0363d@ClaytonBocce
DTSTART;TZID=America/Los_Angeles:20240908T183000
DTEND;TZID=America/Los_Angeles:20240908T213000
STATUS:CONFIRMED
SUMMARY:Rowdy Rollers vs Bocceholics
DESCRIPTION:B:Sun Night group regular season match: Rowdy Ro
 llers vs. Bocceholics
LOCATION:Ipsen Court 1
END:VEVENT
BEGIN:VEVENT
DTSTAMP:20240708T000000Z
UID:2751fd6f-7513-479e-951d-d798f3c16d26@ClaytonBocce
DTSTART;TZID=America/Los_Angeles:20240922T183000
DTEND;TZID=America/Los_Angeles:20240922T213000
STATUS:CONFIRMED
SUMMARY:Rowdy Rollers vs Empty Nesters
DESCRIPTION:B:Sun Night group regular season match: Rowdy Ro
 llers vs. Empty Nesters
LOCATION:Ipsen Court 2
END:VEVENT
BEGIN:VEVENT
DTSTAMP:20240708T000000Z
UID:864dd12b-0e6b-4d9c-a438-00a8b5adfc62@ClaytonBocce
DTSTART;TZID=America/Los_Angeles:20240929T183000
DTEND;TZID=America/Los_Angeles:20240929T213000
STATUS:CONFIRMED
SUMMARY:Rowdy Rollers vs Bada Bing
DESCRIPTION:B:Sun Night group regular season match: Rowdy Ro
 llers vs. Bada Bing
LOCATION:Ipsen Court 4
END:VEVENT
BEGIN:VEVENT
DTSTAMP:20240708T000000Z
UID:5b2d3467-77c4-417f-84bc-93b7d906235f@ClaytonBocce
DTSTART;TZID=America/Los_Angeles:20241013T183000
DTEND;TZID=America/Los_Angeles:20241013T213000
STATUS:CONFIRMED
SUMMARY:Rowdy Rollers vs That’s How We Roll
DESCRIPTION:B:Sun Night group regular season match: Rowdy Ro
 llers vs. That’s How We Roll
LOCATION:Ipsen Court 4
END:VEVENT
END:VCALENDAR
