BEGIN:VCALENDAR
VERSION:2.0
PRODID:-//Clayton Bocce League
METHOD:PUBLISH
BEGIN:VTIMEZONE
TZID:America/Los_Angeles
X-LIC-LOCATION:America/Los_Angeles
BEGIN:DAYLIGHT
TZOFFSETFROM:-0800
TZOFFSETTO:-0700
TZNAME:PDT
DTSTART:20070311T020000
RRULE:FREQ=YEARLY;BYMONTH=3;BYDAY=2SU
END:DAYLIGHT
BEGIN:STANDARD
TZOFFSETFROM:-0700
TZOFFSETTO:-0800
TZNAME:PST
DTSTART:20071104T020000
RRULE:FREQ=YEARLY;BYMONTH=11;BYDAY=1SU
END:STANDARD
END:VTIMEZONE
BEGIN:VEVENT
DTSTAMP:20240708T000000Z
UID:06aa0bd3-f5ea-4a81-b0df-9de48235acf2@ClaytonBocce
DTSTART;TZID=America/Los_Angeles:20240721T183000
DTEND;TZID=America/Los_Angeles:20240721T213000
STATUS:CONFIRMED
SUMMARY:Bocce Buddies vs Meadow Maulers
DESCRIPTION:B:Sun Night group regular season match: Bocce Bu
 ddies vs. Meadow Maulers
LOCATION:Ipsen Court 4
END:VEVENT
BEGIN:VEVENT
DTSTAMP:20240708T000000Z
UID:6c60ca3a-c33f-4b09-9275-e108ae16bcf4@ClaytonBocce
DTSTART;TZID=America/Los_Angeles:20240728T183000
DTEND;TZID=America/Los_Angeles:20240728T213000
STATUS:CONFIRMED
SUMMARY:Bocce Buddies vs Bocceholics
DESCRIPTION:B:Sun Night group regular season match: Bocce Bu
 ddies vs. Bocceholics
LOCATION:Ipsen Court 4
END:VEVENT
BEGIN:VEVENT
DTSTAMP:20240708T000000Z
UID:51c25b54-3611-43f3-9fc1-133b6f6961bc@ClaytonBocce
DTSTART;TZID=America/Los_Angeles:20240804T183000
DTEND;TZID=America/Los_Angeles:20240804T213000
STATUS:CONFIRMED
SUMMARY:Bocce Buddies vs Rowdy Rollers
DESCRIPTION:B:Sun Night group regular season match: Bocce Bu
 ddies vs. Rowdy Rollers
LOCATION:Ipsen Court 2
END:VEVENT
BEGIN:VEVENT
DTSTAMP:20240708T000000Z
UID:e29f3848-fbee-4837-9612-c3a9ebab2e0f@ClaytonBocce
DTSTART;TZID=America/Los_Angeles:20240811T183000
DTEND;TZID=America/Los_Angeles:20240811T213000
STATUS:CONFIRMED
SUMMARY:Bocce Buddies vs Empty Nesters
DESCRIPTION:B:Sun Night group regular season match: Bocce Bu
 ddies vs. Empty Nesters
LOCATION:Ipsen Court 2
END:VEVENT
BEGIN:VEVENT
DTSTAMP:20240708T000000Z
UID:f4e8cd32-a67f-450b-a8f1-35abf56e1901@ClaytonBocce
DTSTART;TZID=America/Los_Angeles:20240818T183000
DTEND;TZID=America/Los_Angeles:20240818T213000
STATUS:CONFIRMED
SUMMARY:Bocce Buddies vs Bada Bing
DESCRIPTION:B:Sun Night group regular season match: Bocce Bu
 ddies vs. Bada Bing
LOCATION:Ipsen Court 3
END:VEVENT
BEGIN:VEVENT
DTSTAMP:20240708T000000Z
UID:373e19ea-408e-4743-ac6f-9a83c5b54cc2@ClaytonBocce
DTSTART;TZID=America/Los_Angeles:20240825T183000
DTEND;TZID=America/Los_Angeles:20240825T213000
STATUS:CONFIRMED
SUMMARY:Bocce Buddies vs Fireballs II
DESCRIPTION:B:Sun Night group regular season match: Bocce Bu
 ddies vs. Fireballs II
LOCATION:Ipsen Court 1
END:VEVENT
BEGIN:VEVENT
DTSTAMP:20240708T000000Z
UID:1ce7e0e9-b433-4c04-9621-79aa37b1fb43@ClaytonBocce
DTSTART;TZID=America/Los_Angeles:20240915T183000
DTEND;TZID=America/Los_Angeles:20240915T213000
STATUS:CONFIRMED
SUMMARY:Bocce Buddies vs Block Party
DESCRIPTION:B:Sun Night group regular season match: Bocce Bu
 ddies vs. Block Party
LOCATION:Ipsen Court 4
END:VEVENT
BEGIN:VEVENT
DTSTAMP:20240708T000000Z
UID:31ca5cc6-f27f-4393-9992-c87acf70ed1f@ClaytonBocce
DTSTART;TZID=America/Los_Angeles:20240922T183000
DTEND;TZID=America/Los_Angeles:20240922T213000
STATUS:CONFIRMED
SUMMARY:Bocce Buddies vs The Winers
DESCRIPTION:B:Sun Night group regular season match: Bocce Bu
 ddies vs. The Winers
LOCATION:Ipsen Court 1
END:VEVENT
BEGIN:VEVENT
DTSTAMP:20240708T000000Z
UID:92c365c0-780e-45a0-9a57-0c4c35e46653@ClaytonBocce
DTSTART;TZID=America/Los_Angeles:20240929T183000
DTEND;TZID=America/Los_Angeles:20240929T213000
STATUS:CONFIRMED
SUMMARY:Bocce Buddies vs That’s How We Roll
DESCRIPTION:B:Sun Night group regular season match: Bocce Bu
 ddies vs. That’s How We Roll
LOCATION:Ipsen Court 3
END:VEVENT
END:VCALENDAR
