BEGIN:VCALENDAR
VERSION:2.0
PRODID:-//Clayton Bocce League
METHOD:PUBLISH
BEGIN:VTIMEZONE
TZID:America/Los_Angeles
X-LIC-LOCATION:America/Los_Angeles
BEGIN:DAYLIGHT
TZOFFSETFROM:-0800
TZOFFSETTO:-0700
TZNAME:PDT
DTSTART:20070311T020000
RRULE:FREQ=YEARLY;BYMONTH=3;BYDAY=2SU
END:DAYLIGHT
BEGIN:STANDARD
TZOFFSETFROM:-0700
TZOFFSETTO:-0800
TZNAME:PST
DTSTART:20071104T020000
RRULE:FREQ=YEARLY;BYMONTH=11;BYDAY=1SU
END:STANDARD
END:VTIMEZONE
BEGIN:VEVENT
DTSTAMP:20240708T000000Z
UID:625c3690-6f43-43a3-a6d2-6a5472a72999@ClaytonBocce
DTSTART;TZID=America/Los_Angeles:20240804T183000
DTEND;TZID=America/Los_Angeles:20240804T213000
STATUS:CONFIRMED
SUMMARY:That’s How We Roll vs Meadow Maulers
DESCRIPTION:B:Sun Night group regular season match: That’s H
 ow We Roll vs. Meadow Maulers
LOCATION:Ipsen Court 3
END:VEVENT
END:VCALENDAR
