BEGIN:VCALENDAR
VERSION:2.0
PRODID:-//Clayton Bocce League
METHOD:PUBLISH
BEGIN:VTIMEZONE
TZID:America/Los_Angeles
X-LIC-LOCATION:America/Los_Angeles
BEGIN:DAYLIGHT
TZOFFSETFROM:-0800
TZOFFSETTO:-0700
TZNAME:PDT
DTSTART:20070311T020000
RRULE:FREQ=YEARLY;BYMONTH=3;BYDAY=2SU
END:DAYLIGHT
BEGIN:STANDARD
TZOFFSETFROM:-0700
TZOFFSETTO:-0800
TZNAME:PST
DTSTART:20071104T020000
RRULE:FREQ=YEARLY;BYMONTH=11;BYDAY=1SU
END:STANDARD
END:VTIMEZONE
BEGIN:VEVENT
DTSTAMP:20240708T000000Z
UID:169b47e2-6ad4-4a91-9a61-ca47dba635cc@ClaytonBocce
DTSTART;TZID=America/Los_Angeles:20240716T183000
DTEND;TZID=America/Los_Angeles:20240716T213000
STATUS:CONFIRMED
SUMMARY:Fireball, Inc vs Bocce Ballsagna
DESCRIPTION:D:Tue Night group regular season match: Fireball
 , Inc vs. Bocce Ballsagna
LOCATION:Ipsen Court 2
END:VEVENT
BEGIN:VEVENT
DTSTAMP:20240708T000000Z
UID:8ce996a0-d1d8-465b-906e-ff9ded1fc8ef@ClaytonBocce
DTSTART;TZID=America/Los_Angeles:20240723T183000
DTEND;TZID=America/Los_Angeles:20240723T213000
STATUS:CONFIRMED
SUMMARY:Fireball, Inc vs The Untouchaballs
DESCRIPTION:D:Tue Night group regular season match: Fireball
 , Inc vs. The Untouchaballs
LOCATION:Ipsen Court 4
END:VEVENT
BEGIN:VEVENT
DTSTAMP:20240708T000000Z
UID:7445a859-dcf4-4b5a-9f6d-4550b2be12b9@ClaytonBocce
DTSTART;TZID=America/Los_Angeles:20240730T183000
DTEND;TZID=America/Los_Angeles:20240730T213000
STATUS:CONFIRMED
SUMMARY:Fireball, Inc vs Trina's Rollers
DESCRIPTION:D:Tue Night group regular season match: Fireball
 , Inc vs. Trina's Rollers
LOCATION:Ipsen Court 4
END:VEVENT
BEGIN:VEVENT
DTSTAMP:20240708T000000Z
UID:fe350dee-3293-4a6c-83d0-60a9c4210423@ClaytonBocce
DTSTART;TZID=America/Los_Angeles:20240813T183000
DTEND;TZID=America/Los_Angeles:20240813T213000
STATUS:CONFIRMED
SUMMARY:Fireball, Inc vs C’Mon Man
DESCRIPTION:D:Tue Night group regular season match: Fireball
 , Inc vs. C’Mon Man
LOCATION:Ipsen Court 2
END:VEVENT
BEGIN:VEVENT
DTSTAMP:20240708T000000Z
UID:c0a9bfc3-5b88-4e5a-9ce3-da896e85b984@ClaytonBocce
DTSTART;TZID=America/Los_Angeles:20240820T183000
DTEND;TZID=America/Los_Angeles:20240820T213000
STATUS:CONFIRMED
SUMMARY:Fireball, Inc vs Bocce Warriors II
DESCRIPTION:D:Tue Night group regular season match: Fireball
 , Inc vs. Bocce Warriors II
LOCATION:Ipsen Court 4
END:VEVENT
BEGIN:VEVENT
DTSTAMP:20240708T000000Z
UID:2b0e37f7-5e5d-4874-b335-1411bff003e1@ClaytonBocce
DTSTART;TZID=America/Los_Angeles:20240910T183000
DTEND;TZID=America/Los_Angeles:20240910T213000
STATUS:CONFIRMED
SUMMARY:Fireball, Inc vs Deboccery
DESCRIPTION:D:Tue Night group regular season match: Fireball
 , Inc vs. Deboccery
LOCATION:Ipsen Court 1
END:VEVENT
BEGIN:VEVENT
DTSTAMP:20240708T000000Z
UID:6306b3fa-5f3a-44ff-b4e4-11f9c4688199@ClaytonBocce
DTSTART;TZID=America/Los_Angeles:20240924T183000
DTEND;TZID=America/Los_Angeles:20240924T213000
STATUS:CONFIRMED
SUMMARY:Fireball, Inc vs Mazzei Realty
DESCRIPTION:D:Tue Night group regular season match: Fireball
 , Inc vs. Mazzei Realty
LOCATION:Ipsen Court 2
END:VEVENT
BEGIN:VEVENT
DTSTAMP:20240708T000000Z
UID:10b7de5c-df53-4eb9-bf15-61b58ea4a943@ClaytonBocce
DTSTART;TZID=America/Los_Angeles:20241001T183000
DTEND;TZID=America/Los_Angeles:20241001T213000
STATUS:CONFIRMED
SUMMARY:Fireball, Inc vs Cannoli Rollers
DESCRIPTION:D:Tue Night group regular season match: Fireball
 , Inc vs. Cannoli Rollers
LOCATION:Ipsen Court 4
END:VEVENT
BEGIN:VEVENT
DTSTAMP:20240708T000000Z
UID:d3c11f72-ef09-454d-86d9-cad898c084ff@ClaytonBocce
DTSTART;TZID=America/Los_Angeles:20241015T183000
DTEND;TZID=America/Los_Angeles:20241015T213000
STATUS:CONFIRMED
SUMMARY:Fireball, Inc vs La Bocce Vita
DESCRIPTION:D:Tue Night group regular season match: Fireball
 , Inc vs. La Bocce Vita
LOCATION:Ipsen Court 1
END:VEVENT
END:VCALENDAR
