BEGIN:VCALENDAR
VERSION:2.0
PRODID:-//Clayton Bocce League
METHOD:PUBLISH
BEGIN:VTIMEZONE
TZID:America/Los_Angeles
X-LIC-LOCATION:America/Los_Angeles
BEGIN:DAYLIGHT
TZOFFSETFROM:-0800
TZOFFSETTO:-0700
TZNAME:PDT
DTSTART:20070311T020000
RRULE:FREQ=YEARLY;BYMONTH=3;BYDAY=2SU
END:DAYLIGHT
BEGIN:STANDARD
TZOFFSETFROM:-0700
TZOFFSETTO:-0800
TZNAME:PST
DTSTART:20071104T020000
RRULE:FREQ=YEARLY;BYMONTH=11;BYDAY=1SU
END:STANDARD
END:VTIMEZONE
BEGIN:VEVENT
DTSTAMP:20240708T000000Z
UID:169b47e2-6ad4-4a91-9a61-ca47dba635cc@ClaytonBocce
DTSTART;TZID=America/Los_Angeles:20240716T183000
DTEND;TZID=America/Los_Angeles:20240716T213000
STATUS:CONFIRMED
SUMMARY:Bocce Ballsagna vs Fireball, Inc
DESCRIPTION:D:Tue Night group regular season match: Bocce Ba
 llsagna vs. Fireball, Inc
LOCATION:Ipsen Court 2
END:VEVENT
BEGIN:VEVENT
DTSTAMP:20240708T000000Z
UID:4e06cf12-9b89-4ca7-8a84-119eb60c2f43@ClaytonBocce
DTSTART;TZID=America/Los_Angeles:20240730T183000
DTEND;TZID=America/Los_Angeles:20240730T213000
STATUS:CONFIRMED
SUMMARY:Bocce Ballsagna vs C’Mon Man
DESCRIPTION:D:Tue Night group regular season match: Bocce Ba
 llsagna vs. C’Mon Man
LOCATION:Ipsen Court 2
END:VEVENT
BEGIN:VEVENT
DTSTAMP:20240708T000000Z
UID:ebcbc16e-a53e-43a3-acc1-4745d42b1906@ClaytonBocce
DTSTART;TZID=America/Los_Angeles:20240806T183000
DTEND;TZID=America/Los_Angeles:20240806T213000
STATUS:CONFIRMED
SUMMARY:Bocce Ballsagna vs Cannoli Rollers
DESCRIPTION:D:Tue Night group regular season match: Bocce Ba
 llsagna vs. Cannoli Rollers
LOCATION:Ipsen Court 3
END:VEVENT
BEGIN:VEVENT
DTSTAMP:20240708T000000Z
UID:fcd83f40-d1e8-4c23-af52-91f92f483abf@ClaytonBocce
DTSTART;TZID=America/Los_Angeles:20240827T183000
DTEND;TZID=America/Los_Angeles:20240827T213000
STATUS:CONFIRMED
SUMMARY:Bocce Ballsagna vs La Bocce Vita
DESCRIPTION:D:Tue Night group regular season match: Bocce Ba
 llsagna vs. La Bocce Vita
LOCATION:Ipsen Court 4
END:VEVENT
BEGIN:VEVENT
DTSTAMP:20240708T000000Z
UID:8fd5ccb7-d052-4203-80e2-782a41e39610@ClaytonBocce
DTSTART;TZID=America/Los_Angeles:20240910T183000
DTEND;TZID=America/Los_Angeles:20240910T213000
STATUS:CONFIRMED
SUMMARY:Bocce Ballsagna vs Bocce Warriors II
DESCRIPTION:D:Tue Night group regular season match: Bocce Ba
 llsagna vs. Bocce Warriors II
LOCATION:Ipsen Court 3
END:VEVENT
BEGIN:VEVENT
DTSTAMP:20240708T000000Z
UID:69d809c7-b7c7-4077-9136-8167540b8054@ClaytonBocce
DTSTART;TZID=America/Los_Angeles:20240917T183000
DTEND;TZID=America/Los_Angeles:20240917T213000
STATUS:CONFIRMED
SUMMARY:Bocce Ballsagna vs Trina's Rollers
DESCRIPTION:D:Tue Night group regular season match: Bocce Ba
 llsagna vs. Trina's Rollers
LOCATION:Ipsen Court 1
END:VEVENT
BEGIN:VEVENT
DTSTAMP:20240708T000000Z
UID:3211a9aa-aeaf-4c24-8fa8-f097ee8da937@ClaytonBocce
DTSTART;TZID=America/Los_Angeles:20241001T183000
DTEND;TZID=America/Los_Angeles:20241001T213000
STATUS:CONFIRMED
SUMMARY:Bocce Ballsagna vs The Untouchaballs
DESCRIPTION:D:Tue Night group regular season match: Bocce Ba
 llsagna vs. The Untouchaballs
LOCATION:Ipsen Court 2
END:VEVENT
BEGIN:VEVENT
DTSTAMP:20240708T000000Z
UID:e4045131-c1c9-45a2-babd-37ffaa3781ee@ClaytonBocce
DTSTART;TZID=America/Los_Angeles:20241008T183000
DTEND;TZID=America/Los_Angeles:20241008T213000
STATUS:CONFIRMED
SUMMARY:Bocce Ballsagna vs Deboccery
DESCRIPTION:D:Tue Night group regular season match: Bocce Ba
 llsagna vs. Deboccery
LOCATION:Ipsen Court 4
END:VEVENT
BEGIN:VEVENT
DTSTAMP:20240708T000000Z
UID:48e79a95-c29e-44bf-805a-31c2dcb1afa3@ClaytonBocce
DTSTART;TZID=America/Los_Angeles:20241015T183000
DTEND;TZID=America/Los_Angeles:20241015T213000
STATUS:CONFIRMED
SUMMARY:Bocce Ballsagna vs Mazzei Realty
DESCRIPTION:D:Tue Night group regular season match: Bocce Ba
 llsagna vs. Mazzei Realty
LOCATION:Ipsen Court 4
END:VEVENT
END:VCALENDAR
