BEGIN:VCALENDAR
VERSION:2.0
PRODID:-//Clayton Bocce League
METHOD:PUBLISH
BEGIN:VTIMEZONE
TZID:America/Los_Angeles
X-LIC-LOCATION:America/Los_Angeles
BEGIN:DAYLIGHT
TZOFFSETFROM:-0800
TZOFFSETTO:-0700
TZNAME:PDT
DTSTART:20070311T020000
RRULE:FREQ=YEARLY;BYMONTH=3;BYDAY=2SU
END:DAYLIGHT
BEGIN:STANDARD
TZOFFSETFROM:-0700
TZOFFSETTO:-0800
TZNAME:PST
DTSTART:20071104T020000
RRULE:FREQ=YEARLY;BYMONTH=11;BYDAY=1SU
END:STANDARD
END:VTIMEZONE
BEGIN:VEVENT
DTSTAMP:20240708T000000Z
UID:5164e187-66fb-4a4f-9580-6eae13062cc0@ClaytonBocce
DTSTART;TZID=America/Los_Angeles:20240716T183000
DTEND;TZID=America/Los_Angeles:20240716T213000
STATUS:CONFIRMED
SUMMARY:Mazzei Realty vs La Bocce Vita
DESCRIPTION:D:Tue Night group regular season match: Mazzei R
 ealty vs. La Bocce Vita
LOCATION:Ipsen Court 3
END:VEVENT
BEGIN:VEVENT
DTSTAMP:20240708T000000Z
UID:7d591f43-544a-425b-aaf6-f09ce6e06d1b@ClaytonBocce
DTSTART;TZID=America/Los_Angeles:20240730T183000
DTEND;TZID=America/Los_Angeles:20240730T213000
STATUS:CONFIRMED
SUMMARY:Mazzei Realty vs Bocce Warriors II
DESCRIPTION:D:Tue Night group regular season match: Mazzei R
 ealty vs. Bocce Warriors II
LOCATION:Ipsen Court 3
END:VEVENT
BEGIN:VEVENT
DTSTAMP:20240708T000000Z
UID:75c423f4-6dff-4a86-b5c1-3e572f310842@ClaytonBocce
DTSTART;TZID=America/Los_Angeles:20240813T183000
DTEND;TZID=America/Los_Angeles:20240813T213000
STATUS:CONFIRMED
SUMMARY:Mazzei Realty vs Trina's Rollers
DESCRIPTION:D:Tue Night group regular season match: Mazzei R
 ealty vs. Trina's Rollers
LOCATION:Ipsen Court 4
END:VEVENT
BEGIN:VEVENT
DTSTAMP:20240708T000000Z
UID:06ede126-eee7-4560-be67-dbdeead6b77b@ClaytonBocce
DTSTART;TZID=America/Los_Angeles:20240827T183000
DTEND;TZID=America/Los_Angeles:20240827T213000
STATUS:CONFIRMED
SUMMARY:Mazzei Realty vs Deboccery
DESCRIPTION:D:Tue Night group regular season match: Mazzei R
 ealty vs. Deboccery
LOCATION:Ipsen Court 3
END:VEVENT
BEGIN:VEVENT
DTSTAMP:20240708T000000Z
UID:3b3fb57f-8ecf-4ab5-b314-e118f15d712e@ClaytonBocce
DTSTART;TZID=America/Los_Angeles:20240917T183000
DTEND;TZID=America/Los_Angeles:20240917T213000
STATUS:CONFIRMED
SUMMARY:Mazzei Realty vs The Untouchaballs
DESCRIPTION:D:Tue Night group regular season match: Mazzei R
 ealty vs. The Untouchaballs
LOCATION:Ipsen Court 3
END:VEVENT
BEGIN:VEVENT
DTSTAMP:20240708T000000Z
UID:6306b3fa-5f3a-44ff-b4e4-11f9c4688199@ClaytonBocce
DTSTART;TZID=America/Los_Angeles:20240924T183000
DTEND;TZID=America/Los_Angeles:20240924T213000
STATUS:CONFIRMED
SUMMARY:Mazzei Realty vs Fireball, Inc
DESCRIPTION:D:Tue Night group regular season match: Mazzei R
 ealty vs. Fireball, Inc
LOCATION:Ipsen Court 2
END:VEVENT
BEGIN:VEVENT
DTSTAMP:20240708T000000Z
UID:838b1e70-dfa9-461a-bf4c-2b292206240b@ClaytonBocce
DTSTART;TZID=America/Los_Angeles:20241001T183000
DTEND;TZID=America/Los_Angeles:20241001T213000
STATUS:CONFIRMED
SUMMARY:Mazzei Realty vs C’Mon Man
DESCRIPTION:D:Tue Night group regular season match: Mazzei R
 ealty vs. C’Mon Man
LOCATION:Ipsen Court 1
END:VEVENT
BEGIN:VEVENT
DTSTAMP:20240708T000000Z
UID:0ea239af-1ab8-4d88-99bf-41399b316094@ClaytonBocce
DTSTART;TZID=America/Los_Angeles:20241008T183000
DTEND;TZID=America/Los_Angeles:20241008T213000
STATUS:CONFIRMED
SUMMARY:Mazzei Realty vs Cannoli Rollers
DESCRIPTION:D:Tue Night group regular season match: Mazzei R
 ealty vs. Cannoli Rollers
LOCATION:Ipsen Court 2
END:VEVENT
BEGIN:VEVENT
DTSTAMP:20240708T000000Z
UID:48e79a95-c29e-44bf-805a-31c2dcb1afa3@ClaytonBocce
DTSTART;TZID=America/Los_Angeles:20241015T183000
DTEND;TZID=America/Los_Angeles:20241015T213000
STATUS:CONFIRMED
SUMMARY:Mazzei Realty vs Bocce Ballsagna
DESCRIPTION:D:Tue Night group regular season match: Mazzei R
 ealty vs. Bocce Ballsagna
LOCATION:Ipsen Court 4
END:VEVENT
END:VCALENDAR
