BEGIN:VCALENDAR
VERSION:2.0
PRODID:-//Clayton Bocce League
METHOD:PUBLISH
BEGIN:VTIMEZONE
TZID:America/Los_Angeles
X-LIC-LOCATION:America/Los_Angeles
BEGIN:DAYLIGHT
TZOFFSETFROM:-0800
TZOFFSETTO:-0700
TZNAME:PDT
DTSTART:20070311T020000
RRULE:FREQ=YEARLY;BYMONTH=3;BYDAY=2SU
END:DAYLIGHT
BEGIN:STANDARD
TZOFFSETFROM:-0700
TZOFFSETTO:-0800
TZNAME:PST
DTSTART:20071104T020000
RRULE:FREQ=YEARLY;BYMONTH=11;BYDAY=1SU
END:STANDARD
END:VTIMEZONE
BEGIN:VEVENT
DTSTAMP:20240708T000000Z
UID:5164e187-66fb-4a4f-9580-6eae13062cc0@ClaytonBocce
DTSTART;TZID=America/Los_Angeles:20240716T183000
DTEND;TZID=America/Los_Angeles:20240716T213000
STATUS:CONFIRMED
SUMMARY:La Bocce Vita vs Mazzei Realty
DESCRIPTION:D:Tue Night group regular season match: La Bocce
  Vita vs. Mazzei Realty
LOCATION:Ipsen Court 3
END:VEVENT
BEGIN:VEVENT
DTSTAMP:20240708T000000Z
UID:49673429-714f-4b63-8dd3-fbcceabebdf0@ClaytonBocce
DTSTART;TZID=America/Los_Angeles:20240806T183000
DTEND;TZID=America/Los_Angeles:20240806T213000
STATUS:CONFIRMED
SUMMARY:La Bocce Vita vs Bocce Warriors II
DESCRIPTION:D:Tue Night group regular season match: La Bocce
  Vita vs. Bocce Warriors II
LOCATION:Ipsen Court 4
END:VEVENT
BEGIN:VEVENT
DTSTAMP:20240708T000000Z
UID:3a7d9349-de59-4582-9ca3-453d668daa54@ClaytonBocce
DTSTART;TZID=America/Los_Angeles:20240820T183000
DTEND;TZID=America/Los_Angeles:20240820T213000
STATUS:CONFIRMED
SUMMARY:La Bocce Vita vs Trina's Rollers
DESCRIPTION:D:Tue Night group regular season match: La Bocce
  Vita vs. Trina's Rollers
LOCATION:Ipsen Court 2
END:VEVENT
BEGIN:VEVENT
DTSTAMP:20240708T000000Z
UID:fcd83f40-d1e8-4c23-af52-91f92f483abf@ClaytonBocce
DTSTART;TZID=America/Los_Angeles:20240827T183000
DTEND;TZID=America/Los_Angeles:20240827T213000
STATUS:CONFIRMED
SUMMARY:La Bocce Vita vs Bocce Ballsagna
DESCRIPTION:D:Tue Night group regular season match: La Bocce
  Vita vs. Bocce Ballsagna
LOCATION:Ipsen Court 4
END:VEVENT
BEGIN:VEVENT
DTSTAMP:20240708T000000Z
UID:fe050017-246c-4fb4-a77f-c65b25f0a7ed@ClaytonBocce
DTSTART;TZID=America/Los_Angeles:20240910T183000
DTEND;TZID=America/Los_Angeles:20240910T213000
STATUS:CONFIRMED
SUMMARY:La Bocce Vita vs The Untouchaballs
DESCRIPTION:D:Tue Night group regular season match: La Bocce
  Vita vs. The Untouchaballs
LOCATION:Ipsen Court 2
END:VEVENT
BEGIN:VEVENT
DTSTAMP:20240708T000000Z
UID:e8b9f232-99b3-4c97-98d8-c164c406e7b0@ClaytonBocce
DTSTART;TZID=America/Los_Angeles:20240917T183000
DTEND;TZID=America/Los_Angeles:20240917T213000
STATUS:CONFIRMED
SUMMARY:La Bocce Vita vs Deboccery
DESCRIPTION:D:Tue Night group regular season match: La Bocce
  Vita vs. Deboccery
LOCATION:Ipsen Court 4
END:VEVENT
BEGIN:VEVENT
DTSTAMP:20240708T000000Z
UID:f50d6b42-4a6e-4bf2-8e62-1d38dc863fcf@ClaytonBocce
DTSTART;TZID=America/Los_Angeles:20240924T183000
DTEND;TZID=America/Los_Angeles:20240924T213000
STATUS:CONFIRMED
SUMMARY:La Bocce Vita vs Cannoli Rollers
DESCRIPTION:D:Tue Night group regular season match: La Bocce
  Vita vs. Cannoli Rollers
LOCATION:Ipsen Court 3
END:VEVENT
BEGIN:VEVENT
DTSTAMP:20240708T000000Z
UID:1cf46eb2-4c76-4f01-bbbc-967fa92c6932@ClaytonBocce
DTSTART;TZID=America/Los_Angeles:20241008T183000
DTEND;TZID=America/Los_Angeles:20241008T213000
STATUS:CONFIRMED
SUMMARY:La Bocce Vita vs C’Mon Man
DESCRIPTION:D:Tue Night group regular season match: La Bocce
  Vita vs. C’Mon Man
LOCATION:Ipsen Court 3
END:VEVENT
BEGIN:VEVENT
DTSTAMP:20240708T000000Z
UID:d3c11f72-ef09-454d-86d9-cad898c084ff@ClaytonBocce
DTSTART;TZID=America/Los_Angeles:20241015T183000
DTEND;TZID=America/Los_Angeles:20241015T213000
STATUS:CONFIRMED
SUMMARY:La Bocce Vita vs Fireball, Inc
DESCRIPTION:D:Tue Night group regular season match: La Bocce
  Vita vs. Fireball, Inc
LOCATION:Ipsen Court 1
END:VEVENT
END:VCALENDAR
