BEGIN:VCALENDAR
VERSION:2.0
PRODID:-//Clayton Bocce League
METHOD:PUBLISH
BEGIN:VTIMEZONE
TZID:America/Los_Angeles
X-LIC-LOCATION:America/Los_Angeles
BEGIN:DAYLIGHT
TZOFFSETFROM:-0800
TZOFFSETTO:-0700
TZNAME:PDT
DTSTART:20070311T020000
RRULE:FREQ=YEARLY;BYMONTH=3;BYDAY=2SU
END:DAYLIGHT
BEGIN:STANDARD
TZOFFSETFROM:-0700
TZOFFSETTO:-0800
TZNAME:PST
DTSTART:20071104T020000
RRULE:FREQ=YEARLY;BYMONTH=11;BYDAY=1SU
END:STANDARD
END:VTIMEZONE
BEGIN:VEVENT
DTSTAMP:20240708T000000Z
UID:e513d069-8d92-467d-8d23-6b23db49cc7d@ClaytonBocce
DTSTART;TZID=America/Los_Angeles:20240716T183000
DTEND;TZID=America/Los_Angeles:20240716T213000
STATUS:CONFIRMED
SUMMARY:C’Mon Man vs Bocce Warriors II
DESCRIPTION:D:Tue Night group regular season match: C’Mon Ma
 n vs. Bocce Warriors II
LOCATION:Ipsen Court 4
END:VEVENT
BEGIN:VEVENT
DTSTAMP:20240708T000000Z
UID:1cd02be4-aad0-4ea3-9b11-5bf2e7323ea2@ClaytonBocce
DTSTART;TZID=America/Los_Angeles:20240723T183000
DTEND;TZID=America/Los_Angeles:20240723T213000
STATUS:CONFIRMED
SUMMARY:C’Mon Man vs Trina's Rollers
DESCRIPTION:D:Tue Night group regular season match: C’Mon Ma
 n vs. Trina's Rollers
LOCATION:Ipsen Court 2
END:VEVENT
BEGIN:VEVENT
DTSTAMP:20240708T000000Z
UID:4e06cf12-9b89-4ca7-8a84-119eb60c2f43@ClaytonBocce
DTSTART;TZID=America/Los_Angeles:20240730T183000
DTEND;TZID=America/Los_Angeles:20240730T213000
STATUS:CONFIRMED
SUMMARY:C’Mon Man vs Bocce Ballsagna
DESCRIPTION:D:Tue Night group regular season match: C’Mon Ma
 n vs. Bocce Ballsagna
LOCATION:Ipsen Court 2
END:VEVENT
BEGIN:VEVENT
DTSTAMP:20240708T000000Z
UID:fe350dee-3293-4a6c-83d0-60a9c4210423@ClaytonBocce
DTSTART;TZID=America/Los_Angeles:20240813T183000
DTEND;TZID=America/Los_Angeles:20240813T213000
STATUS:CONFIRMED
SUMMARY:C’Mon Man vs Fireball, Inc
DESCRIPTION:D:Tue Night group regular season match: C’Mon Ma
 n vs. Fireball, Inc
LOCATION:Ipsen Court 2
END:VEVENT
BEGIN:VEVENT
DTSTAMP:20240708T000000Z
UID:6ca89d27-3efa-417c-8d74-78a66bba46f2@ClaytonBocce
DTSTART;TZID=America/Los_Angeles:20240820T183000
DTEND;TZID=America/Los_Angeles:20240820T213000
STATUS:CONFIRMED
SUMMARY:C’Mon Man vs The Untouchaballs
DESCRIPTION:D:Tue Night group regular season match: C’Mon Ma
 n vs. The Untouchaballs
LOCATION:Ipsen Court 3
END:VEVENT
BEGIN:VEVENT
DTSTAMP:20240708T000000Z
UID:2d2b68be-6139-4338-8921-e0c6d7929586@ClaytonBocce
DTSTART;TZID=America/Los_Angeles:20240910T183000
DTEND;TZID=America/Los_Angeles:20240910T213000
STATUS:CONFIRMED
SUMMARY:C’Mon Man vs Cannoli Rollers
DESCRIPTION:D:Tue Night group regular season match: C’Mon Ma
 n vs. Cannoli Rollers
LOCATION:Ipsen Court 4
END:VEVENT
BEGIN:VEVENT
DTSTAMP:20240708T000000Z
UID:838b1e70-dfa9-461a-bf4c-2b292206240b@ClaytonBocce
DTSTART;TZID=America/Los_Angeles:20241001T183000
DTEND;TZID=America/Los_Angeles:20241001T213000
STATUS:CONFIRMED
SUMMARY:C’Mon Man vs Mazzei Realty
DESCRIPTION:D:Tue Night group regular season match: C’Mon Ma
 n vs. Mazzei Realty
LOCATION:Ipsen Court 1
END:VEVENT
BEGIN:VEVENT
DTSTAMP:20240708T000000Z
UID:1cf46eb2-4c76-4f01-bbbc-967fa92c6932@ClaytonBocce
DTSTART;TZID=America/Los_Angeles:20241008T183000
DTEND;TZID=America/Los_Angeles:20241008T213000
STATUS:CONFIRMED
SUMMARY:C’Mon Man vs La Bocce Vita
DESCRIPTION:D:Tue Night group regular season match: C’Mon Ma
 n vs. La Bocce Vita
LOCATION:Ipsen Court 3
END:VEVENT
BEGIN:VEVENT
DTSTAMP:20240708T000000Z
UID:ac20a369-bcd8-4101-975e-f86ae3db1191@ClaytonBocce
DTSTART;TZID=America/Los_Angeles:20241015T183000
DTEND;TZID=America/Los_Angeles:20241015T213000
STATUS:CONFIRMED
SUMMARY:C’Mon Man vs Deboccery
DESCRIPTION:D:Tue Night group regular season match: C’Mon Ma
 n vs. Deboccery
LOCATION:Ipsen Court 2
END:VEVENT
END:VCALENDAR
