BEGIN:VCALENDAR
VERSION:2.0
PRODID:-//Clayton Bocce League
METHOD:PUBLISH
BEGIN:VTIMEZONE
TZID:America/Los_Angeles
X-LIC-LOCATION:America/Los_Angeles
BEGIN:DAYLIGHT
TZOFFSETFROM:-0800
TZOFFSETTO:-0700
TZNAME:PDT
DTSTART:20070311T020000
RRULE:FREQ=YEARLY;BYMONTH=3;BYDAY=2SU
END:DAYLIGHT
BEGIN:STANDARD
TZOFFSETFROM:-0700
TZOFFSETTO:-0800
TZNAME:PST
DTSTART:20071104T020000
RRULE:FREQ=YEARLY;BYMONTH=11;BYDAY=1SU
END:STANDARD
END:VTIMEZONE
BEGIN:VEVENT
DTSTAMP:20240708T000000Z
UID:e513d069-8d92-467d-8d23-6b23db49cc7d@ClaytonBocce
DTSTART;TZID=America/Los_Angeles:20240716T183000
DTEND;TZID=America/Los_Angeles:20240716T213000
STATUS:CONFIRMED
SUMMARY:Bocce Warriors II vs C’Mon Man
DESCRIPTION:D:Tue Night group regular season match: Bocce Wa
 rriors II vs. C’Mon Man
LOCATION:Ipsen Court 4
END:VEVENT
BEGIN:VEVENT
DTSTAMP:20240708T000000Z
UID:7d591f43-544a-425b-aaf6-f09ce6e06d1b@ClaytonBocce
DTSTART;TZID=America/Los_Angeles:20240730T183000
DTEND;TZID=America/Los_Angeles:20240730T213000
STATUS:CONFIRMED
SUMMARY:Bocce Warriors II vs Mazzei Realty
DESCRIPTION:D:Tue Night group regular season match: Bocce Wa
 rriors II vs. Mazzei Realty
LOCATION:Ipsen Court 3
END:VEVENT
BEGIN:VEVENT
DTSTAMP:20240708T000000Z
UID:49673429-714f-4b63-8dd3-fbcceabebdf0@ClaytonBocce
DTSTART;TZID=America/Los_Angeles:20240806T183000
DTEND;TZID=America/Los_Angeles:20240806T213000
STATUS:CONFIRMED
SUMMARY:Bocce Warriors II vs La Bocce Vita
DESCRIPTION:D:Tue Night group regular season match: Bocce Wa
 rriors II vs. La Bocce Vita
LOCATION:Ipsen Court 4
END:VEVENT
BEGIN:VEVENT
DTSTAMP:20240708T000000Z
UID:c0a9bfc3-5b88-4e5a-9ce3-da896e85b984@ClaytonBocce
DTSTART;TZID=America/Los_Angeles:20240820T183000
DTEND;TZID=America/Los_Angeles:20240820T213000
STATUS:CONFIRMED
SUMMARY:Bocce Warriors II vs Fireball, Inc
DESCRIPTION:D:Tue Night group regular season match: Bocce Wa
 rriors II vs. Fireball, Inc
LOCATION:Ipsen Court 4
END:VEVENT
BEGIN:VEVENT
DTSTAMP:20240708T000000Z
UID:8fd5ccb7-d052-4203-80e2-782a41e39610@ClaytonBocce
DTSTART;TZID=America/Los_Angeles:20240910T183000
DTEND;TZID=America/Los_Angeles:20240910T213000
STATUS:CONFIRMED
SUMMARY:Bocce Warriors II vs Bocce Ballsagna
DESCRIPTION:D:Tue Night group regular season match: Bocce Wa
 rriors II vs. Bocce Ballsagna
LOCATION:Ipsen Court 3
END:VEVENT
BEGIN:VEVENT
DTSTAMP:20240708T000000Z
UID:1307a2b6-79ee-4d16-99ac-30433124ebaa@ClaytonBocce
DTSTART;TZID=America/Los_Angeles:20240917T183000
DTEND;TZID=America/Los_Angeles:20240917T213000
STATUS:CONFIRMED
SUMMARY:Bocce Warriors II vs Cannoli Rollers
DESCRIPTION:D:Tue Night group regular season match: Bocce Wa
 rriors II vs. Cannoli Rollers
LOCATION:Ipsen Court 2
END:VEVENT
BEGIN:VEVENT
DTSTAMP:20240708T000000Z
UID:4d6619fa-cf8c-4276-8281-98fca236f09e@ClaytonBocce
DTSTART;TZID=America/Los_Angeles:20240924T183000
DTEND;TZID=America/Los_Angeles:20240924T213000
STATUS:CONFIRMED
SUMMARY:Bocce Warriors II vs Deboccery
DESCRIPTION:D:Tue Night group regular season match: Bocce Wa
 rriors II vs. Deboccery
LOCATION:Ipsen Court 1
END:VEVENT
BEGIN:VEVENT
DTSTAMP:20240708T000000Z
UID:9b6fb0be-d9f8-4e8d-be91-1ee9a6c292aa@ClaytonBocce
DTSTART;TZID=America/Los_Angeles:20241008T183000
DTEND;TZID=America/Los_Angeles:20241008T213000
STATUS:CONFIRMED
SUMMARY:Bocce Warriors II vs The Untouchaballs
DESCRIPTION:D:Tue Night group regular season match: Bocce Wa
 rriors II vs. The Untouchaballs
LOCATION:Ipsen Court 1
END:VEVENT
BEGIN:VEVENT
DTSTAMP:20240708T000000Z
UID:2e6c6a09-2481-4c32-86f5-cb91ad82e8ee@ClaytonBocce
DTSTART;TZID=America/Los_Angeles:20241015T183000
DTEND;TZID=America/Los_Angeles:20241015T213000
STATUS:CONFIRMED
SUMMARY:Bocce Warriors II vs Trina's Rollers
DESCRIPTION:D:Tue Night group regular season match: Bocce Wa
 rriors II vs. Trina's Rollers
LOCATION:Ipsen Court 3
END:VEVENT
END:VCALENDAR
