BEGIN:VCALENDAR
VERSION:2.0
PRODID:-//Clayton Bocce League
METHOD:PUBLISH
BEGIN:VTIMEZONE
TZID:America/Los_Angeles
X-LIC-LOCATION:America/Los_Angeles
BEGIN:DAYLIGHT
TZOFFSETFROM:-0800
TZOFFSETTO:-0700
TZNAME:PDT
DTSTART:20070311T020000
RRULE:FREQ=YEARLY;BYMONTH=3;BYDAY=2SU
END:DAYLIGHT
BEGIN:STANDARD
TZOFFSETFROM:-0700
TZOFFSETTO:-0800
TZNAME:PST
DTSTART:20071104T020000
RRULE:FREQ=YEARLY;BYMONTH=11;BYDAY=1SU
END:STANDARD
END:VTIMEZONE
BEGIN:VEVENT
DTSTAMP:20240708T000000Z
UID:1cd02be4-aad0-4ea3-9b11-5bf2e7323ea2@ClaytonBocce
DTSTART;TZID=America/Los_Angeles:20240723T183000
DTEND;TZID=America/Los_Angeles:20240723T213000
STATUS:CONFIRMED
SUMMARY:Trina's Rollers vs C’Mon Man
DESCRIPTION:D:Tue Night group regular season match: Trina's 
 Rollers vs. C’Mon Man
LOCATION:Ipsen Court 2
END:VEVENT
BEGIN:VEVENT
DTSTAMP:20240708T000000Z
UID:7445a859-dcf4-4b5a-9f6d-4550b2be12b9@ClaytonBocce
DTSTART;TZID=America/Los_Angeles:20240730T183000
DTEND;TZID=America/Los_Angeles:20240730T213000
STATUS:CONFIRMED
SUMMARY:Trina's Rollers vs Fireball, Inc
DESCRIPTION:D:Tue Night group regular season match: Trina's 
 Rollers vs. Fireball, Inc
LOCATION:Ipsen Court 4
END:VEVENT
BEGIN:VEVENT
DTSTAMP:20240708T000000Z
UID:75c423f4-6dff-4a86-b5c1-3e572f310842@ClaytonBocce
DTSTART;TZID=America/Los_Angeles:20240813T183000
DTEND;TZID=America/Los_Angeles:20240813T213000
STATUS:CONFIRMED
SUMMARY:Trina's Rollers vs Mazzei Realty
DESCRIPTION:D:Tue Night group regular season match: Trina's 
 Rollers vs. Mazzei Realty
LOCATION:Ipsen Court 4
END:VEVENT
BEGIN:VEVENT
DTSTAMP:20240708T000000Z
UID:3a7d9349-de59-4582-9ca3-453d668daa54@ClaytonBocce
DTSTART;TZID=America/Los_Angeles:20240820T183000
DTEND;TZID=America/Los_Angeles:20240820T213000
STATUS:CONFIRMED
SUMMARY:Trina's Rollers vs La Bocce Vita
DESCRIPTION:D:Tue Night group regular season match: Trina's 
 Rollers vs. La Bocce Vita
LOCATION:Ipsen Court 2
END:VEVENT
BEGIN:VEVENT
DTSTAMP:20240708T000000Z
UID:75074662-e22d-4f3e-b182-0e62749fc76d@ClaytonBocce
DTSTART;TZID=America/Los_Angeles:20240827T183000
DTEND;TZID=America/Los_Angeles:20240827T213000
STATUS:CONFIRMED
SUMMARY:Trina's Rollers vs Cannoli Rollers
DESCRIPTION:D:Tue Night group regular season match: Trina's 
 Rollers vs. Cannoli Rollers
LOCATION:Ipsen Court 2
END:VEVENT
BEGIN:VEVENT
DTSTAMP:20240708T000000Z
UID:69d809c7-b7c7-4077-9136-8167540b8054@ClaytonBocce
DTSTART;TZID=America/Los_Angeles:20240917T183000
DTEND;TZID=America/Los_Angeles:20240917T213000
STATUS:CONFIRMED
SUMMARY:Trina's Rollers vs Bocce Ballsagna
DESCRIPTION:D:Tue Night group regular season match: Trina's 
 Rollers vs. Bocce Ballsagna
LOCATION:Ipsen Court 1
END:VEVENT
BEGIN:VEVENT
DTSTAMP:20240708T000000Z
UID:a59c2a9a-6cd2-49bc-a86d-36d1e591763b@ClaytonBocce
DTSTART;TZID=America/Los_Angeles:20240924T183000
DTEND;TZID=America/Los_Angeles:20240924T213000
STATUS:CONFIRMED
SUMMARY:Trina's Rollers vs The Untouchaballs
DESCRIPTION:D:Tue Night group regular season match: Trina's 
 Rollers vs. The Untouchaballs
LOCATION:Ipsen Court 4
END:VEVENT
BEGIN:VEVENT
DTSTAMP:20240708T000000Z
UID:a1bd3fdf-e2c2-4d69-9ad7-bf0049621d7c@ClaytonBocce
DTSTART;TZID=America/Los_Angeles:20241001T183000
DTEND;TZID=America/Los_Angeles:20241001T213000
STATUS:CONFIRMED
SUMMARY:Trina's Rollers vs Deboccery
DESCRIPTION:D:Tue Night group regular season match: Trina's 
 Rollers vs. Deboccery
LOCATION:Ipsen Court 3
END:VEVENT
BEGIN:VEVENT
DTSTAMP:20240708T000000Z
UID:2e6c6a09-2481-4c32-86f5-cb91ad82e8ee@ClaytonBocce
DTSTART;TZID=America/Los_Angeles:20241015T183000
DTEND;TZID=America/Los_Angeles:20241015T213000
STATUS:CONFIRMED
SUMMARY:Trina's Rollers vs Bocce Warriors II
DESCRIPTION:D:Tue Night group regular season match: Trina's 
 Rollers vs. Bocce Warriors II
LOCATION:Ipsen Court 3
END:VEVENT
END:VCALENDAR
