BEGIN:VCALENDAR
VERSION:2.0
PRODID:-//Clayton Bocce League
METHOD:PUBLISH
BEGIN:VTIMEZONE
TZID:America/Los_Angeles
X-LIC-LOCATION:America/Los_Angeles
BEGIN:DAYLIGHT
TZOFFSETFROM:-0800
TZOFFSETTO:-0700
TZNAME:PDT
DTSTART:20070311T020000
RRULE:FREQ=YEARLY;BYMONTH=3;BYDAY=2SU
END:DAYLIGHT
BEGIN:STANDARD
TZOFFSETFROM:-0700
TZOFFSETTO:-0800
TZNAME:PST
DTSTART:20071104T020000
RRULE:FREQ=YEARLY;BYMONTH=11;BYDAY=1SU
END:STANDARD
END:VTIMEZONE
BEGIN:VEVENT
DTSTAMP:20240708T000000Z
UID:fe5e33ce-c810-49e6-84e5-f1113c76be93@ClaytonBocce
DTSTART;TZID=America/Los_Angeles:20240723T183000
DTEND;TZID=America/Los_Angeles:20240723T213000
STATUS:CONFIRMED
SUMMARY:Deboccery vs Cannoli Rollers
DESCRIPTION:D:Tue Night group regular season match: Deboccer
 y vs. Cannoli Rollers
LOCATION:Ipsen Court 3
END:VEVENT
BEGIN:VEVENT
DTSTAMP:20240708T000000Z
UID:9ab7fb8e-924a-4ea1-9902-f0d790a6de86@ClaytonBocce
DTSTART;TZID=America/Los_Angeles:20240806T183000
DTEND;TZID=America/Los_Angeles:20240806T213000
STATUS:CONFIRMED
SUMMARY:Deboccery vs The Untouchaballs
DESCRIPTION:D:Tue Night group regular season match: Deboccer
 y vs. The Untouchaballs
LOCATION:Ipsen Court 2
END:VEVENT
BEGIN:VEVENT
DTSTAMP:20240708T000000Z
UID:06ede126-eee7-4560-be67-dbdeead6b77b@ClaytonBocce
DTSTART;TZID=America/Los_Angeles:20240827T183000
DTEND;TZID=America/Los_Angeles:20240827T213000
STATUS:CONFIRMED
SUMMARY:Deboccery vs Mazzei Realty
DESCRIPTION:D:Tue Night group regular season match: Deboccer
 y vs. Mazzei Realty
LOCATION:Ipsen Court 3
END:VEVENT
BEGIN:VEVENT
DTSTAMP:20240708T000000Z
UID:2b0e37f7-5e5d-4874-b335-1411bff003e1@ClaytonBocce
DTSTART;TZID=America/Los_Angeles:20240910T183000
DTEND;TZID=America/Los_Angeles:20240910T213000
STATUS:CONFIRMED
SUMMARY:Deboccery vs Fireball, Inc
DESCRIPTION:D:Tue Night group regular season match: Deboccer
 y vs. Fireball, Inc
LOCATION:Ipsen Court 1
END:VEVENT
BEGIN:VEVENT
DTSTAMP:20240708T000000Z
UID:e8b9f232-99b3-4c97-98d8-c164c406e7b0@ClaytonBocce
DTSTART;TZID=America/Los_Angeles:20240917T183000
DTEND;TZID=America/Los_Angeles:20240917T213000
STATUS:CONFIRMED
SUMMARY:Deboccery vs La Bocce Vita
DESCRIPTION:D:Tue Night group regular season match: Deboccer
 y vs. La Bocce Vita
LOCATION:Ipsen Court 4
END:VEVENT
BEGIN:VEVENT
DTSTAMP:20240708T000000Z
UID:4d6619fa-cf8c-4276-8281-98fca236f09e@ClaytonBocce
DTSTART;TZID=America/Los_Angeles:20240924T183000
DTEND;TZID=America/Los_Angeles:20240924T213000
STATUS:CONFIRMED
SUMMARY:Deboccery vs Bocce Warriors II
DESCRIPTION:D:Tue Night group regular season match: Deboccer
 y vs. Bocce Warriors II
LOCATION:Ipsen Court 1
END:VEVENT
BEGIN:VEVENT
DTSTAMP:20240708T000000Z
UID:a1bd3fdf-e2c2-4d69-9ad7-bf0049621d7c@ClaytonBocce
DTSTART;TZID=America/Los_Angeles:20241001T183000
DTEND;TZID=America/Los_Angeles:20241001T213000
STATUS:CONFIRMED
SUMMARY:Deboccery vs Trina's Rollers
DESCRIPTION:D:Tue Night group regular season match: Deboccer
 y vs. Trina's Rollers
LOCATION:Ipsen Court 3
END:VEVENT
BEGIN:VEVENT
DTSTAMP:20240708T000000Z
UID:e4045131-c1c9-45a2-babd-37ffaa3781ee@ClaytonBocce
DTSTART;TZID=America/Los_Angeles:20241008T183000
DTEND;TZID=America/Los_Angeles:20241008T213000
STATUS:CONFIRMED
SUMMARY:Deboccery vs Bocce Ballsagna
DESCRIPTION:D:Tue Night group regular season match: Deboccer
 y vs. Bocce Ballsagna
LOCATION:Ipsen Court 4
END:VEVENT
BEGIN:VEVENT
DTSTAMP:20240708T000000Z
UID:ac20a369-bcd8-4101-975e-f86ae3db1191@ClaytonBocce
DTSTART;TZID=America/Los_Angeles:20241015T183000
DTEND;TZID=America/Los_Angeles:20241015T213000
STATUS:CONFIRMED
SUMMARY:Deboccery vs C’Mon Man
DESCRIPTION:D:Tue Night group regular season match: Deboccer
 y vs. C’Mon Man
LOCATION:Ipsen Court 2
END:VEVENT
END:VCALENDAR
