BEGIN:VCALENDAR
VERSION:2.0
PRODID:-//Clayton Bocce League
METHOD:PUBLISH
BEGIN:VTIMEZONE
TZID:America/Los_Angeles
X-LIC-LOCATION:America/Los_Angeles
BEGIN:DAYLIGHT
TZOFFSETFROM:-0800
TZOFFSETTO:-0700
TZNAME:PDT
DTSTART:20070311T020000
RRULE:FREQ=YEARLY;BYMONTH=3;BYDAY=2SU
END:DAYLIGHT
BEGIN:STANDARD
TZOFFSETFROM:-0700
TZOFFSETTO:-0800
TZNAME:PST
DTSTART:20071104T020000
RRULE:FREQ=YEARLY;BYMONTH=11;BYDAY=1SU
END:STANDARD
END:VTIMEZONE
BEGIN:VEVENT
DTSTAMP:20240708T000000Z
UID:fe5e33ce-c810-49e6-84e5-f1113c76be93@ClaytonBocce
DTSTART;TZID=America/Los_Angeles:20240723T183000
DTEND;TZID=America/Los_Angeles:20240723T213000
STATUS:CONFIRMED
SUMMARY:Cannoli Rollers vs Deboccery
DESCRIPTION:D:Tue Night group regular season match: Cannoli 
 Rollers vs. Deboccery
LOCATION:Ipsen Court 3
END:VEVENT
BEGIN:VEVENT
DTSTAMP:20240708T000000Z
UID:ebcbc16e-a53e-43a3-acc1-4745d42b1906@ClaytonBocce
DTSTART;TZID=America/Los_Angeles:20240806T183000
DTEND;TZID=America/Los_Angeles:20240806T213000
STATUS:CONFIRMED
SUMMARY:Cannoli Rollers vs Bocce Ballsagna
DESCRIPTION:D:Tue Night group regular season match: Cannoli 
 Rollers vs. Bocce Ballsagna
LOCATION:Ipsen Court 3
END:VEVENT
BEGIN:VEVENT
DTSTAMP:20240708T000000Z
UID:774c7e1e-fc16-4e22-92a1-4a5f2f4d206a@ClaytonBocce
DTSTART;TZID=America/Los_Angeles:20240813T183000
DTEND;TZID=America/Los_Angeles:20240813T213000
STATUS:CONFIRMED
SUMMARY:Cannoli Rollers vs The Untouchaballs
DESCRIPTION:D:Tue Night group regular season match: Cannoli 
 Rollers vs. The Untouchaballs
LOCATION:Ipsen Court 3
END:VEVENT
BEGIN:VEVENT
DTSTAMP:20240708T000000Z
UID:75074662-e22d-4f3e-b182-0e62749fc76d@ClaytonBocce
DTSTART;TZID=America/Los_Angeles:20240827T183000
DTEND;TZID=America/Los_Angeles:20240827T213000
STATUS:CONFIRMED
SUMMARY:Cannoli Rollers vs Trina's Rollers
DESCRIPTION:D:Tue Night group regular season match: Cannoli 
 Rollers vs. Trina's Rollers
LOCATION:Ipsen Court 2
END:VEVENT
BEGIN:VEVENT
DTSTAMP:20240708T000000Z
UID:2d2b68be-6139-4338-8921-e0c6d7929586@ClaytonBocce
DTSTART;TZID=America/Los_Angeles:20240910T183000
DTEND;TZID=America/Los_Angeles:20240910T213000
STATUS:CONFIRMED
SUMMARY:Cannoli Rollers vs C’Mon Man
DESCRIPTION:D:Tue Night group regular season match: Cannoli 
 Rollers vs. C’Mon Man
LOCATION:Ipsen Court 4
END:VEVENT
BEGIN:VEVENT
DTSTAMP:20240708T000000Z
UID:1307a2b6-79ee-4d16-99ac-30433124ebaa@ClaytonBocce
DTSTART;TZID=America/Los_Angeles:20240917T183000
DTEND;TZID=America/Los_Angeles:20240917T213000
STATUS:CONFIRMED
SUMMARY:Cannoli Rollers vs Bocce Warriors II
DESCRIPTION:D:Tue Night group regular season match: Cannoli 
 Rollers vs. Bocce Warriors II
LOCATION:Ipsen Court 2
END:VEVENT
BEGIN:VEVENT
DTSTAMP:20240708T000000Z
UID:f50d6b42-4a6e-4bf2-8e62-1d38dc863fcf@ClaytonBocce
DTSTART;TZID=America/Los_Angeles:20240924T183000
DTEND;TZID=America/Los_Angeles:20240924T213000
STATUS:CONFIRMED
SUMMARY:Cannoli Rollers vs La Bocce Vita
DESCRIPTION:D:Tue Night group regular season match: Cannoli 
 Rollers vs. La Bocce Vita
LOCATION:Ipsen Court 3
END:VEVENT
BEGIN:VEVENT
DTSTAMP:20240708T000000Z
UID:10b7de5c-df53-4eb9-bf15-61b58ea4a943@ClaytonBocce
DTSTART;TZID=America/Los_Angeles:20241001T183000
DTEND;TZID=America/Los_Angeles:20241001T213000
STATUS:CONFIRMED
SUMMARY:Cannoli Rollers vs Fireball, Inc
DESCRIPTION:D:Tue Night group regular season match: Cannoli 
 Rollers vs. Fireball, Inc
LOCATION:Ipsen Court 4
END:VEVENT
BEGIN:VEVENT
DTSTAMP:20240708T000000Z
UID:0ea239af-1ab8-4d88-99bf-41399b316094@ClaytonBocce
DTSTART;TZID=America/Los_Angeles:20241008T183000
DTEND;TZID=America/Los_Angeles:20241008T213000
STATUS:CONFIRMED
SUMMARY:Cannoli Rollers vs Mazzei Realty
DESCRIPTION:D:Tue Night group regular season match: Cannoli 
 Rollers vs. Mazzei Realty
LOCATION:Ipsen Court 2
END:VEVENT
END:VCALENDAR
