BEGIN:VCALENDAR
VERSION:2.0
PRODID:-//Clayton Bocce League
METHOD:PUBLISH
BEGIN:VTIMEZONE
TZID:America/Los_Angeles
X-LIC-LOCATION:America/Los_Angeles
BEGIN:DAYLIGHT
TZOFFSETFROM:-0800
TZOFFSETTO:-0700
TZNAME:PDT
DTSTART:20070311T020000
RRULE:FREQ=YEARLY;BYMONTH=3;BYDAY=2SU
END:DAYLIGHT
BEGIN:STANDARD
TZOFFSETFROM:-0700
TZOFFSETTO:-0800
TZNAME:PST
DTSTART:20071104T020000
RRULE:FREQ=YEARLY;BYMONTH=11;BYDAY=1SU
END:STANDARD
END:VTIMEZONE
BEGIN:VEVENT
DTSTAMP:20240708T000000Z
UID:8ce996a0-d1d8-465b-906e-ff9ded1fc8ef@ClaytonBocce
DTSTART;TZID=America/Los_Angeles:20240723T183000
DTEND;TZID=America/Los_Angeles:20240723T213000
STATUS:CONFIRMED
SUMMARY:The Untouchaballs vs Fireball, Inc
DESCRIPTION:D:Tue Night group regular season match: The Unto
 uchaballs vs. Fireball, Inc
LOCATION:Ipsen Court 4
END:VEVENT
BEGIN:VEVENT
DTSTAMP:20240708T000000Z
UID:9ab7fb8e-924a-4ea1-9902-f0d790a6de86@ClaytonBocce
DTSTART;TZID=America/Los_Angeles:20240806T183000
DTEND;TZID=America/Los_Angeles:20240806T213000
STATUS:CONFIRMED
SUMMARY:The Untouchaballs vs Deboccery
DESCRIPTION:D:Tue Night group regular season match: The Unto
 uchaballs vs. Deboccery
LOCATION:Ipsen Court 2
END:VEVENT
BEGIN:VEVENT
DTSTAMP:20240708T000000Z
UID:774c7e1e-fc16-4e22-92a1-4a5f2f4d206a@ClaytonBocce
DTSTART;TZID=America/Los_Angeles:20240813T183000
DTEND;TZID=America/Los_Angeles:20240813T213000
STATUS:CONFIRMED
SUMMARY:The Untouchaballs vs Cannoli Rollers
DESCRIPTION:D:Tue Night group regular season match: The Unto
 uchaballs vs. Cannoli Rollers
LOCATION:Ipsen Court 3
END:VEVENT
BEGIN:VEVENT
DTSTAMP:20240708T000000Z
UID:6ca89d27-3efa-417c-8d74-78a66bba46f2@ClaytonBocce
DTSTART;TZID=America/Los_Angeles:20240820T183000
DTEND;TZID=America/Los_Angeles:20240820T213000
STATUS:CONFIRMED
SUMMARY:The Untouchaballs vs C’Mon Man
DESCRIPTION:D:Tue Night group regular season match: The Unto
 uchaballs vs. C’Mon Man
LOCATION:Ipsen Court 3
END:VEVENT
BEGIN:VEVENT
DTSTAMP:20240708T000000Z
UID:fe050017-246c-4fb4-a77f-c65b25f0a7ed@ClaytonBocce
DTSTART;TZID=America/Los_Angeles:20240910T183000
DTEND;TZID=America/Los_Angeles:20240910T213000
STATUS:CONFIRMED
SUMMARY:The Untouchaballs vs La Bocce Vita
DESCRIPTION:D:Tue Night group regular season match: The Unto
 uchaballs vs. La Bocce Vita
LOCATION:Ipsen Court 2
END:VEVENT
BEGIN:VEVENT
DTSTAMP:20240708T000000Z
UID:3b3fb57f-8ecf-4ab5-b314-e118f15d712e@ClaytonBocce
DTSTART;TZID=America/Los_Angeles:20240917T183000
DTEND;TZID=America/Los_Angeles:20240917T213000
STATUS:CONFIRMED
SUMMARY:The Untouchaballs vs Mazzei Realty
DESCRIPTION:D:Tue Night group regular season match: The Unto
 uchaballs vs. Mazzei Realty
LOCATION:Ipsen Court 3
END:VEVENT
BEGIN:VEVENT
DTSTAMP:20240708T000000Z
UID:a59c2a9a-6cd2-49bc-a86d-36d1e591763b@ClaytonBocce
DTSTART;TZID=America/Los_Angeles:20240924T183000
DTEND;TZID=America/Los_Angeles:20240924T213000
STATUS:CONFIRMED
SUMMARY:The Untouchaballs vs Trina's Rollers
DESCRIPTION:D:Tue Night group regular season match: The Unto
 uchaballs vs. Trina's Rollers
LOCATION:Ipsen Court 4
END:VEVENT
BEGIN:VEVENT
DTSTAMP:20240708T000000Z
UID:3211a9aa-aeaf-4c24-8fa8-f097ee8da937@ClaytonBocce
DTSTART;TZID=America/Los_Angeles:20241001T183000
DTEND;TZID=America/Los_Angeles:20241001T213000
STATUS:CONFIRMED
SUMMARY:The Untouchaballs vs Bocce Ballsagna
DESCRIPTION:D:Tue Night group regular season match: The Unto
 uchaballs vs. Bocce Ballsagna
LOCATION:Ipsen Court 2
END:VEVENT
BEGIN:VEVENT
DTSTAMP:20240708T000000Z
UID:9b6fb0be-d9f8-4e8d-be91-1ee9a6c292aa@ClaytonBocce
DTSTART;TZID=America/Los_Angeles:20241008T183000
DTEND;TZID=America/Los_Angeles:20241008T213000
STATUS:CONFIRMED
SUMMARY:The Untouchaballs vs Bocce Warriors II
DESCRIPTION:D:Tue Night group regular season match: The Unto
 uchaballs vs. Bocce Warriors II
LOCATION:Ipsen Court 1
END:VEVENT
END:VCALENDAR
