BEGIN:VCALENDAR
VERSION:2.0
PRODID:-//Clayton Bocce League
METHOD:PUBLISH
BEGIN:VTIMEZONE
TZID:America/Los_Angeles
X-LIC-LOCATION:America/Los_Angeles
BEGIN:DAYLIGHT
TZOFFSETFROM:-0800
TZOFFSETTO:-0700
TZNAME:PDT
DTSTART:20070311T020000
RRULE:FREQ=YEARLY;BYMONTH=3;BYDAY=2SU
END:DAYLIGHT
BEGIN:STANDARD
TZOFFSETFROM:-0700
TZOFFSETTO:-0800
TZNAME:PST
DTSTART:20071104T020000
RRULE:FREQ=YEARLY;BYMONTH=11;BYDAY=1SU
END:STANDARD
END:VTIMEZONE
BEGIN:VEVENT
DTSTAMP:20240708T000000Z
UID:0a0b87e1-9259-4095-bade-301d44f41396@ClaytonBocce
DTSTART;TZID=America/Los_Angeles:20240718T183000
DTEND;TZID=America/Los_Angeles:20240718T213000
STATUS:CONFIRMED
SUMMARY:Matt Mazzei Chevrolet CDJR vs Boccelism
DESCRIPTION:F:Thu Night group regular season match: Matt Maz
 zei Chevrolet CDJR vs. Boccelism
LOCATION:Ipsen Court 3
END:VEVENT
BEGIN:VEVENT
DTSTAMP:20240708T000000Z
UID:205a477d-9976-4fcc-8b96-9e087c67069b@ClaytonBocce
DTSTART;TZID=America/Los_Angeles:20240801T183000
DTEND;TZID=America/Los_Angeles:20240801T213000
STATUS:CONFIRMED
SUMMARY:Matt Mazzei Chevrolet CDJR vs Bubbles and Brews
DESCRIPTION:F:Thu Night group regular season match: Matt Maz
 zei Chevrolet CDJR vs. Bubbles and Brews
LOCATION:Ipsen Court 3
END:VEVENT
BEGIN:VEVENT
DTSTAMP:20240708T000000Z
UID:4da18606-15dc-48df-9b17-3c744dfb303e@ClaytonBocce
DTSTART;TZID=America/Los_Angeles:20240815T183000
DTEND;TZID=America/Los_Angeles:20240815T213000
STATUS:CONFIRMED
SUMMARY:Matt Mazzei Chevrolet CDJR vs Pallino Attackers
DESCRIPTION:F:Thu Night group regular season match: Matt Maz
 zei Chevrolet CDJR vs. Pallino Attackers
LOCATION:Ipsen Court 4
END:VEVENT
BEGIN:VEVENT
DTSTAMP:20240708T000000Z
UID:167583f3-4936-435e-80fc-de81fcb760ae@ClaytonBocce
DTSTART;TZID=America/Los_Angeles:20240829T183000
DTEND;TZID=America/Los_Angeles:20240829T213000
STATUS:CONFIRMED
SUMMARY:Matt Mazzei Chevrolet CDJR vs Funky Cold Pallinas
DESCRIPTION:F:Thu Night group regular season match: Matt Maz
 zei Chevrolet CDJR vs. Funky Cold Pallinas
LOCATION:Ipsen Court 3
END:VEVENT
BEGIN:VEVENT
DTSTAMP:20240708T000000Z
UID:6aeb2ba7-97de-4808-afc1-811a8bcfb59f@ClaytonBocce
DTSTART;TZID=America/Los_Angeles:20240919T183000
DTEND;TZID=America/Los_Angeles:20240919T213000
STATUS:CONFIRMED
SUMMARY:Matt Mazzei Chevrolet CDJR vs Red Stripes
DESCRIPTION:F:Thu Night group regular season match: Matt Maz
 zei Chevrolet CDJR vs. Red Stripes
LOCATION:Ipsen Court 3
END:VEVENT
BEGIN:VEVENT
DTSTAMP:20240708T000000Z
UID:e1f4bbc6-4dde-498d-b03b-a38e2a7750d9@ClaytonBocce
DTSTART;TZID=America/Los_Angeles:20240926T183000
DTEND;TZID=America/Los_Angeles:20240926T213000
STATUS:CONFIRMED
SUMMARY:Matt Mazzei Chevrolet CDJR vs Killer BBBs
DESCRIPTION:F:Thu Night group regular season match: Matt Maz
 zei Chevrolet CDJR vs. Killer BBBs
LOCATION:Ipsen Court 2
END:VEVENT
BEGIN:VEVENT
DTSTAMP:20240708T000000Z
UID:1ebd0b6b-d24b-4513-b25c-06a6c0d3b87a@ClaytonBocce
DTSTART;TZID=America/Los_Angeles:20241003T183000
DTEND;TZID=America/Los_Angeles:20241003T213000
STATUS:CONFIRMED
SUMMARY:Matt Mazzei Chevrolet CDJR vs Don’t Touch My Balls
DESCRIPTION:F:Thu Night group regular season match: Matt Maz
 zei Chevrolet CDJR vs. Don’t Touch My Balls
LOCATION:Ipsen Court 1
END:VEVENT
BEGIN:VEVENT
DTSTAMP:20240708T000000Z
UID:271f154f-6f9e-463e-bf26-ff27d497ccb1@ClaytonBocce
DTSTART;TZID=America/Los_Angeles:20241010T183000
DTEND;TZID=America/Los_Angeles:20241010T213000
STATUS:CONFIRMED
SUMMARY:Matt Mazzei Chevrolet CDJR vs Family Matters
DESCRIPTION:F:Thu Night group regular season match: Matt Maz
 zei Chevrolet CDJR vs. Family Matters
LOCATION:Ipsen Court 2
END:VEVENT
BEGIN:VEVENT
DTSTAMP:20240708T000000Z
UID:440e167b-bc3d-4a8c-bc00-33bd8113881c@ClaytonBocce
DTSTART;TZID=America/Los_Angeles:20241017T173000
DTEND;TZID=America/Los_Angeles:20241017T203000
STATUS:CONFIRMED
SUMMARY:Matt Mazzei Chevrolet CDJR vs 5 O’Clock Somewhere
DESCRIPTION:F:Thu Night group regular season match: Matt Maz
 zei Chevrolet CDJR vs. 5 O’Clock Somewhere
LOCATION:Ipsen Court 4
END:VEVENT
END:VCALENDAR
