BEGIN:VCALENDAR
VERSION:2.0
PRODID:-//Clayton Bocce League
METHOD:PUBLISH
BEGIN:VTIMEZONE
TZID:America/Los_Angeles
X-LIC-LOCATION:America/Los_Angeles
BEGIN:DAYLIGHT
TZOFFSETFROM:-0800
TZOFFSETTO:-0700
TZNAME:PDT
DTSTART:20070311T020000
RRULE:FREQ=YEARLY;BYMONTH=3;BYDAY=2SU
END:DAYLIGHT
BEGIN:STANDARD
TZOFFSETFROM:-0700
TZOFFSETTO:-0800
TZNAME:PST
DTSTART:20071104T020000
RRULE:FREQ=YEARLY;BYMONTH=11;BYDAY=1SU
END:STANDARD
END:VTIMEZONE
BEGIN:VEVENT
DTSTAMP:20240708T000000Z
UID:0a0b87e1-9259-4095-bade-301d44f41396@ClaytonBocce
DTSTART;TZID=America/Los_Angeles:20240718T183000
DTEND;TZID=America/Los_Angeles:20240718T213000
STATUS:CONFIRMED
SUMMARY:Boccelism vs Matt Mazzei Chevrolet CDJR
DESCRIPTION:F:Thu Night group regular season match: Boccelis
 m vs. Matt Mazzei Chevrolet CDJR
LOCATION:Ipsen Court 3
END:VEVENT
BEGIN:VEVENT
DTSTAMP:20240708T000000Z
UID:ec2178a2-c61f-4560-b662-32cf1ebd5e5b@ClaytonBocce
DTSTART;TZID=America/Los_Angeles:20240808T183000
DTEND;TZID=America/Los_Angeles:20240808T213000
STATUS:CONFIRMED
SUMMARY:Boccelism vs Bubbles and Brews
DESCRIPTION:F:Thu Night group regular season match: Boccelis
 m vs. Bubbles and Brews
LOCATION:Ipsen Court 4
END:VEVENT
BEGIN:VEVENT
DTSTAMP:20240708T000000Z
UID:c6c89434-3d91-438c-8fc1-8a1c433cc1da@ClaytonBocce
DTSTART;TZID=America/Los_Angeles:20240822T183000
DTEND;TZID=America/Los_Angeles:20240822T213000
STATUS:CONFIRMED
SUMMARY:Boccelism vs Pallino Attackers
DESCRIPTION:F:Thu Night group regular season match: Boccelis
 m vs. Pallino Attackers
LOCATION:Ipsen Court 2
END:VEVENT
BEGIN:VEVENT
DTSTAMP:20240708T000000Z
UID:996045be-969d-40b9-adbd-fb0fe3ec4a69@ClaytonBocce
DTSTART;TZID=America/Los_Angeles:20240829T183000
DTEND;TZID=America/Los_Angeles:20240829T213000
STATUS:CONFIRMED
SUMMARY:Boccelism vs 5 O’Clock Somewhere
DESCRIPTION:F:Thu Night group regular season match: Boccelis
 m vs. 5 O’Clock Somewhere
LOCATION:Ipsen Court 4
END:VEVENT
BEGIN:VEVENT
DTSTAMP:20240708T000000Z
UID:450cce44-3814-45c8-b7b1-88e6b8e66df6@ClaytonBocce
DTSTART;TZID=America/Los_Angeles:20240912T183000
DTEND;TZID=America/Los_Angeles:20240912T213000
STATUS:CONFIRMED
SUMMARY:Boccelism vs Red Stripes
DESCRIPTION:F:Thu Night group regular season match: Boccelis
 m vs. Red Stripes
LOCATION:Ipsen Court 2
END:VEVENT
BEGIN:VEVENT
DTSTAMP:20240708T000000Z
UID:c1fde371-08c3-415c-b35d-f04e1881ef83@ClaytonBocce
DTSTART;TZID=America/Los_Angeles:20240919T183000
DTEND;TZID=America/Los_Angeles:20240919T213000
STATUS:CONFIRMED
SUMMARY:Boccelism vs Funky Cold Pallinas
DESCRIPTION:F:Thu Night group regular season match: Boccelis
 m vs. Funky Cold Pallinas
LOCATION:Ipsen Court 4
END:VEVENT
BEGIN:VEVENT
DTSTAMP:20240708T000000Z
UID:b6d030c0-dbb5-46dc-8927-c8637508ac8b@ClaytonBocce
DTSTART;TZID=America/Los_Angeles:20240926T183000
DTEND;TZID=America/Los_Angeles:20240926T213000
STATUS:CONFIRMED
SUMMARY:Boccelism vs Family Matters
DESCRIPTION:F:Thu Night group regular season match: Boccelis
 m vs. Family Matters
LOCATION:Ipsen Court 3
END:VEVENT
BEGIN:VEVENT
DTSTAMP:20240708T000000Z
UID:55e69b7c-37ef-45c0-a004-9dcb36f95611@ClaytonBocce
DTSTART;TZID=America/Los_Angeles:20241010T183000
DTEND;TZID=America/Los_Angeles:20241010T213000
STATUS:CONFIRMED
SUMMARY:Boccelism vs Don’t Touch My Balls
DESCRIPTION:F:Thu Night group regular season match: Boccelis
 m vs. Don’t Touch My Balls
LOCATION:Ipsen Court 3
END:VEVENT
BEGIN:VEVENT
DTSTAMP:20240708T000000Z
UID:d4aa54d1-ee69-4834-80e8-f48ea05ec365@ClaytonBocce
DTSTART;TZID=America/Los_Angeles:20241017T173000
DTEND;TZID=America/Los_Angeles:20241017T203000
STATUS:CONFIRMED
SUMMARY:Boccelism vs Killer BBBs
DESCRIPTION:F:Thu Night group regular season match: Boccelis
 m vs. Killer BBBs
LOCATION:Ipsen Court 1
END:VEVENT
END:VCALENDAR
