BEGIN:VCALENDAR
VERSION:2.0
PRODID:-//Clayton Bocce League
METHOD:PUBLISH
BEGIN:VTIMEZONE
TZID:America/Los_Angeles
X-LIC-LOCATION:America/Los_Angeles
BEGIN:DAYLIGHT
TZOFFSETFROM:-0800
TZOFFSETTO:-0700
TZNAME:PDT
DTSTART:20070311T020000
RRULE:FREQ=YEARLY;BYMONTH=3;BYDAY=2SU
END:DAYLIGHT
BEGIN:STANDARD
TZOFFSETFROM:-0700
TZOFFSETTO:-0800
TZNAME:PST
DTSTART:20071104T020000
RRULE:FREQ=YEARLY;BYMONTH=11;BYDAY=1SU
END:STANDARD
END:VTIMEZONE
BEGIN:VEVENT
DTSTAMP:20240708T000000Z
UID:4dd3b31b-7e73-452e-bcbb-252b24dfce1a@ClaytonBocce
DTSTART;TZID=America/Los_Angeles:20240718T183000
DTEND;TZID=America/Los_Angeles:20240718T213000
STATUS:CONFIRMED
SUMMARY:Bubbles and Brews vs Don’t Touch My Balls
DESCRIPTION:F:Thu Night group regular season match: Bubbles 
 and Brews vs. Don’t Touch My Balls
LOCATION:Ipsen Court 4
END:VEVENT
BEGIN:VEVENT
DTSTAMP:20240708T000000Z
UID:205a477d-9976-4fcc-8b96-9e087c67069b@ClaytonBocce
DTSTART;TZID=America/Los_Angeles:20240801T183000
DTEND;TZID=America/Los_Angeles:20240801T213000
STATUS:CONFIRMED
SUMMARY:Bubbles and Brews vs Matt Mazzei Chevrolet CDJR
DESCRIPTION:F:Thu Night group regular season match: Bubbles 
 and Brews vs. Matt Mazzei Chevrolet CDJR
LOCATION:Ipsen Court 3
END:VEVENT
BEGIN:VEVENT
DTSTAMP:20240708T000000Z
UID:ec2178a2-c61f-4560-b662-32cf1ebd5e5b@ClaytonBocce
DTSTART;TZID=America/Los_Angeles:20240808T183000
DTEND;TZID=America/Los_Angeles:20240808T213000
STATUS:CONFIRMED
SUMMARY:Bubbles and Brews vs Boccelism
DESCRIPTION:F:Thu Night group regular season match: Bubbles 
 and Brews vs. Boccelism
LOCATION:Ipsen Court 4
END:VEVENT
BEGIN:VEVENT
DTSTAMP:20240708T000000Z
UID:e3f04c4b-123c-436a-b87f-53e1aaf00c60@ClaytonBocce
DTSTART;TZID=America/Los_Angeles:20240822T183000
DTEND;TZID=America/Los_Angeles:20240822T213000
STATUS:CONFIRMED
SUMMARY:Bubbles and Brews vs Killer BBBs
DESCRIPTION:F:Thu Night group regular season match: Bubbles 
 and Brews vs. Killer BBBs
LOCATION:Ipsen Court 4
END:VEVENT
BEGIN:VEVENT
DTSTAMP:20240708T000000Z
UID:1e5da7f4-d027-4f95-8dee-1d83969284f5@ClaytonBocce
DTSTART;TZID=America/Los_Angeles:20240912T183000
DTEND;TZID=America/Los_Angeles:20240912T213000
STATUS:CONFIRMED
SUMMARY:Bubbles and Brews vs 5 O’Clock Somewhere
DESCRIPTION:F:Thu Night group regular season match: Bubbles 
 and Brews vs. 5 O’Clock Somewhere
LOCATION:Ipsen Court 3
END:VEVENT
BEGIN:VEVENT
DTSTAMP:20240708T000000Z
UID:dfb4949e-f57a-41d6-a521-4a74325c6b2f@ClaytonBocce
DTSTART;TZID=America/Los_Angeles:20240919T183000
DTEND;TZID=America/Los_Angeles:20240919T213000
STATUS:CONFIRMED
SUMMARY:Bubbles and Brews vs Family Matters
DESCRIPTION:F:Thu Night group regular season match: Bubbles 
 and Brews vs. Family Matters
LOCATION:Ipsen Court 2
END:VEVENT
BEGIN:VEVENT
DTSTAMP:20240708T000000Z
UID:99346849-2645-4d26-9600-1d3bf74b28e1@ClaytonBocce
DTSTART;TZID=America/Los_Angeles:20240926T183000
DTEND;TZID=America/Los_Angeles:20240926T213000
STATUS:CONFIRMED
SUMMARY:Bubbles and Brews vs Funky Cold Pallinas
DESCRIPTION:F:Thu Night group regular season match: Bubbles 
 and Brews vs. Funky Cold Pallinas
LOCATION:Ipsen Court 1
END:VEVENT
BEGIN:VEVENT
DTSTAMP:20240708T000000Z
UID:e4058e14-d5c7-466b-9d61-162c826f0f27@ClaytonBocce
DTSTART;TZID=America/Los_Angeles:20241010T183000
DTEND;TZID=America/Los_Angeles:20241010T213000
STATUS:CONFIRMED
SUMMARY:Bubbles and Brews vs Red Stripes
DESCRIPTION:F:Thu Night group regular season match: Bubbles 
 and Brews vs. Red Stripes
LOCATION:Ipsen Court 1
END:VEVENT
BEGIN:VEVENT
DTSTAMP:20240708T000000Z
UID:b385f329-6d77-4e73-8f2a-e5eb636e490b@ClaytonBocce
DTSTART;TZID=America/Los_Angeles:20241017T173000
DTEND;TZID=America/Los_Angeles:20241017T203000
STATUS:CONFIRMED
SUMMARY:Bubbles and Brews vs Pallino Attackers
DESCRIPTION:F:Thu Night group regular season match: Bubbles 
 and Brews vs. Pallino Attackers
LOCATION:Ipsen Court 3
END:VEVENT
END:VCALENDAR
